BEGIN:VCALENDAR
VERSION:2.0
PRODID:-//Redbud Ranch RV Resort - ECPv6.15.20//NONSGML v1.0//EN
CALSCALE:GREGORIAN
METHOD:PUBLISH
X-WR-CALNAME:Redbud Ranch RV Resort
X-ORIGINAL-URL:https://www.redbudrvresort.com
X-WR-CALDESC:Events for Redbud Ranch RV Resort
REFRESH-INTERVAL;VALUE=DURATION:PT1H
X-Robots-Tag:noindex
X-PUBLISHED-TTL:PT1H
BEGIN:VTIMEZONE
TZID:America/North_Dakota/Center
BEGIN:DAYLIGHT
TZOFFSETFROM:-0600
TZOFFSETTO:-0500
TZNAME:CDT
DTSTART:20250309T080000
END:DAYLIGHT
BEGIN:STANDARD
TZOFFSETFROM:-0500
TZOFFSETTO:-0600
TZNAME:CST
DTSTART:20251102T070000
END:STANDARD
BEGIN:DAYLIGHT
TZOFFSETFROM:-0600
TZOFFSETTO:-0500
TZNAME:CDT
DTSTART:20260308T080000
END:DAYLIGHT
BEGIN:STANDARD
TZOFFSETFROM:-0500
TZOFFSETTO:-0600
TZNAME:CST
DTSTART:20261101T070000
END:STANDARD
BEGIN:DAYLIGHT
TZOFFSETFROM:-0600
TZOFFSETTO:-0500
TZNAME:CDT
DTSTART:20270314T080000
END:DAYLIGHT
BEGIN:STANDARD
TZOFFSETFROM:-0500
TZOFFSETTO:-0600
TZNAME:CST
DTSTART:20271107T070000
END:STANDARD
END:VTIMEZONE
BEGIN:VEVENT
DTSTART;TZID=America/North_Dakota/Center:20260407T080000
DTEND;TZID=America/North_Dakota/Center:20260407T120000
DTSTAMP:20260424T095154
CREATED:20251227T214400Z
LAST-MODIFIED:20251227T214400Z
UID:10002916-1775548800-1775563200@www.redbudrvresort.com
SUMMARY:Lodge Closed
DESCRIPTION:
URL:https://www.redbudrvresort.com/event/lodge-closed/2026-04-07/
END:VEVENT
BEGIN:VEVENT
DTSTART;TZID=America/North_Dakota/Center:20260410T180000
DTEND;TZID=America/North_Dakota/Center:20260410T193000
DTSTAMP:20260424T095154
CREATED:20260326T194554Z
LAST-MODIFIED:20260326T194554Z
UID:10003004-1775844000-1775849400@www.redbudrvresort.com
SUMMARY:BINGO!
DESCRIPTION:Join us in The Lodge at 6 pm for multiple games of BINGO\, free family fun with prizes!
URL:https://www.redbudrvresort.com/event/bingo-25/2026-04-10/
END:VEVENT
BEGIN:VEVENT
DTSTART;TZID=America/North_Dakota/Center:20260411T110000
DTEND;TZID=America/North_Dakota/Center:20260411T120000
DTSTAMP:20260424T095154
CREATED:20260326T195213Z
LAST-MODIFIED:20260326T195214Z
UID:10002823-1775905200-1775908800@www.redbudrvresort.com
SUMMARY:Craft Time
DESCRIPTION:Join us for craft time at 11 AM\, we are making Coffee Filter Butterflies.  This is a free\, family friendly event!
URL:https://www.redbudrvresort.com/event/craft-time-9-3/
END:VEVENT
BEGIN:VEVENT
DTSTART;TZID=America/North_Dakota/Center:20260411T190000
DTEND;TZID=America/North_Dakota/Center:20260411T210000
DTSTAMP:20260424T095154
CREATED:20260326T195644Z
LAST-MODIFIED:20260326T195644Z
UID:10003008-1775934000-1775941200@www.redbudrvresort.com
SUMMARY:Movie Night
DESCRIPTION:Movie Night in The Lodge at 7 pm!
URL:https://www.redbudrvresort.com/event/movie-night-14/2026-04-11/
END:VEVENT
END:VCALENDAR