BEGIN:VCALENDAR
VERSION:2.0
PRODID:-//Redbud Ranch RV Resort - ECPv6.15.20//NONSGML v1.0//EN
CALSCALE:GREGORIAN
METHOD:PUBLISH
X-ORIGINAL-URL:https://www.redbudrvresort.com
X-WR-CALDESC:Events for Redbud Ranch RV Resort
REFRESH-INTERVAL;VALUE=DURATION:PT1H
X-Robots-Tag:noindex
X-PUBLISHED-TTL:PT1H
BEGIN:VTIMEZONE
TZID:America/North_Dakota/Center
BEGIN:DAYLIGHT
TZOFFSETFROM:-0600
TZOFFSETTO:-0500
TZNAME:CDT
DTSTART:20250309T080000
END:DAYLIGHT
BEGIN:STANDARD
TZOFFSETFROM:-0500
TZOFFSETTO:-0600
TZNAME:CST
DTSTART:20251102T070000
END:STANDARD
BEGIN:DAYLIGHT
TZOFFSETFROM:-0600
TZOFFSETTO:-0500
TZNAME:CDT
DTSTART:20260308T080000
END:DAYLIGHT
BEGIN:STANDARD
TZOFFSETFROM:-0500
TZOFFSETTO:-0600
TZNAME:CST
DTSTART:20261101T070000
END:STANDARD
BEGIN:DAYLIGHT
TZOFFSETFROM:-0600
TZOFFSETTO:-0500
TZNAME:CDT
DTSTART:20270314T080000
END:DAYLIGHT
BEGIN:STANDARD
TZOFFSETFROM:-0500
TZOFFSETTO:-0600
TZNAME:CST
DTSTART:20271107T070000
END:STANDARD
END:VTIMEZONE
BEGIN:VEVENT
DTSTART;TZID=America/North_Dakota/Center:20260313T180000
DTEND;TZID=America/North_Dakota/Center:20260313T193000
DTSTAMP:20260424T091940
CREATED:20260130T185700Z
LAST-MODIFIED:20260303T200337Z
UID:10002993-1773424800-1773430200@www.redbudrvresort.com
SUMMARY:BINGO
DESCRIPTION:6 pm in the LODGE \nFree\, Family – Friendly Fun with prizes!
URL:https://www.redbudrvresort.com/event/bingo-24/2026-03-13/
END:VEVENT
BEGIN:VEVENT
DTSTART;TZID=America/North_Dakota/Center:20260314T110000
DTEND;TZID=America/North_Dakota/Center:20260314T120000
DTSTAMP:20260424T091940
CREATED:20251024T161346Z
LAST-MODIFIED:20251024T161346Z
UID:10002819-1773486000-1773489600@www.redbudrvresort.com
SUMMARY:Craft Time
DESCRIPTION:Join us for craft time at 11 AM.  This is a free\, family friendly event!
URL:https://www.redbudrvresort.com/event/craft-time-9/2026-03-14/
END:VEVENT
BEGIN:VEVENT
DTSTART;TZID=America/North_Dakota/Center:20260314T120000
DTEND;TZID=America/North_Dakota/Center:20260314T150000
DTSTAMP:20260424T091940
CREATED:20260303T200229Z
LAST-MODIFIED:20260303T200229Z
UID:10002996-1773489600-1773500400@www.redbudrvresort.com
SUMMARY:Community Appreciation Event
DESCRIPTION:Join us under the pavilion at the pool for brisket and burgers!  Noon till the food runs out!
URL:https://www.redbudrvresort.com/event/community-appreciation-event/
END:VEVENT
BEGIN:VEVENT
DTSTART;TZID=America/North_Dakota/Center:20260314T190000
DTEND;TZID=America/North_Dakota/Center:20260314T210000
DTSTAMP:20260424T091940
CREATED:20250109T160541Z
LAST-MODIFIED:20260130T190459Z
UID:10002209-1773514800-1773522000@www.redbudrvresort.com
SUMMARY:Movie Night
DESCRIPTION:
URL:https://www.redbudrvresort.com/event/movie-night-5-2-2-3-2/2026-03-14/
END:VEVENT
END:VCALENDAR