BEGIN:VCALENDAR
VERSION:2.0
PRODID:-//Redbud Ranch RV Resort - ECPv6.15.20//NONSGML v1.0//EN
CALSCALE:GREGORIAN
METHOD:PUBLISH
X-ORIGINAL-URL:https://www.redbudrvresort.com
X-WR-CALDESC:Events for Redbud Ranch RV Resort
REFRESH-INTERVAL;VALUE=DURATION:PT1H
X-Robots-Tag:noindex
X-PUBLISHED-TTL:PT1H
BEGIN:VTIMEZONE
TZID:America/North_Dakota/Center
BEGIN:DAYLIGHT
TZOFFSETFROM:-0600
TZOFFSETTO:-0500
TZNAME:CDT
DTSTART:20240310T080000
END:DAYLIGHT
BEGIN:STANDARD
TZOFFSETFROM:-0500
TZOFFSETTO:-0600
TZNAME:CST
DTSTART:20241103T070000
END:STANDARD
BEGIN:DAYLIGHT
TZOFFSETFROM:-0600
TZOFFSETTO:-0500
TZNAME:CDT
DTSTART:20250309T080000
END:DAYLIGHT
BEGIN:STANDARD
TZOFFSETFROM:-0500
TZOFFSETTO:-0600
TZNAME:CST
DTSTART:20251102T070000
END:STANDARD
BEGIN:DAYLIGHT
TZOFFSETFROM:-0600
TZOFFSETTO:-0500
TZNAME:CDT
DTSTART:20260308T080000
END:DAYLIGHT
BEGIN:STANDARD
TZOFFSETFROM:-0500
TZOFFSETTO:-0600
TZNAME:CST
DTSTART:20261101T070000
END:STANDARD
END:VTIMEZONE
BEGIN:VEVENT
DTSTART;VALUE=DATE:20251111
DTEND;VALUE=DATE:20251112
DTSTAMP:20260424T144254
CREATED:20251024T170002Z
LAST-MODIFIED:20251024T170002Z
UID:10002860-1762819200-1762905599@www.redbudrvresort.com
SUMMARY:Veterans Day
DESCRIPTION:To all of our guests who have served\, Thank You for your service.  Happy Veterans Day.
URL:https://www.redbudrvresort.com/event/veterans-day-2/
END:VEVENT
BEGIN:VEVENT
DTSTART;TZID=America/North_Dakota/Center:20251114T180000
DTEND;TZID=America/North_Dakota/Center:20251114T190000
DTSTAMP:20260424T144254
CREATED:20250506T133950Z
LAST-MODIFIED:20250506T133950Z
UID:10002691-1763143200-1763146800@www.redbudrvresort.com
SUMMARY:BINGO
DESCRIPTION:Join us at 6 pm in the lodge for bingo!  All ages\, prizes for winners!  No cost to play.
URL:https://www.redbudrvresort.com/event/bingo-20/2025-11-14/
END:VEVENT
BEGIN:VEVENT
DTSTART;TZID=America/North_Dakota/Center:20251115T110000
DTEND;TZID=America/North_Dakota/Center:20251115T120000
DTSTAMP:20260424T144254
CREATED:20251024T161346Z
LAST-MODIFIED:20251024T161346Z
UID:10002802-1763204400-1763208000@www.redbudrvresort.com
SUMMARY:Craft Time
DESCRIPTION:Join us for craft time at 11 AM.  This is a free\, family friendly event!
URL:https://www.redbudrvresort.com/event/craft-time-9/2025-11-15/
END:VEVENT
BEGIN:VEVENT
DTSTART;TZID=America/North_Dakota/Center:20251115T190000
DTEND;TZID=America/North_Dakota/Center:20251115T210000
DTSTAMP:20260424T144254
CREATED:20250109T160541Z
LAST-MODIFIED:20260130T190459Z
UID:10002192-1763233200-1763240400@www.redbudrvresort.com
SUMMARY:Movie Night
DESCRIPTION:
URL:https://www.redbudrvresort.com/event/movie-night-5-2-2-3-2/2025-11-15/
END:VEVENT
END:VCALENDAR