BEGIN:VCALENDAR
VERSION:2.0
PRODID:-//Redbud Ranch RV Resort - ECPv6.15.20//NONSGML v1.0//EN
CALSCALE:GREGORIAN
METHOD:PUBLISH
X-WR-CALNAME:Redbud Ranch RV Resort
X-ORIGINAL-URL:https://www.redbudrvresort.com
X-WR-CALDESC:Events for Redbud Ranch RV Resort
REFRESH-INTERVAL;VALUE=DURATION:PT1H
X-Robots-Tag:noindex
X-PUBLISHED-TTL:PT1H
BEGIN:VTIMEZONE
TZID:America/North_Dakota/Center
BEGIN:DAYLIGHT
TZOFFSETFROM:-0600
TZOFFSETTO:-0500
TZNAME:CDT
DTSTART:20250309T080000
END:DAYLIGHT
BEGIN:STANDARD
TZOFFSETFROM:-0500
TZOFFSETTO:-0600
TZNAME:CST
DTSTART:20251102T070000
END:STANDARD
BEGIN:DAYLIGHT
TZOFFSETFROM:-0600
TZOFFSETTO:-0500
TZNAME:CDT
DTSTART:20260308T080000
END:DAYLIGHT
BEGIN:STANDARD
TZOFFSETFROM:-0500
TZOFFSETTO:-0600
TZNAME:CST
DTSTART:20261101T070000
END:STANDARD
BEGIN:DAYLIGHT
TZOFFSETFROM:-0600
TZOFFSETTO:-0500
TZNAME:CDT
DTSTART:20270314T080000
END:DAYLIGHT
BEGIN:STANDARD
TZOFFSETFROM:-0500
TZOFFSETTO:-0600
TZNAME:CST
DTSTART:20271107T070000
END:STANDARD
END:VTIMEZONE
BEGIN:VEVENT
DTSTART;TZID=America/North_Dakota/Center:20260829T190000
DTEND;TZID=America/North_Dakota/Center:20260829T210000
DTSTAMP:20260425T052339
CREATED:20260326T195644Z
LAST-MODIFIED:20260326T195644Z
UID:10003028-1788030000-1788037200@www.redbudrvresort.com
SUMMARY:Movie Night
DESCRIPTION:Movie Night in The Lodge at 7 pm!
URL:https://www.redbudrvresort.com/event/movie-night-14/2026-08-29/
END:VEVENT
BEGIN:VEVENT
DTSTART;TZID=America/North_Dakota/Center:20260829T110000
DTEND;TZID=America/North_Dakota/Center:20260829T120000
DTSTAMP:20260425T052339
CREATED:20251024T161346Z
LAST-MODIFIED:20251024T161346Z
UID:10002843-1788001200-1788004800@www.redbudrvresort.com
SUMMARY:Craft Time
DESCRIPTION:Join us for craft time at 11 AM.  This is a free\, family friendly event!
URL:https://www.redbudrvresort.com/event/craft-time-9/2026-08-29/
END:VEVENT
BEGIN:VEVENT
DTSTART;TZID=America/North_Dakota/Center:20260822T190000
DTEND;TZID=America/North_Dakota/Center:20260822T210000
DTSTAMP:20260425T052339
CREATED:20260326T195644Z
LAST-MODIFIED:20260326T195644Z
UID:10003027-1787425200-1787432400@www.redbudrvresort.com
SUMMARY:Movie Night
DESCRIPTION:Movie Night in The Lodge at 7 pm!
URL:https://www.redbudrvresort.com/event/movie-night-14/2026-08-22/
END:VEVENT
BEGIN:VEVENT
DTSTART;TZID=America/North_Dakota/Center:20260822T110000
DTEND;TZID=America/North_Dakota/Center:20260822T120000
DTSTAMP:20260425T052339
CREATED:20251024T161346Z
LAST-MODIFIED:20251024T161346Z
UID:10002842-1787396400-1787400000@www.redbudrvresort.com
SUMMARY:Craft Time
DESCRIPTION:Join us for craft time at 11 AM.  This is a free\, family friendly event!
URL:https://www.redbudrvresort.com/event/craft-time-9/2026-08-22/
END:VEVENT
BEGIN:VEVENT
DTSTART;TZID=America/North_Dakota/Center:20260815T190000
DTEND;TZID=America/North_Dakota/Center:20260815T210000
DTSTAMP:20260425T052339
CREATED:20260326T195644Z
LAST-MODIFIED:20260326T195644Z
UID:10003026-1786820400-1786827600@www.redbudrvresort.com
SUMMARY:Movie Night
DESCRIPTION:Movie Night in The Lodge at 7 pm!
URL:https://www.redbudrvresort.com/event/movie-night-14/2026-08-15/
END:VEVENT
BEGIN:VEVENT
DTSTART;TZID=America/North_Dakota/Center:20260815T110000
DTEND;TZID=America/North_Dakota/Center:20260815T120000
DTSTAMP:20260425T052339
CREATED:20251024T161346Z
LAST-MODIFIED:20251024T161346Z
UID:10002841-1786791600-1786795200@www.redbudrvresort.com
SUMMARY:Craft Time
DESCRIPTION:Join us for craft time at 11 AM.  This is a free\, family friendly event!
URL:https://www.redbudrvresort.com/event/craft-time-9/2026-08-15/
END:VEVENT
BEGIN:VEVENT
DTSTART;TZID=America/North_Dakota/Center:20260808T190000
DTEND;TZID=America/North_Dakota/Center:20260808T210000
DTSTAMP:20260425T052339
CREATED:20260326T195644Z
LAST-MODIFIED:20260326T195644Z
UID:10003025-1786215600-1786222800@www.redbudrvresort.com
SUMMARY:Movie Night
DESCRIPTION:Movie Night in The Lodge at 7 pm!
URL:https://www.redbudrvresort.com/event/movie-night-14/2026-08-08/
END:VEVENT
BEGIN:VEVENT
DTSTART;TZID=America/North_Dakota/Center:20260808T110000
DTEND;TZID=America/North_Dakota/Center:20260808T120000
DTSTAMP:20260425T052339
CREATED:20251024T161346Z
LAST-MODIFIED:20251024T161346Z
UID:10002840-1786186800-1786190400@www.redbudrvresort.com
SUMMARY:Craft Time
DESCRIPTION:Join us for craft time at 11 AM.  This is a free\, family friendly event!
URL:https://www.redbudrvresort.com/event/craft-time-9/2026-08-08/
END:VEVENT
BEGIN:VEVENT
DTSTART;TZID=America/North_Dakota/Center:20260804T080000
DTEND;TZID=America/North_Dakota/Center:20260804T120000
DTSTAMP:20260425T052339
CREATED:20251227T214400Z
LAST-MODIFIED:20251227T214400Z
UID:10002920-1785830400-1785844800@www.redbudrvresort.com
SUMMARY:Lodge Closed
DESCRIPTION:
URL:https://www.redbudrvresort.com/event/lodge-closed/2026-08-04/
END:VEVENT
BEGIN:VEVENT
DTSTART;TZID=America/North_Dakota/Center:20260801T190000
DTEND;TZID=America/North_Dakota/Center:20260801T210000
DTSTAMP:20260425T052339
CREATED:20260326T195644Z
LAST-MODIFIED:20260326T195644Z
UID:10003024-1785610800-1785618000@www.redbudrvresort.com
SUMMARY:Movie Night
DESCRIPTION:Movie Night in The Lodge at 7 pm!
URL:https://www.redbudrvresort.com/event/movie-night-14/2026-08-01/
END:VEVENT
BEGIN:VEVENT
DTSTART;TZID=America/North_Dakota/Center:20260801T110000
DTEND;TZID=America/North_Dakota/Center:20260801T120000
DTSTAMP:20260425T052339
CREATED:20251024T161346Z
LAST-MODIFIED:20251024T161346Z
UID:10002839-1785582000-1785585600@www.redbudrvresort.com
SUMMARY:Craft Time
DESCRIPTION:Join us for craft time at 11 AM.  This is a free\, family friendly event!
URL:https://www.redbudrvresort.com/event/craft-time-9/2026-08-01/
END:VEVENT
BEGIN:VEVENT
DTSTART;TZID=America/North_Dakota/Center:20260725T190000
DTEND;TZID=America/North_Dakota/Center:20260725T210000
DTSTAMP:20260425T052339
CREATED:20260326T195644Z
LAST-MODIFIED:20260326T195644Z
UID:10003023-1785006000-1785013200@www.redbudrvresort.com
SUMMARY:Movie Night
DESCRIPTION:Movie Night in The Lodge at 7 pm!
URL:https://www.redbudrvresort.com/event/movie-night-14/2026-07-25/
END:VEVENT
BEGIN:VEVENT
DTSTART;TZID=America/North_Dakota/Center:20260725T110000
DTEND;TZID=America/North_Dakota/Center:20260725T120000
DTSTAMP:20260425T052339
CREATED:20251024T161346Z
LAST-MODIFIED:20251024T161346Z
UID:10002838-1784977200-1784980800@www.redbudrvresort.com
SUMMARY:Craft Time
DESCRIPTION:Join us for craft time at 11 AM.  This is a free\, family friendly event!
URL:https://www.redbudrvresort.com/event/craft-time-9/2026-07-25/
END:VEVENT
BEGIN:VEVENT
DTSTART;TZID=America/North_Dakota/Center:20260718T190000
DTEND;TZID=America/North_Dakota/Center:20260718T210000
DTSTAMP:20260425T052339
CREATED:20260326T195644Z
LAST-MODIFIED:20260326T195644Z
UID:10003022-1784401200-1784408400@www.redbudrvresort.com
SUMMARY:Movie Night
DESCRIPTION:Movie Night in The Lodge at 7 pm!
URL:https://www.redbudrvresort.com/event/movie-night-14/2026-07-18/
END:VEVENT
BEGIN:VEVENT
DTSTART;TZID=America/North_Dakota/Center:20260718T110000
DTEND;TZID=America/North_Dakota/Center:20260718T120000
DTSTAMP:20260425T052339
CREATED:20251024T161346Z
LAST-MODIFIED:20251024T161346Z
UID:10002837-1784372400-1784376000@www.redbudrvresort.com
SUMMARY:Craft Time
DESCRIPTION:Join us for craft time at 11 AM.  This is a free\, family friendly event!
URL:https://www.redbudrvresort.com/event/craft-time-9/2026-07-18/
END:VEVENT
BEGIN:VEVENT
DTSTART;TZID=America/North_Dakota/Center:20260711T190000
DTEND;TZID=America/North_Dakota/Center:20260711T210000
DTSTAMP:20260425T052339
CREATED:20260326T195644Z
LAST-MODIFIED:20260326T195644Z
UID:10003021-1783796400-1783803600@www.redbudrvresort.com
SUMMARY:Movie Night
DESCRIPTION:Movie Night in The Lodge at 7 pm!
URL:https://www.redbudrvresort.com/event/movie-night-14/2026-07-11/
END:VEVENT
BEGIN:VEVENT
DTSTART;TZID=America/North_Dakota/Center:20260711T110000
DTEND;TZID=America/North_Dakota/Center:20260711T120000
DTSTAMP:20260425T052339
CREATED:20251024T161346Z
LAST-MODIFIED:20251024T161346Z
UID:10002836-1783767600-1783771200@www.redbudrvresort.com
SUMMARY:Craft Time
DESCRIPTION:Join us for craft time at 11 AM.  This is a free\, family friendly event!
URL:https://www.redbudrvresort.com/event/craft-time-9/2026-07-11/
END:VEVENT
BEGIN:VEVENT
DTSTART;TZID=America/North_Dakota/Center:20260711T080000
DTEND;TZID=America/North_Dakota/Center:20260711T170000
DTSTAMP:20260425T052339
CREATED:20251227T214533Z
LAST-MODIFIED:20251227T220016Z
UID:10002931-1783756800-1783789200@www.redbudrvresort.com
SUMMARY:Lodge Closed - Private Group
DESCRIPTION:
URL:https://www.redbudrvresort.com/event/lodge-closed-private-group-4/2026-07-11/
END:VEVENT
BEGIN:VEVENT
DTSTART;TZID=America/North_Dakota/Center:20260707T080000
DTEND;TZID=America/North_Dakota/Center:20260707T120000
DTSTAMP:20260425T052339
CREATED:20251227T214400Z
LAST-MODIFIED:20251227T214400Z
UID:10002919-1783411200-1783425600@www.redbudrvresort.com
SUMMARY:Lodge Closed
DESCRIPTION:
URL:https://www.redbudrvresort.com/event/lodge-closed/2026-07-07/
END:VEVENT
BEGIN:VEVENT
DTSTART;TZID=America/North_Dakota/Center:20260704T190000
DTEND;TZID=America/North_Dakota/Center:20260704T210000
DTSTAMP:20260425T052339
CREATED:20260326T195644Z
LAST-MODIFIED:20260326T195644Z
UID:10003020-1783191600-1783198800@www.redbudrvresort.com
SUMMARY:Movie Night
DESCRIPTION:Movie Night in The Lodge at 7 pm!
URL:https://www.redbudrvresort.com/event/movie-night-14/2026-07-04/
END:VEVENT
BEGIN:VEVENT
DTSTART;TZID=America/North_Dakota/Center:20260704T110000
DTEND;TZID=America/North_Dakota/Center:20260704T120000
DTSTAMP:20260425T052339
CREATED:20251024T161346Z
LAST-MODIFIED:20251024T161346Z
UID:10002835-1783162800-1783166400@www.redbudrvresort.com
SUMMARY:Craft Time
DESCRIPTION:Join us for craft time at 11 AM.  This is a free\, family friendly event!
URL:https://www.redbudrvresort.com/event/craft-time-9/2026-07-04/
END:VEVENT
BEGIN:VEVENT
DTSTART;TZID=America/North_Dakota/Center:20260627T190000
DTEND;TZID=America/North_Dakota/Center:20260627T210000
DTSTAMP:20260425T052339
CREATED:20260326T195644Z
LAST-MODIFIED:20260326T195644Z
UID:10003019-1782586800-1782594000@www.redbudrvresort.com
SUMMARY:Movie Night
DESCRIPTION:Movie Night in The Lodge at 7 pm!
URL:https://www.redbudrvresort.com/event/movie-night-14/2026-06-27/
END:VEVENT
BEGIN:VEVENT
DTSTART;TZID=America/North_Dakota/Center:20260627T110000
DTEND;TZID=America/North_Dakota/Center:20260627T120000
DTSTAMP:20260425T052339
CREATED:20251024T161346Z
LAST-MODIFIED:20251024T161346Z
UID:10002834-1782558000-1782561600@www.redbudrvresort.com
SUMMARY:Craft Time
DESCRIPTION:Join us for craft time at 11 AM.  This is a free\, family friendly event!
URL:https://www.redbudrvresort.com/event/craft-time-9/2026-06-27/
END:VEVENT
BEGIN:VEVENT
DTSTART;TZID=America/North_Dakota/Center:20260626T080000
DTEND;TZID=America/North_Dakota/Center:20260628T170000
DTSTAMP:20260425T052339
CREATED:20260305T145447Z
LAST-MODIFIED:20260305T145447Z
UID:10003002-1782460800-1782666000@www.redbudrvresort.com
SUMMARY:Lodge Closed - Private Event
DESCRIPTION:
URL:https://www.redbudrvresort.com/event/lodge-closed-private-event-7/
END:VEVENT
BEGIN:VEVENT
DTSTART;TZID=America/North_Dakota/Center:20260620T190000
DTEND;TZID=America/North_Dakota/Center:20260620T210000
DTSTAMP:20260425T052339
CREATED:20260326T195644Z
LAST-MODIFIED:20260326T195644Z
UID:10003018-1781982000-1781989200@www.redbudrvresort.com
SUMMARY:Movie Night
DESCRIPTION:Movie Night in The Lodge at 7 pm!
URL:https://www.redbudrvresort.com/event/movie-night-14/2026-06-20/
END:VEVENT
BEGIN:VEVENT
DTSTART;TZID=America/North_Dakota/Center:20260620T140000
DTEND;TZID=America/North_Dakota/Center:20260620T153000
DTSTAMP:20260425T052339
CREATED:20251227T215132Z
LAST-MODIFIED:20251227T215853Z
UID:10002930-1781964000-1781969400@www.redbudrvresort.com
SUMMARY:KONA ICE
DESCRIPTION:Meet us at the bike rack by the office from 2 – 3:30 pm!  Kona Ice shaved ice truck will be here for you to purchase!
URL:https://www.redbudrvresort.com/event/kona-ice-7/2026-06-20/
END:VEVENT
BEGIN:VEVENT
DTSTART;TZID=America/North_Dakota/Center:20260620T110000
DTEND;TZID=America/North_Dakota/Center:20260620T120000
DTSTAMP:20260425T052339
CREATED:20251024T161346Z
LAST-MODIFIED:20251024T161346Z
UID:10002833-1781953200-1781956800@www.redbudrvresort.com
SUMMARY:Craft Time
DESCRIPTION:Join us for craft time at 11 AM.  This is a free\, family friendly event!
URL:https://www.redbudrvresort.com/event/craft-time-9/2026-06-20/
END:VEVENT
BEGIN:VEVENT
DTSTART;VALUE=DATE:20260618
DTEND;VALUE=DATE:20260622
DTSTAMP:20260425T052339
CREATED:20260305T145410Z
LAST-MODIFIED:20260305T145411Z
UID:10003001-1781740800-1782086399@www.redbudrvresort.com
SUMMARY:Lodge Closed - Private Event
DESCRIPTION:
URL:https://www.redbudrvresort.com/event/lodge-closed-private-event-6/
END:VEVENT
BEGIN:VEVENT
DTSTART;TZID=America/North_Dakota/Center:20260613T190000
DTEND;TZID=America/North_Dakota/Center:20260613T210000
DTSTAMP:20260425T052339
CREATED:20260326T195644Z
LAST-MODIFIED:20260326T195644Z
UID:10003017-1781377200-1781384400@www.redbudrvresort.com
SUMMARY:Movie Night
DESCRIPTION:Movie Night in The Lodge at 7 pm!
URL:https://www.redbudrvresort.com/event/movie-night-14/2026-06-13/
END:VEVENT
BEGIN:VEVENT
DTSTART;TZID=America/North_Dakota/Center:20260613T110000
DTEND;TZID=America/North_Dakota/Center:20260613T120000
DTSTAMP:20260425T052339
CREATED:20251024T161346Z
LAST-MODIFIED:20251024T161346Z
UID:10002832-1781348400-1781352000@www.redbudrvresort.com
SUMMARY:Craft Time
DESCRIPTION:Join us for craft time at 11 AM.  This is a free\, family friendly event!
URL:https://www.redbudrvresort.com/event/craft-time-9/2026-06-13/
END:VEVENT
END:VCALENDAR