BEGIN:VCALENDAR
VERSION:2.0
PRODID:-//Redbud Ranch RV Resort - ECPv6.15.20//NONSGML v1.0//EN
CALSCALE:GREGORIAN
METHOD:PUBLISH
X-WR-CALNAME:Redbud Ranch RV Resort
X-ORIGINAL-URL:https://www.redbudrvresort.com
X-WR-CALDESC:Events for Redbud Ranch RV Resort
REFRESH-INTERVAL;VALUE=DURATION:PT1H
X-Robots-Tag:noindex
X-PUBLISHED-TTL:PT1H
BEGIN:VTIMEZONE
TZID:America/North_Dakota/Center
BEGIN:DAYLIGHT
TZOFFSETFROM:-0600
TZOFFSETTO:-0500
TZNAME:CDT
DTSTART:20230312T080000
END:DAYLIGHT
BEGIN:STANDARD
TZOFFSETFROM:-0500
TZOFFSETTO:-0600
TZNAME:CST
DTSTART:20231105T070000
END:STANDARD
BEGIN:DAYLIGHT
TZOFFSETFROM:-0600
TZOFFSETTO:-0500
TZNAME:CDT
DTSTART:20240310T080000
END:DAYLIGHT
BEGIN:STANDARD
TZOFFSETFROM:-0500
TZOFFSETTO:-0600
TZNAME:CST
DTSTART:20241103T070000
END:STANDARD
BEGIN:DAYLIGHT
TZOFFSETFROM:-0600
TZOFFSETTO:-0500
TZNAME:CDT
DTSTART:20250309T080000
END:DAYLIGHT
BEGIN:STANDARD
TZOFFSETFROM:-0500
TZOFFSETTO:-0600
TZNAME:CST
DTSTART:20251102T070000
END:STANDARD
END:VTIMEZONE
BEGIN:VEVENT
DTSTART;TZID=America/North_Dakota/Center:20240720T200000
DTEND;TZID=America/North_Dakota/Center:20240720T210000
DTSTAMP:20260425T211010
CREATED:20240301T022903Z
LAST-MODIFIED:20240423T151946Z
UID:10001363-1721505600-1721509200@www.redbudrvresort.com
SUMMARY:Movie Night
DESCRIPTION:
URL:https://www.redbudrvresort.com/event/movie-night-5-2/2024-07-20/
END:VEVENT
BEGIN:VEVENT
DTSTART;TZID=America/North_Dakota/Center:20240720T140000
DTEND;TZID=America/North_Dakota/Center:20240720T160000
DTSTAMP:20260425T211010
CREATED:20240627T145353Z
LAST-MODIFIED:20240627T145646Z
UID:10001615-1721484000-1721491200@www.redbudrvresort.com
SUMMARY:KONA ICE
DESCRIPTION:KONA ICE is coming to Redbud Ranch!  Come enjoy a cool Kona treat near the pool from 2-4pm!  There are three sizes $3\, $4\, and $6 and many flavors to choose from.
URL:https://www.redbudrvresort.com/event/kona-ice-3/
END:VEVENT
BEGIN:VEVENT
DTSTART;TZID=America/North_Dakota/Center:20240719T180000
DTEND;TZID=America/North_Dakota/Center:20240719T200000
DTSTAMP:20260425T211010
CREATED:20231214T201537Z
LAST-MODIFIED:20240503T165955Z
UID:10000852-1721412000-1721419200@www.redbudrvresort.com
SUMMARY:BINGO
DESCRIPTION:Bring the family and enjoy this free event by playing multiple games of BINGO.  There are plenty of fun prizes to be won for kids and adults!
URL:https://www.redbudrvresort.com/event/bingo-13/2024-07-19/
END:VEVENT
BEGIN:VEVENT
DTSTART;VALUE=DATE:20240719
DTEND;VALUE=DATE:20240722
DTSTAMP:20260425T211010
CREATED:20231214T213327Z
LAST-MODIFIED:20231214T213327Z
UID:10000886-1721347200-1721606399@www.redbudrvresort.com
SUMMARY:Life is Sweet Weekend
DESCRIPTION:Sweetin up your weekend at Redbud Ranch as multiple activities will be planned for the whole family to enjoy!
URL:https://www.redbudrvresort.com/event/life-is-sweet-weekend-2/
END:VEVENT
BEGIN:VEVENT
DTSTART;TZID=America/North_Dakota/Center:20240717T183000
DTEND;TZID=America/North_Dakota/Center:20240717T200000
DTSTAMP:20260425T211010
CREATED:20231214T212142Z
LAST-MODIFIED:20240224T174809Z
UID:10000880-1721241000-1721246400@www.redbudrvresort.com
SUMMARY:Wine Down Wednesday
DESCRIPTION:This Adult Only Event is the perfect way to escape from the busy week.  Bring your favorite beverage and enjoy the snacks that will be provided while socializing with fellow guests!
URL:https://www.redbudrvresort.com/event/wine-down-wednesday-8/2024-07-17/
END:VEVENT
BEGIN:VEVENT
DTSTART;TZID=America/North_Dakota/Center:20240713T200000
DTEND;TZID=America/North_Dakota/Center:20240713T220000
DTSTAMP:20260425T211010
CREATED:20240710T140530Z
LAST-MODIFIED:20240710T140530Z
UID:10001618-1720900800-1720908000@www.redbudrvresort.com
SUMMARY:JAWS Night 2
DESCRIPTION:Will you back in the water for night 2?  Join us at the pool for Jaws Night 2!
URL:https://www.redbudrvresort.com/event/jaws-night-2/
END:VEVENT
BEGIN:VEVENT
DTSTART;TZID=America/North_Dakota/Center:20240713T200000
DTEND;TZID=America/North_Dakota/Center:20240713T210000
DTSTAMP:20260425T211010
CREATED:20240301T022903Z
LAST-MODIFIED:20240423T151946Z
UID:10001903-1720900800-1720904400@www.redbudrvresort.com
SUMMARY:Movie Night
DESCRIPTION:
URL:https://www.redbudrvresort.com/event/movie-night-5-2/2024-07-13/
END:VEVENT
BEGIN:VEVENT
DTSTART;TZID=America/North_Dakota/Center:20240713T120000
DTEND;TZID=America/North_Dakota/Center:20240713T150000
DTSTAMP:20260425T211010
CREATED:20240620T200450Z
LAST-MODIFIED:20240620T200450Z
UID:10001613-1720872000-1720882800@www.redbudrvresort.com
SUMMARY:O's Chop House Food Truck
DESCRIPTION:Join us at site 206 for BBQ from O’s Chop House!
URL:https://www.redbudrvresort.com/event/os-chop-house-food-truck/
END:VEVENT
BEGIN:VEVENT
DTSTART;TZID=America/North_Dakota/Center:20240712T200000
DTEND;TZID=America/North_Dakota/Center:20240712T220000
DTSTAMP:20260425T211010
CREATED:20240710T140428Z
LAST-MODIFIED:20240710T140428Z
UID:10001617-1720814400-1720821600@www.redbudrvresort.com
SUMMARY:JAWS Night 1
DESCRIPTION:Will you go in the water?  Join us in the pool for Jaws Night 1.
URL:https://www.redbudrvresort.com/event/jaws-night-1/
END:VEVENT
BEGIN:VEVENT
DTSTART;TZID=America/North_Dakota/Center:20240712T180000
DTEND;TZID=America/North_Dakota/Center:20240712T200000
DTSTAMP:20260425T211010
CREATED:20231214T201537Z
LAST-MODIFIED:20240503T165955Z
UID:10000851-1720807200-1720814400@www.redbudrvresort.com
SUMMARY:BINGO
DESCRIPTION:Bring the family and enjoy this free event by playing multiple games of BINGO.  There are plenty of fun prizes to be won for kids and adults!
URL:https://www.redbudrvresort.com/event/bingo-13/2024-07-12/
END:VEVENT
BEGIN:VEVENT
DTSTART;TZID=America/North_Dakota/Center:20240706T200000
DTEND;TZID=America/North_Dakota/Center:20240706T210000
DTSTAMP:20260425T211010
CREATED:20240301T022903Z
LAST-MODIFIED:20240423T151946Z
UID:10001902-1720296000-1720299600@www.redbudrvresort.com
SUMMARY:Movie Night
DESCRIPTION:
URL:https://www.redbudrvresort.com/event/movie-night-5-2/2024-07-06/
END:VEVENT
BEGIN:VEVENT
DTSTART;TZID=America/North_Dakota/Center:20240706T180000
DTEND;TZID=America/North_Dakota/Center:20240706T210000
DTSTAMP:20260425T211010
CREATED:20240627T160141Z
LAST-MODIFIED:20240627T160429Z
UID:10001616-1720288800-1720299600@www.redbudrvresort.com
SUMMARY:Ruel Thomas - Live Music
DESCRIPTION:Join us in the pool area from 6 – 9 pm for live music from local musician Ruel Thomas!
URL:https://www.redbudrvresort.com/event/ruel-thomas-live-music/
END:VEVENT
BEGIN:VEVENT
DTSTART;TZID=America/North_Dakota/Center:20240706T140000
DTEND;TZID=America/North_Dakota/Center:20240706T150000
DTSTAMP:20260425T211010
CREATED:20240620T195239Z
LAST-MODIFIED:20240620T195239Z
UID:10001612-1720274400-1720278000@www.redbudrvresort.com
SUMMARY:Redbud Ranch Patriotic Parade
DESCRIPTION:Join us at 2 pm for a patriotic parade through the resort!   Decorate your golf carts\, bikes\, wagons meet at the resort office to start.
URL:https://www.redbudrvresort.com/event/redbud-ranch-patriotic-parade/
END:VEVENT
BEGIN:VEVENT
DTSTART;TZID=America/North_Dakota/Center:20240706T110000
DTEND;TZID=America/North_Dakota/Center:20240706T120000
DTSTAMP:20260425T211010
CREATED:20240620T195557Z
LAST-MODIFIED:20240620T195558Z
UID:10000370-1720263600-1720267200@www.redbudrvresort.com
SUMMARY:Arts & Crafts
DESCRIPTION:Join us at 11 am at The Lodge to decorate golf carts\, bikes\, and wagons for the Patriotic Parade at 2pm!  We will have red\, white and blue supplies for you to decorate and show your patriotic spirit!
URL:https://www.redbudrvresort.com/event/arts-crafts-5-2/
END:VEVENT
BEGIN:VEVENT
DTSTART;TZID=America/North_Dakota/Center:20240705T180000
DTEND;TZID=America/North_Dakota/Center:20240705T200000
DTSTAMP:20260425T211010
CREATED:20231214T201537Z
LAST-MODIFIED:20240503T165955Z
UID:10000850-1720202400-1720209600@www.redbudrvresort.com
SUMMARY:BINGO
DESCRIPTION:Bring the family and enjoy this free event by playing multiple games of BINGO.  There are plenty of fun prizes to be won for kids and adults!
URL:https://www.redbudrvresort.com/event/bingo-13/2024-07-05/
END:VEVENT
BEGIN:VEVENT
DTSTART;VALUE=DATE:20240703
DTEND;VALUE=DATE:20240708
DTSTAMP:20260425T211010
CREATED:20231214T213846Z
LAST-MODIFIED:20240627T144852Z
UID:10000888-1719964800-1720396799@www.redbudrvresort.com
SUMMARY:Fourth of July Celebration
DESCRIPTION:Fun activities\, live music\, and so much more!   Although you cannot spark fireworks in the park\, you can watch multiple professional fireworks displays from each end of the park and around the Hutto area.
URL:https://www.redbudrvresort.com/event/fourth-of-july-celebration/
END:VEVENT
BEGIN:VEVENT
DTSTART;TZID=America/North_Dakota/Center:20240629T200000
DTEND;TZID=America/North_Dakota/Center:20240629T210000
DTSTAMP:20260425T211010
CREATED:20240301T022903Z
LAST-MODIFIED:20240423T151946Z
UID:10001360-1719691200-1719694800@www.redbudrvresort.com
SUMMARY:Movie Night
DESCRIPTION:
URL:https://www.redbudrvresort.com/event/movie-night-5-2/2024-06-29/
END:VEVENT
BEGIN:VEVENT
DTSTART;TZID=America/North_Dakota/Center:20240629T110000
DTEND;TZID=America/North_Dakota/Center:20240629T120000
DTSTAMP:20260425T211010
CREATED:20240627T144517Z
LAST-MODIFIED:20240627T144517Z
UID:10001614-1719658800-1719662400@www.redbudrvresort.com
SUMMARY:Pool Games!
DESCRIPTION:Want to have some fun and stay cool?  Meet us at the pool!  11 am for some fun pool games.  See you there!
URL:https://www.redbudrvresort.com/event/pool-games/
END:VEVENT
BEGIN:VEVENT
DTSTART;TZID=America/North_Dakota/Center:20240628T180000
DTEND;TZID=America/North_Dakota/Center:20240628T200000
DTSTAMP:20260425T211010
CREATED:20231214T201537Z
LAST-MODIFIED:20240503T165955Z
UID:10000849-1719597600-1719604800@www.redbudrvresort.com
SUMMARY:BINGO
DESCRIPTION:Bring the family and enjoy this free event by playing multiple games of BINGO.  There are plenty of fun prizes to be won for kids and adults!
URL:https://www.redbudrvresort.com/event/bingo-13/2024-06-28/
END:VEVENT
BEGIN:VEVENT
DTSTART;VALUE=DATE:20240628
DTEND;VALUE=DATE:20240701
DTSTAMP:20260425T211010
CREATED:20231214T211816Z
LAST-MODIFIED:20231214T211816Z
UID:10000879-1719532800-1719791999@www.redbudrvresort.com
SUMMARY:Relax & Chill Weekend 2
DESCRIPTION:It’s time to chill out and enjoy fun\, family friendly activities!
URL:https://www.redbudrvresort.com/event/relax-chill-weekend-2/
END:VEVENT
BEGIN:VEVENT
DTSTART;TZID=America/North_Dakota/Center:20240622T200000
DTEND;TZID=America/North_Dakota/Center:20240622T210000
DTSTAMP:20260425T211010
CREATED:20240301T022903Z
LAST-MODIFIED:20240423T151946Z
UID:10001359-1719086400-1719090000@www.redbudrvresort.com
SUMMARY:Movie Night
DESCRIPTION:
URL:https://www.redbudrvresort.com/event/movie-night-5-2/2024-06-22/
END:VEVENT
BEGIN:VEVENT
DTSTART;TZID=America/North_Dakota/Center:20240622T110000
DTEND;TZID=America/North_Dakota/Center:20240622T110000
DTSTAMP:20260425T211010
CREATED:20240620T191503Z
LAST-MODIFIED:20240620T193121Z
UID:10001611-1719054000-1719054000@www.redbudrvresort.com
SUMMARY:70's Style Camp Games
DESCRIPTION:Join us for 70’s camp style games:  three-legged race\, sack race\, egg race\, hula hoop contest\, beach ball volley.  Meet at the volleyball court behind the pool!
URL:https://www.redbudrvresort.com/event/70s-style-camp-games/
END:VEVENT
BEGIN:VEVENT
DTSTART;TZID=America/North_Dakota/Center:20240621T180000
DTEND;TZID=America/North_Dakota/Center:20240621T200000
DTSTAMP:20260425T211010
CREATED:20231214T201537Z
LAST-MODIFIED:20240503T165955Z
UID:10000848-1718992800-1719000000@www.redbudrvresort.com
SUMMARY:BINGO
DESCRIPTION:Bring the family and enjoy this free event by playing multiple games of BINGO.  There are plenty of fun prizes to be won for kids and adults!
URL:https://www.redbudrvresort.com/event/bingo-13/2024-06-21/
END:VEVENT
BEGIN:VEVENT
DTSTART;VALUE=DATE:20240621
DTEND;VALUE=DATE:20240624
DTSTAMP:20260425T211010
CREATED:20231214T211724Z
LAST-MODIFIED:20231214T211724Z
UID:10000878-1718928000-1719187199@www.redbudrvresort.com
SUMMARY:Relax & Chill Weekend 1
DESCRIPTION:It’s time to chill out and enjoy fun\, family friendly activities!
URL:https://www.redbudrvresort.com/event/relax-chill-weekend-1/
END:VEVENT
BEGIN:VEVENT
DTSTART;TZID=America/North_Dakota/Center:20240619T183000
DTEND;TZID=America/North_Dakota/Center:20240619T200000
DTSTAMP:20260425T211010
CREATED:20240611T210515Z
LAST-MODIFIED:20240611T210515Z
UID:10000866-1718821800-1718827200@www.redbudrvresort.com
SUMMARY:Wine Down Wednesday
DESCRIPTION:This Adult Only Event is the perfect way to escape from the busy week.  Bring your favorite beverage and enjoy the snacks that will be provided while socializing with fellow guests!
URL:https://www.redbudrvresort.com/event/wine-down-wednesday-7-2/
END:VEVENT
BEGIN:VEVENT
DTSTART;TZID=America/North_Dakota/Center:20240615T200000
DTEND;TZID=America/North_Dakota/Center:20240615T210000
DTSTAMP:20260425T211010
CREATED:20240301T022903Z
LAST-MODIFIED:20240423T151946Z
UID:10001358-1718481600-1718485200@www.redbudrvresort.com
SUMMARY:Movie Night
DESCRIPTION:
URL:https://www.redbudrvresort.com/event/movie-night-5-2/2024-06-15/
END:VEVENT
BEGIN:VEVENT
DTSTART;TZID=America/North_Dakota/Center:20240614T180000
DTEND;TZID=America/North_Dakota/Center:20240614T200000
DTSTAMP:20260425T211010
CREATED:20231214T201537Z
LAST-MODIFIED:20240503T165955Z
UID:10000847-1718388000-1718395200@www.redbudrvresort.com
SUMMARY:BINGO
DESCRIPTION:Bring the family and enjoy this free event by playing multiple games of BINGO.  There are plenty of fun prizes to be won for kids and adults!
URL:https://www.redbudrvresort.com/event/bingo-13/2024-06-14/
END:VEVENT
BEGIN:VEVENT
DTSTART;VALUE=DATE:20240614
DTEND;VALUE=DATE:20240617
DTSTAMP:20260425T211010
CREATED:20231214T211517Z
LAST-MODIFIED:20231214T211517Z
UID:10000877-1718323200-1718582399@www.redbudrvresort.com
SUMMARY:Father's Day Weekend Celebration
DESCRIPTION:Dad’s\, this weekend is all about YOU!
URL:https://www.redbudrvresort.com/event/fathers-day-weekend-celebration/
END:VEVENT
BEGIN:VEVENT
DTSTART;TZID=America/North_Dakota/Center:20240608T200000
DTEND;TZID=America/North_Dakota/Center:20240608T210000
DTSTAMP:20260425T211010
CREATED:20240301T022903Z
LAST-MODIFIED:20240423T151946Z
UID:10001357-1717876800-1717880400@www.redbudrvresort.com
SUMMARY:Movie Night
DESCRIPTION:
URL:https://www.redbudrvresort.com/event/movie-night-5-2/2024-06-08/
END:VEVENT
BEGIN:VEVENT
DTSTART;TZID=America/North_Dakota/Center:20240607T180000
DTEND;TZID=America/North_Dakota/Center:20240607T200000
DTSTAMP:20260425T211010
CREATED:20231214T201537Z
LAST-MODIFIED:20240503T165955Z
UID:10000846-1717783200-1717790400@www.redbudrvresort.com
SUMMARY:BINGO
DESCRIPTION:Bring the family and enjoy this free event by playing multiple games of BINGO.  There are plenty of fun prizes to be won for kids and adults!
URL:https://www.redbudrvresort.com/event/bingo-13/2024-06-07/
END:VEVENT
END:VCALENDAR