BEGIN:VCALENDAR
VERSION:2.0
PRODID:-//Redbud Ranch RV Resort - ECPv6.15.20//NONSGML v1.0//EN
CALSCALE:GREGORIAN
METHOD:PUBLISH
X-WR-CALNAME:Redbud Ranch RV Resort
X-ORIGINAL-URL:https://www.redbudrvresort.com
X-WR-CALDESC:Events for Redbud Ranch RV Resort
REFRESH-INTERVAL;VALUE=DURATION:PT1H
X-Robots-Tag:noindex
X-PUBLISHED-TTL:PT1H
BEGIN:VTIMEZONE
TZID:America/North_Dakota/Center
BEGIN:DAYLIGHT
TZOFFSETFROM:-0600
TZOFFSETTO:-0500
TZNAME:CDT
DTSTART:20230312T080000
END:DAYLIGHT
BEGIN:STANDARD
TZOFFSETFROM:-0500
TZOFFSETTO:-0600
TZNAME:CST
DTSTART:20231105T070000
END:STANDARD
BEGIN:DAYLIGHT
TZOFFSETFROM:-0600
TZOFFSETTO:-0500
TZNAME:CDT
DTSTART:20240310T080000
END:DAYLIGHT
BEGIN:STANDARD
TZOFFSETFROM:-0500
TZOFFSETTO:-0600
TZNAME:CST
DTSTART:20241103T070000
END:STANDARD
BEGIN:DAYLIGHT
TZOFFSETFROM:-0600
TZOFFSETTO:-0500
TZNAME:CDT
DTSTART:20250309T080000
END:DAYLIGHT
BEGIN:STANDARD
TZOFFSETFROM:-0500
TZOFFSETTO:-0600
TZNAME:CST
DTSTART:20251102T070000
END:STANDARD
END:VTIMEZONE
BEGIN:VEVENT
DTSTART;TZID=America/North_Dakota/Center:20240323T080000
DTEND;TZID=America/North_Dakota/Center:20240323T200000
DTSTAMP:20260425T224348
CREATED:20240229T161733Z
LAST-MODIFIED:20240229T173539Z
UID:10000955-1711180800-1711224000@www.redbudrvresort.com
SUMMARY:Family Day - No Activities Scheduled
DESCRIPTION:Enjoy a board game or take a walk along the creek with the family!
URL:https://www.redbudrvresort.com/event/family-day-no-activities-scheduled/
END:VEVENT
BEGIN:VEVENT
DTSTART;TZID=America/North_Dakota/Center:20240321T080000
DTEND;TZID=America/North_Dakota/Center:20240323T220000
DTSTAMP:20260425T224348
CREATED:20240229T161301Z
LAST-MODIFIED:20240229T161301Z
UID:10000954-1711008000-1711231200@www.redbudrvresort.com
SUMMARY:Lodge Closed - Private Event
DESCRIPTION:Coffee will be served in the business center due to our Lodge being closed for a private event.
URL:https://www.redbudrvresort.com/event/lodge-closed-private-event/
END:VEVENT
BEGIN:VEVENT
DTSTART;TZID=America/North_Dakota/Center:20240320T183000
DTEND;TZID=America/North_Dakota/Center:20240320T200000
DTSTAMP:20260425T224348
CREATED:20231214T200740Z
LAST-MODIFIED:20240224T174335Z
UID:10000950-1710959400-1710964800@www.redbudrvresort.com
SUMMARY:Wine Down Wednesday
DESCRIPTION:This Adult Only Event is the perfect way to escape from the busy week.  Bring your favorite beverage and enjoy the snacks that will be provided while socializing with fellow guests!
URL:https://www.redbudrvresort.com/event/wine-down-wednesday-6/2024-03-20/
END:VEVENT
BEGIN:VEVENT
DTSTART;TZID=America/North_Dakota/Center:20240317T180000
DTEND;TZID=America/North_Dakota/Center:20240317T200000
DTSTAMP:20260425T224348
CREATED:20231214T201135Z
LAST-MODIFIED:20240224T175559Z
UID:10000953-1710698400-1710705600@www.redbudrvresort.com
SUMMARY:BINGO
DESCRIPTION:Bring the family and enjoy this free event by playing multiple games of BINGO.  There are plenty of fun prizes to be won for kids and adults!
URL:https://www.redbudrvresort.com/event/bingo-11/2024-03-17/
END:VEVENT
BEGIN:VEVENT
DTSTART;TZID=America/North_Dakota/Center:20240317T100000
DTEND;TZID=America/North_Dakota/Center:20240317T180000
DTSTAMP:20260425T224348
CREATED:20240229T175259Z
LAST-MODIFIED:20240229T184032Z
UID:10000965-1710669600-1710698400@www.redbudrvresort.com
SUMMARY:Scavenger Hunt\, Word Search\, Coloring Pages
DESCRIPTION:Stop by the Lodge to pick up coloring pages\, word searches and a scavenger hunt anytime throughout the week! \nOnce you have completed each scavenger hunt\, then bring it to the front office to get a sweet treat.
URL:https://www.redbudrvresort.com/event/scavenger-hunt-word-search-coloring-pages/2024-03-17/
END:VEVENT
BEGIN:VEVENT
DTSTART;TZID=America/North_Dakota/Center:20240317T083000
DTEND;TZID=America/North_Dakota/Center:20240317T170000
DTSTAMP:20260425T224348
CREATED:20240229T183545Z
LAST-MODIFIED:20240229T183545Z
UID:10001340-1710664200-1710694800@www.redbudrvresort.com
SUMMARY:St. Patrick's Day Necklace Craft
DESCRIPTION:Stop by the office and pick up a St. Patrick’s Day necklace craft for the kids to enjoy.
URL:https://www.redbudrvresort.com/event/st-patricks-day-necklace-craft/
END:VEVENT
BEGIN:VEVENT
DTSTART;TZID=America/North_Dakota/Center:20240316T190000
DTEND;TZID=America/North_Dakota/Center:20240316T210000
DTSTAMP:20260425T224348
CREATED:20230309T182557Z
LAST-MODIFIED:20240301T024502Z
UID:10000567-1710615600-1710622800@www.redbudrvresort.com
SUMMARY:Movie Night
DESCRIPTION:
URL:https://www.redbudrvresort.com/event/movie-night-5/2024-03-16/
END:VEVENT
BEGIN:VEVENT
DTSTART;TZID=America/North_Dakota/Center:20240316T160000
DTEND;TZID=America/North_Dakota/Center:20240316T163000
DTSTAMP:20260425T224348
CREATED:20240229T183357Z
LAST-MODIFIED:20240229T183357Z
UID:10001339-1710604800-1710606600@www.redbudrvresort.com
SUMMARY:Watermelon Treat
DESCRIPTION:Stop by the Lone Star Pavilion and pick up a sweet watermelon treat!
URL:https://www.redbudrvresort.com/event/watermelon-treat-2/
END:VEVENT
BEGIN:VEVENT
DTSTART;TZID=America/North_Dakota/Center:20240316T140000
DTEND;TZID=America/North_Dakota/Center:20240316T160000
DTSTAMP:20260425T224348
CREATED:20240229T183145Z
LAST-MODIFIED:20240229T183145Z
UID:10001338-1710597600-1710604800@www.redbudrvresort.com
SUMMARY:Minute To Win It - St. Patrick's Day Version
DESCRIPTION:Join us by the pool for a fun St. Patrick’s Day version of Minute To Win It.  This event will be fun for adults and kids!
URL:https://www.redbudrvresort.com/event/minute-to-win-it-st-patricks-day-version/
END:VEVENT
BEGIN:VEVENT
DTSTART;TZID=America/North_Dakota/Center:20240316T100000
DTEND;TZID=America/North_Dakota/Center:20240316T180000
DTSTAMP:20260425T224348
CREATED:20240229T175259Z
LAST-MODIFIED:20240229T184032Z
UID:10000964-1710583200-1710612000@www.redbudrvresort.com
SUMMARY:Scavenger Hunt\, Word Search\, Coloring Pages
DESCRIPTION:Stop by the Lodge to pick up coloring pages\, word searches and a scavenger hunt anytime throughout the week! \nOnce you have completed each scavenger hunt\, then bring it to the front office to get a sweet treat.
URL:https://www.redbudrvresort.com/event/scavenger-hunt-word-search-coloring-pages/2024-03-16/
END:VEVENT
BEGIN:VEVENT
DTSTART;TZID=America/North_Dakota/Center:20240315T143000
DTEND;TZID=America/North_Dakota/Center:20240315T150000
DTSTAMP:20260425T224348
CREATED:20240229T182146Z
LAST-MODIFIED:20240229T182146Z
UID:10001336-1710513000-1710514800@www.redbudrvresort.com
SUMMARY:Musical Shamrocks
DESCRIPTION:Join us poolside for a fun game of musical shamrocks!
URL:https://www.redbudrvresort.com/event/musical-shamrocks-2/
END:VEVENT
BEGIN:VEVENT
DTSTART;TZID=America/North_Dakota/Center:20240315T130000
DTEND;TZID=America/North_Dakota/Center:20240315T140000
DTSTAMP:20260425T224348
CREATED:20240229T182635Z
LAST-MODIFIED:20240229T182635Z
UID:10001337-1710507600-1710511200@www.redbudrvresort.com
SUMMARY:Charades at the Pool
DESCRIPTION:This will be fun for adults and kids!  Join us at the pool to play a fun game of charades.
URL:https://www.redbudrvresort.com/event/charades-at-the-pool/
END:VEVENT
BEGIN:VEVENT
DTSTART;TZID=America/North_Dakota/Center:20240315T100000
DTEND;TZID=America/North_Dakota/Center:20240315T180000
DTSTAMP:20260425T224348
CREATED:20240229T175259Z
LAST-MODIFIED:20240229T184032Z
UID:10000963-1710496800-1710525600@www.redbudrvresort.com
SUMMARY:Scavenger Hunt\, Word Search\, Coloring Pages
DESCRIPTION:Stop by the Lodge to pick up coloring pages\, word searches and a scavenger hunt anytime throughout the week! \nOnce you have completed each scavenger hunt\, then bring it to the front office to get a sweet treat.
URL:https://www.redbudrvresort.com/event/scavenger-hunt-word-search-coloring-pages/2024-03-15/
END:VEVENT
BEGIN:VEVENT
DTSTART;TZID=America/North_Dakota/Center:20240315T100000
DTEND;TZID=America/North_Dakota/Center:20240315T160000
DTSTAMP:20260425T224348
CREATED:20240229T181901Z
LAST-MODIFIED:20240229T181901Z
UID:10001335-1710496800-1710518400@www.redbudrvresort.com
SUMMARY:Sandcastle Building Competition
DESCRIPTION:Bring your own sandcastle materials and head to one of our two sand volleyball courts to start building.  We will have them sectioned off for 1 sandcastle per section to be built on.  Judging will start at 4pm.  Winners will receive a fun treat for a prize.
URL:https://www.redbudrvresort.com/event/sandcastle-building-competition/
END:VEVENT
BEGIN:VEVENT
DTSTART;TZID=America/North_Dakota/Center:20240315T090000
DTEND;TZID=America/North_Dakota/Center:20240315T200000
DTSTAMP:20260425T224348
CREATED:20240229T181408Z
LAST-MODIFIED:20240229T181408Z
UID:10001334-1710493200-1710532800@www.redbudrvresort.com
SUMMARY:Lucky Temporary Tattoos
DESCRIPTION:Stop by the office anytime to get a St. Patrick’s temporary tattoo!
URL:https://www.redbudrvresort.com/event/lucky-temporary-tattoos-2/
END:VEVENT
BEGIN:VEVENT
DTSTART;VALUE=DATE:20240315
DTEND;VALUE=DATE:20240318
DTSTAMP:20260425T224348
CREATED:20231214T200059Z
LAST-MODIFIED:20231214T200059Z
UID:10000831-1710460800-1710719999@www.redbudrvresort.com
SUMMARY:St. Patrick's Day Weekend Celebration
DESCRIPTION:May the Luck of the Irish be with you while enjoying family friendly activities all weekend ong!
URL:https://www.redbudrvresort.com/event/st-patricks-day-weekend-celebration/
END:VEVENT
BEGIN:VEVENT
DTSTART;TZID=America/North_Dakota/Center:20240314T110000
DTEND;TZID=America/North_Dakota/Center:20240314T180000
DTSTAMP:20260425T224348
CREATED:20240229T181029Z
LAST-MODIFIED:20240229T181029Z
UID:10001333-1710414000-1710439200@www.redbudrvresort.com
SUMMARY:Shamrock Scratch Art
DESCRIPTION:Are the kiddos looking for something to do?  Have them stop by the office to pick up a shamrock scratch art and let them show their creativity!
URL:https://www.redbudrvresort.com/event/shamrock-scratch-art/
END:VEVENT
BEGIN:VEVENT
DTSTART;TZID=America/North_Dakota/Center:20240314T100000
DTEND;TZID=America/North_Dakota/Center:20240314T180000
DTSTAMP:20260425T224348
CREATED:20240229T175259Z
LAST-MODIFIED:20240229T184032Z
UID:10000962-1710410400-1710439200@www.redbudrvresort.com
SUMMARY:Scavenger Hunt\, Word Search\, Coloring Pages
DESCRIPTION:Stop by the Lodge to pick up coloring pages\, word searches and a scavenger hunt anytime throughout the week! \nOnce you have completed each scavenger hunt\, then bring it to the front office to get a sweet treat.
URL:https://www.redbudrvresort.com/event/scavenger-hunt-word-search-coloring-pages/2024-03-14/
END:VEVENT
BEGIN:VEVENT
DTSTART;TZID=America/North_Dakota/Center:20240314T100000
DTEND;TZID=America/North_Dakota/Center:20240314T160000
DTSTAMP:20260425T224348
CREATED:20240229T180552Z
LAST-MODIFIED:20240301T031256Z
UID:10001332-1710410400-1710432000@www.redbudrvresort.com
SUMMARY:Color the Park with Chalk Art
DESCRIPTION:Stop by the office and pick up a bag of sidewalk chalk.  Draw your best spring picture at your site!  Judging starts at 4pm \nDon’t forget to take a walk around the park to see all of the colorful sites! \nWinners can pick their fun prize up at the office.
URL:https://www.redbudrvresort.com/event/color-the-park-with-chalk-art/
END:VEVENT
BEGIN:VEVENT
DTSTART;TZID=America/North_Dakota/Center:20240313T100000
DTEND;TZID=America/North_Dakota/Center:20240313T180000
DTSTAMP:20260425T224348
CREATED:20240229T175259Z
LAST-MODIFIED:20240229T184032Z
UID:10000961-1710324000-1710352800@www.redbudrvresort.com
SUMMARY:Scavenger Hunt\, Word Search\, Coloring Pages
DESCRIPTION:Stop by the Lodge to pick up coloring pages\, word searches and a scavenger hunt anytime throughout the week! \nOnce you have completed each scavenger hunt\, then bring it to the front office to get a sweet treat.
URL:https://www.redbudrvresort.com/event/scavenger-hunt-word-search-coloring-pages/2024-03-13/
END:VEVENT
BEGIN:VEVENT
DTSTART;TZID=America/North_Dakota/Center:20240312T190000
DTEND;TZID=America/North_Dakota/Center:20240312T203000
DTSTAMP:20260425T224348
CREATED:20240229T175711Z
LAST-MODIFIED:20240229T175711Z
UID:10001331-1710270000-1710275400@www.redbudrvresort.com
SUMMARY:Crown & Castles Adult Social
DESCRIPTION:This is an adults only event.  Join us in the Lodge for a fun night playing House of Cards and socializing with other guests.  Don’t forget to BYOB\, but we will provide a few finger foods to snack on!
URL:https://www.redbudrvresort.com/event/crown-castles-adult-social/
END:VEVENT
BEGIN:VEVENT
DTSTART;TZID=America/North_Dakota/Center:20240312T100000
DTEND;TZID=America/North_Dakota/Center:20240312T180000
DTSTAMP:20260425T224348
CREATED:20240229T175259Z
LAST-MODIFIED:20240229T184032Z
UID:10000960-1710237600-1710266400@www.redbudrvresort.com
SUMMARY:Scavenger Hunt\, Word Search\, Coloring Pages
DESCRIPTION:Stop by the Lodge to pick up coloring pages\, word searches and a scavenger hunt anytime throughout the week! \nOnce you have completed each scavenger hunt\, then bring it to the front office to get a sweet treat.
URL:https://www.redbudrvresort.com/event/scavenger-hunt-word-search-coloring-pages/2024-03-12/
END:VEVENT
BEGIN:VEVENT
DTSTART;TZID=America/North_Dakota/Center:20240311T100000
DTEND;TZID=America/North_Dakota/Center:20240311T180000
DTSTAMP:20260425T224348
CREATED:20240229T175259Z
LAST-MODIFIED:20240229T184032Z
UID:10000959-1710151200-1710180000@www.redbudrvresort.com
SUMMARY:Scavenger Hunt\, Word Search\, Coloring Pages
DESCRIPTION:Stop by the Lodge to pick up coloring pages\, word searches and a scavenger hunt anytime throughout the week! \nOnce you have completed each scavenger hunt\, then bring it to the front office to get a sweet treat.
URL:https://www.redbudrvresort.com/event/scavenger-hunt-word-search-coloring-pages/2024-03-11/
END:VEVENT
BEGIN:VEVENT
DTSTART;TZID=America/North_Dakota/Center:20240310T133000
DTEND;TZID=America/North_Dakota/Center:20240310T150000
DTSTAMP:20260425T224348
CREATED:20231214T201135Z
LAST-MODIFIED:20240224T175559Z
UID:10000952-1710077400-1710082800@www.redbudrvresort.com
SUMMARY:BINGO
DESCRIPTION:Bring the family and enjoy this free event by playing multiple games of BINGO.  There are plenty of fun prizes to be won for kids and adults!
URL:https://www.redbudrvresort.com/event/bingo-11/2024-03-10/
END:VEVENT
BEGIN:VEVENT
DTSTART;TZID=America/North_Dakota/Center:20240310T100000
DTEND;TZID=America/North_Dakota/Center:20240310T180000
DTSTAMP:20260425T224348
CREATED:20240229T175259Z
LAST-MODIFIED:20240229T184032Z
UID:10000958-1710064800-1710093600@www.redbudrvresort.com
SUMMARY:Scavenger Hunt\, Word Search\, Coloring Pages
DESCRIPTION:Stop by the Lodge to pick up coloring pages\, word searches and a scavenger hunt anytime throughout the week! \nOnce you have completed each scavenger hunt\, then bring it to the front office to get a sweet treat.
URL:https://www.redbudrvresort.com/event/scavenger-hunt-word-search-coloring-pages/2024-03-10/
END:VEVENT
BEGIN:VEVENT
DTSTART;TZID=America/North_Dakota/Center:20240309T190000
DTEND;TZID=America/North_Dakota/Center:20240309T210000
DTSTAMP:20260425T224348
CREATED:20230309T182557Z
LAST-MODIFIED:20240301T024502Z
UID:10000566-1710010800-1710018000@www.redbudrvresort.com
SUMMARY:Movie Night
DESCRIPTION:
URL:https://www.redbudrvresort.com/event/movie-night-5/2024-03-09/
END:VEVENT
BEGIN:VEVENT
DTSTART;TZID=America/North_Dakota/Center:20240309T140000
DTEND;TZID=America/North_Dakota/Center:20240309T160000
DTSTAMP:20260425T224348
CREATED:20240229T174534Z
LAST-MODIFIED:20240229T174534Z
UID:10000956-1709992800-1710000000@www.redbudrvresort.com
SUMMARY:Outdoor Games Contest
DESCRIPTION:Join us by the playground for a fun competition of outdoor games.  Hula hoop\, 3-legged red light/green light\, sack race\, water balloon toss.
URL:https://www.redbudrvresort.com/event/outdoor-games-contest/
END:VEVENT
BEGIN:VEVENT
DTSTART;TZID=America/North_Dakota/Center:20240309T110000
DTEND;TZID=America/North_Dakota/Center:20240309T120000
DTSTAMP:20260425T224348
CREATED:20240229T184758Z
LAST-MODIFIED:20240229T184902Z
UID:10000353-1709982000-1709985600@www.redbudrvresort.com
SUMMARY:Arts & Crafts
DESCRIPTION:Join Natalie in the Lodge for a fun craft hour of making your own kite!
URL:https://www.redbudrvresort.com/event/arts-crafts-6/
END:VEVENT
BEGIN:VEVENT
DTSTART;TZID=America/North_Dakota/Center:20240309T100000
DTEND;TZID=America/North_Dakota/Center:20240309T180000
DTSTAMP:20260425T224348
CREATED:20240229T175259Z
LAST-MODIFIED:20240229T184032Z
UID:10000957-1709978400-1710007200@www.redbudrvresort.com
SUMMARY:Scavenger Hunt\, Word Search\, Coloring Pages
DESCRIPTION:Stop by the Lodge to pick up coloring pages\, word searches and a scavenger hunt anytime throughout the week! \nOnce you have completed each scavenger hunt\, then bring it to the front office to get a sweet treat.
URL:https://www.redbudrvresort.com/event/scavenger-hunt-word-search-coloring-pages/2024-03-09/
END:VEVENT
BEGIN:VEVENT
DTSTART;TZID=America/North_Dakota/Center:20240308T080000
DTEND;TZID=America/North_Dakota/Center:20240314T170000
DTSTAMP:20260425T224348
CREATED:20240229T190446Z
LAST-MODIFIED:20240229T190446Z
UID:10001341-1709884800-1710435600@www.redbudrvresort.com
SUMMARY:Spring Break Celebration
DESCRIPTION:
URL:https://www.redbudrvresort.com/event/spring-break-celebration/
END:VEVENT
END:VCALENDAR