BEGIN:VCALENDAR
VERSION:2.0
PRODID:-//Redbud Ranch RV Resort - ECPv6.15.20//NONSGML v1.0//EN
CALSCALE:GREGORIAN
METHOD:PUBLISH
X-WR-CALNAME:Redbud Ranch RV Resort
X-ORIGINAL-URL:https://www.redbudrvresort.com
X-WR-CALDESC:Events for Redbud Ranch RV Resort
REFRESH-INTERVAL;VALUE=DURATION:PT1H
X-Robots-Tag:noindex
X-PUBLISHED-TTL:PT1H
BEGIN:VTIMEZONE
TZID:America/North_Dakota/Center
BEGIN:DAYLIGHT
TZOFFSETFROM:-0600
TZOFFSETTO:-0500
TZNAME:CDT
DTSTART:20230312T080000
END:DAYLIGHT
BEGIN:STANDARD
TZOFFSETFROM:-0500
TZOFFSETTO:-0600
TZNAME:CST
DTSTART:20231105T070000
END:STANDARD
BEGIN:DAYLIGHT
TZOFFSETFROM:-0600
TZOFFSETTO:-0500
TZNAME:CDT
DTSTART:20240310T080000
END:DAYLIGHT
BEGIN:STANDARD
TZOFFSETFROM:-0500
TZOFFSETTO:-0600
TZNAME:CST
DTSTART:20241103T070000
END:STANDARD
BEGIN:DAYLIGHT
TZOFFSETFROM:-0600
TZOFFSETTO:-0500
TZNAME:CDT
DTSTART:20250309T080000
END:DAYLIGHT
BEGIN:STANDARD
TZOFFSETFROM:-0500
TZOFFSETTO:-0600
TZNAME:CST
DTSTART:20251102T070000
END:STANDARD
END:VTIMEZONE
BEGIN:VEVENT
DTSTART;TZID=America/North_Dakota/Center:20240614T180000
DTEND;TZID=America/North_Dakota/Center:20240614T200000
DTSTAMP:20260425T212756
CREATED:20231214T201537Z
LAST-MODIFIED:20240503T165955Z
UID:10000847-1718388000-1718395200@www.redbudrvresort.com
SUMMARY:BINGO
DESCRIPTION:Bring the family and enjoy this free event by playing multiple games of BINGO.  There are plenty of fun prizes to be won for kids and adults!
URL:https://www.redbudrvresort.com/event/bingo-13/2024-06-14/
END:VEVENT
BEGIN:VEVENT
DTSTART;VALUE=DATE:20240614
DTEND;VALUE=DATE:20240617
DTSTAMP:20260425T212756
CREATED:20231214T211517Z
LAST-MODIFIED:20231214T211517Z
UID:10000877-1718323200-1718582399@www.redbudrvresort.com
SUMMARY:Father's Day Weekend Celebration
DESCRIPTION:Dad’s\, this weekend is all about YOU!
URL:https://www.redbudrvresort.com/event/fathers-day-weekend-celebration/
END:VEVENT
BEGIN:VEVENT
DTSTART;TZID=America/North_Dakota/Center:20240608T200000
DTEND;TZID=America/North_Dakota/Center:20240608T210000
DTSTAMP:20260425T212756
CREATED:20240301T022903Z
LAST-MODIFIED:20240423T151946Z
UID:10001357-1717876800-1717880400@www.redbudrvresort.com
SUMMARY:Movie Night
DESCRIPTION:
URL:https://www.redbudrvresort.com/event/movie-night-5-2/2024-06-08/
END:VEVENT
BEGIN:VEVENT
DTSTART;TZID=America/North_Dakota/Center:20240607T180000
DTEND;TZID=America/North_Dakota/Center:20240607T200000
DTSTAMP:20260425T212756
CREATED:20231214T201537Z
LAST-MODIFIED:20240503T165955Z
UID:10000846-1717783200-1717790400@www.redbudrvresort.com
SUMMARY:BINGO
DESCRIPTION:Bring the family and enjoy this free event by playing multiple games of BINGO.  There are plenty of fun prizes to be won for kids and adults!
URL:https://www.redbudrvresort.com/event/bingo-13/2024-06-07/
END:VEVENT
BEGIN:VEVENT
DTSTART;VALUE=DATE:20240607
DTEND;VALUE=DATE:20240610
DTSTAMP:20260425T212756
CREATED:20231214T211419Z
LAST-MODIFIED:20231214T211419Z
UID:10000876-1717718400-1717977599@www.redbudrvresort.com
SUMMARY:School's Out Luau Weekend 2
DESCRIPTION:Get ready to Hula your way into the summer as we continue celebrating it Hawaiin style!
URL:https://www.redbudrvresort.com/event/schools-out-luau-weekend-2/
END:VEVENT
BEGIN:VEVENT
DTSTART;TZID=America/North_Dakota/Center:20240601T200000
DTEND;TZID=America/North_Dakota/Center:20240601T210000
DTSTAMP:20260425T212757
CREATED:20240301T022903Z
LAST-MODIFIED:20240423T151946Z
UID:10001356-1717272000-1717275600@www.redbudrvresort.com
SUMMARY:Movie Night
DESCRIPTION:
URL:https://www.redbudrvresort.com/event/movie-night-5-2/2024-06-01/
END:VEVENT
BEGIN:VEVENT
DTSTART;TZID=America/North_Dakota/Center:20240531T180000
DTEND;TZID=America/North_Dakota/Center:20240531T200000
DTSTAMP:20260425T212757
CREATED:20231214T201537Z
LAST-MODIFIED:20240503T165955Z
UID:10000845-1717178400-1717185600@www.redbudrvresort.com
SUMMARY:BINGO
DESCRIPTION:Bring the family and enjoy this free event by playing multiple games of BINGO.  There are plenty of fun prizes to be won for kids and adults!
URL:https://www.redbudrvresort.com/event/bingo-13/2024-05-31/
END:VEVENT
BEGIN:VEVENT
DTSTART;VALUE=DATE:20240531
DTEND;VALUE=DATE:20240603
DTSTAMP:20260425T212757
CREATED:20231214T211239Z
LAST-MODIFIED:20231214T211239Z
UID:10000875-1717113600-1717372799@www.redbudrvresort.com
SUMMARY:School's Out Luau Weekend 1
DESCRIPTION:Get ready to Hula your way into the summer as we kick the weekend off Hawaiin style!
URL:https://www.redbudrvresort.com/event/schools-out-luau-weekend-1/
END:VEVENT
BEGIN:VEVENT
DTSTART;TZID=America/North_Dakota/Center:20240525T200000
DTEND;TZID=America/North_Dakota/Center:20240525T210000
DTSTAMP:20260425T212757
CREATED:20240301T022903Z
LAST-MODIFIED:20240423T151946Z
UID:10001355-1716667200-1716670800@www.redbudrvresort.com
SUMMARY:Movie Night
DESCRIPTION:
URL:https://www.redbudrvresort.com/event/movie-night-5-2/2024-05-25/
END:VEVENT
BEGIN:VEVENT
DTSTART;TZID=America/North_Dakota/Center:20240524T180000
DTEND;TZID=America/North_Dakota/Center:20240524T200000
DTSTAMP:20260425T212757
CREATED:20231214T201537Z
LAST-MODIFIED:20240503T165955Z
UID:10000844-1716573600-1716580800@www.redbudrvresort.com
SUMMARY:BINGO
DESCRIPTION:Bring the family and enjoy this free event by playing multiple games of BINGO.  There are plenty of fun prizes to be won for kids and adults!
URL:https://www.redbudrvresort.com/event/bingo-13/2024-05-24/
END:VEVENT
BEGIN:VEVENT
DTSTART;VALUE=DATE:20240524
DTEND;VALUE=DATE:20240528
DTSTAMP:20260425T212757
CREATED:20231214T174338Z
LAST-MODIFIED:20231214T210742Z
UID:10000813-1716508800-1716854399@www.redbudrvresort.com
SUMMARY:Memorial Day Weekend
DESCRIPTION:Celebrate with us with live music\, food trucks\, family games and a cornhole tournament.
URL:https://www.redbudrvresort.com/event/memorial-day-weekend-2/
END:VEVENT
BEGIN:VEVENT
DTSTART;TZID=America/North_Dakota/Center:20240518T200000
DTEND;TZID=America/North_Dakota/Center:20240518T210000
DTSTAMP:20260425T212757
CREATED:20240301T022903Z
LAST-MODIFIED:20240423T151946Z
UID:10001354-1716062400-1716066000@www.redbudrvresort.com
SUMMARY:Movie Night
DESCRIPTION:
URL:https://www.redbudrvresort.com/event/movie-night-5-2/2024-05-18/
END:VEVENT
BEGIN:VEVENT
DTSTART;TZID=America/North_Dakota/Center:20240517T180000
DTEND;TZID=America/North_Dakota/Center:20240517T200000
DTSTAMP:20260425T212757
CREATED:20231214T201537Z
LAST-MODIFIED:20240503T165955Z
UID:10000843-1715968800-1715976000@www.redbudrvresort.com
SUMMARY:BINGO
DESCRIPTION:Bring the family and enjoy this free event by playing multiple games of BINGO.  There are plenty of fun prizes to be won for kids and adults!
URL:https://www.redbudrvresort.com/event/bingo-13/2024-05-17/
END:VEVENT
BEGIN:VEVENT
DTSTART;TZID=America/North_Dakota/Center:20240514T183000
DTEND;TZID=America/North_Dakota/Center:20240514T200000
DTSTAMP:20260425T212757
CREATED:20231214T205102Z
LAST-MODIFIED:20240510T144221Z
UID:10000867-1715711400-1715716800@www.redbudrvresort.com
SUMMARY:Family Game Night
DESCRIPTION:Enjoy a fun night of playing different board games with the whole family!
URL:https://www.redbudrvresort.com/event/family-game-night-4/2024-05-14/
END:VEVENT
BEGIN:VEVENT
DTSTART;TZID=America/North_Dakota/Center:20240511T200000
DTEND;TZID=America/North_Dakota/Center:20240511T210000
DTSTAMP:20260425T212757
CREATED:20240301T022903Z
LAST-MODIFIED:20240423T151946Z
UID:10001353-1715457600-1715461200@www.redbudrvresort.com
SUMMARY:Movie Night
DESCRIPTION:
URL:https://www.redbudrvresort.com/event/movie-night-5-2/2024-05-11/
END:VEVENT
BEGIN:VEVENT
DTSTART;TZID=America/North_Dakota/Center:20240510T180000
DTEND;TZID=America/North_Dakota/Center:20240510T200000
DTSTAMP:20260425T212757
CREATED:20231214T201537Z
LAST-MODIFIED:20240503T165955Z
UID:10000842-1715364000-1715371200@www.redbudrvresort.com
SUMMARY:BINGO
DESCRIPTION:Bring the family and enjoy this free event by playing multiple games of BINGO.  There are plenty of fun prizes to be won for kids and adults!
URL:https://www.redbudrvresort.com/event/bingo-13/2024-05-10/
END:VEVENT
BEGIN:VEVENT
DTSTART;VALUE=DATE:20240510
DTEND;VALUE=DATE:20240513
DTSTAMP:20260425T212757
CREATED:20231214T205624Z
LAST-MODIFIED:20231214T205624Z
UID:10000870-1715299200-1715558399@www.redbudrvresort.com
SUMMARY:Mother's Day Weekend Celebration
DESCRIPTION:Mom’s\, this weekend is to celebrate YOU!
URL:https://www.redbudrvresort.com/event/mothers-day-weekend-celebration/
END:VEVENT
BEGIN:VEVENT
DTSTART;TZID=America/North_Dakota/Center:20240508T183000
DTEND;TZID=America/North_Dakota/Center:20240508T200000
DTSTAMP:20260425T212757
CREATED:20231214T204856Z
LAST-MODIFIED:20231214T204856Z
UID:10000865-1715193000-1715198400@www.redbudrvresort.com
SUMMARY:Wine Down Wednesday
DESCRIPTION:This Adult Only Event is the perfect way to escape from the busy week.  Bring your favorite beverage and enjoy the snacks that will be provided while socializing with fellow guests!
URL:https://www.redbudrvresort.com/event/wine-down-wednesday-7/
END:VEVENT
BEGIN:VEVENT
DTSTART;TZID=America/North_Dakota/Center:20240504T200000
DTEND;TZID=America/North_Dakota/Center:20240504T210000
DTSTAMP:20260425T212757
CREATED:20240301T022903Z
LAST-MODIFIED:20240423T151946Z
UID:10001352-1714852800-1714856400@www.redbudrvresort.com
SUMMARY:Movie Night
DESCRIPTION:
URL:https://www.redbudrvresort.com/event/movie-night-5-2/2024-05-04/
END:VEVENT
BEGIN:VEVENT
DTSTART;TZID=America/North_Dakota/Center:20240503T180000
DTEND;TZID=America/North_Dakota/Center:20240503T200000
DTSTAMP:20260425T212757
CREATED:20231214T201537Z
LAST-MODIFIED:20240503T165955Z
UID:10000841-1714759200-1714766400@www.redbudrvresort.com
SUMMARY:BINGO
DESCRIPTION:Bring the family and enjoy this free event by playing multiple games of BINGO.  There are plenty of fun prizes to be won for kids and adults!
URL:https://www.redbudrvresort.com/event/bingo-13/2024-05-03/
END:VEVENT
BEGIN:VEVENT
DTSTART;VALUE=DATE:20240503
DTEND;VALUE=DATE:20240506
DTSTAMP:20260425T212757
CREATED:20231214T205447Z
LAST-MODIFIED:20231214T205447Z
UID:10000869-1714694400-1714953599@www.redbudrvresort.com
SUMMARY:Cinco De Mayo Weekend Celebration
DESCRIPTION:Enjoy activities for the whole family!  There will be arts & crafts\, pinata fun\, and so much more!
URL:https://www.redbudrvresort.com/event/cinco-de-mayo-weekend-celebration/
END:VEVENT
BEGIN:VEVENT
DTSTART;TZID=America/North_Dakota/Center:20240430T183000
DTEND;TZID=America/North_Dakota/Center:20240430T200000
DTSTAMP:20260425T212757
CREATED:20231214T200923Z
LAST-MODIFIED:20240224T174215Z
UID:10000836-1714501800-1714507200@www.redbudrvresort.com
SUMMARY:Family Game Night
DESCRIPTION:Enjoy a fun night of playing different board games with the whole family!
URL:https://www.redbudrvresort.com/event/family-game-night-3/2024-04-30/
END:VEVENT
BEGIN:VEVENT
DTSTART;TZID=America/North_Dakota/Center:20240427T200000
DTEND;TZID=America/North_Dakota/Center:20240427T210000
DTSTAMP:20260425T212757
CREATED:20240301T022903Z
LAST-MODIFIED:20240423T151946Z
UID:10001351-1714248000-1714251600@www.redbudrvresort.com
SUMMARY:Movie Night
DESCRIPTION:
URL:https://www.redbudrvresort.com/event/movie-night-5-2/2024-04-27/
END:VEVENT
BEGIN:VEVENT
DTSTART;TZID=America/North_Dakota/Center:20240426T180000
DTEND;TZID=America/North_Dakota/Center:20240426T200000
DTSTAMP:20260425T212757
CREATED:20231214T201247Z
LAST-MODIFIED:20231214T201247Z
UID:10000840-1714154400-1714161600@www.redbudrvresort.com
SUMMARY:BINGO
DESCRIPTION:Bring the family and enjoy this free event by playing multiple games of BINGO.  There are plenty of fun prizes to be won for kids and adults!
URL:https://www.redbudrvresort.com/event/bingo-12/2024-04-26/
END:VEVENT
BEGIN:VEVENT
DTSTART;TZID=America/North_Dakota/Center:20240417T183000
DTEND;TZID=America/North_Dakota/Center:20240417T200000
DTSTAMP:20260425T212757
CREATED:20231214T200740Z
LAST-MODIFIED:20240224T174335Z
UID:10000834-1713378600-1713384000@www.redbudrvresort.com
SUMMARY:Wine Down Wednesday
DESCRIPTION:This Adult Only Event is the perfect way to escape from the busy week.  Bring your favorite beverage and enjoy the snacks that will be provided while socializing with fellow guests!
URL:https://www.redbudrvresort.com/event/wine-down-wednesday-6/2024-04-17/
END:VEVENT
BEGIN:VEVENT
DTSTART;TZID=America/North_Dakota/Center:20240413T200000
DTEND;TZID=America/North_Dakota/Center:20240413T210000
DTSTAMP:20260425T212757
CREATED:20240301T022903Z
LAST-MODIFIED:20240423T151946Z
UID:10001350-1713038400-1713042000@www.redbudrvresort.com
SUMMARY:Movie Night
DESCRIPTION:
URL:https://www.redbudrvresort.com/event/movie-night-5-2/2024-04-13/
END:VEVENT
BEGIN:VEVENT
DTSTART;TZID=America/North_Dakota/Center:20240412T180000
DTEND;TZID=America/North_Dakota/Center:20240412T200000
DTSTAMP:20260425T212757
CREATED:20231214T201247Z
LAST-MODIFIED:20231214T201247Z
UID:10000839-1712944800-1712952000@www.redbudrvresort.com
SUMMARY:BINGO
DESCRIPTION:Bring the family and enjoy this free event by playing multiple games of BINGO.  There are plenty of fun prizes to be won for kids and adults!
URL:https://www.redbudrvresort.com/event/bingo-12/2024-04-12/
END:VEVENT
BEGIN:VEVENT
DTSTART;TZID=America/North_Dakota/Center:20240408T130000
DTEND;TZID=America/North_Dakota/Center:20240408T140000
DTSTAMP:20260425T212757
CREATED:20231214T203156Z
LAST-MODIFIED:20231214T203156Z
UID:10000864-1712581200-1712584800@www.redbudrvresort.com
SUMMARY:Total Solar Eclipse Social
DESCRIPTION:Don’t miss out on this unique opportunity to witness a total solar eclipse in the company of fellow enthusiasts.  While finger foods will be provided\, don’t forget your special solar glasses!  The Eclipse will be visible in the Austin area from 1:32 pm – 1:41 pm
URL:https://www.redbudrvresort.com/event/total-solar-eclipse-social/
END:VEVENT
BEGIN:VEVENT
DTSTART;TZID=America/North_Dakota/Center:20240407T180000
DTEND;TZID=America/North_Dakota/Center:20240407T200000
DTSTAMP:20260425T212757
CREATED:20231214T202218Z
LAST-MODIFIED:20231214T202218Z
UID:10000863-1712512800-1712520000@www.redbudrvresort.com
SUMMARY:National Beer Day Social
DESCRIPTION:This Adult Only Event is the perfect way to end the weekend before the busy week begins.  Bring your favorite beer and enjoy the snacks that will be provided while socializing with fellow guests!
URL:https://www.redbudrvresort.com/event/national-beer-day-social/
END:VEVENT
BEGIN:VEVENT
DTSTART;TZID=America/North_Dakota/Center:20240406T200000
DTEND;TZID=America/North_Dakota/Center:20240406T210000
DTSTAMP:20260425T212757
CREATED:20240301T022903Z
LAST-MODIFIED:20240423T151946Z
UID:10001349-1712433600-1712437200@www.redbudrvresort.com
SUMMARY:Movie Night
DESCRIPTION:
URL:https://www.redbudrvresort.com/event/movie-night-5-2/2024-04-06/
END:VEVENT
END:VCALENDAR