BEGIN:VCALENDAR
VERSION:2.0
PRODID:-//Redbud Ranch RV Resort - ECPv6.15.20//NONSGML v1.0//EN
CALSCALE:GREGORIAN
METHOD:PUBLISH
X-WR-CALNAME:Redbud Ranch RV Resort
X-ORIGINAL-URL:https://www.redbudrvresort.com
X-WR-CALDESC:Events for Redbud Ranch RV Resort
REFRESH-INTERVAL;VALUE=DURATION:PT1H
X-Robots-Tag:noindex
X-PUBLISHED-TTL:PT1H
BEGIN:VTIMEZONE
TZID:America/North_Dakota/Center
BEGIN:DAYLIGHT
TZOFFSETFROM:-0600
TZOFFSETTO:-0500
TZNAME:CDT
DTSTART:20230312T080000
END:DAYLIGHT
BEGIN:STANDARD
TZOFFSETFROM:-0500
TZOFFSETTO:-0600
TZNAME:CST
DTSTART:20231105T070000
END:STANDARD
BEGIN:DAYLIGHT
TZOFFSETFROM:-0600
TZOFFSETTO:-0500
TZNAME:CDT
DTSTART:20240310T080000
END:DAYLIGHT
BEGIN:STANDARD
TZOFFSETFROM:-0500
TZOFFSETTO:-0600
TZNAME:CST
DTSTART:20241103T070000
END:STANDARD
BEGIN:DAYLIGHT
TZOFFSETFROM:-0600
TZOFFSETTO:-0500
TZNAME:CDT
DTSTART:20250309T080000
END:DAYLIGHT
BEGIN:STANDARD
TZOFFSETFROM:-0500
TZOFFSETTO:-0600
TZNAME:CST
DTSTART:20251102T070000
END:STANDARD
BEGIN:DAYLIGHT
TZOFFSETFROM:-0600
TZOFFSETTO:-0500
TZNAME:CDT
DTSTART:20260308T080000
END:DAYLIGHT
BEGIN:STANDARD
TZOFFSETFROM:-0500
TZOFFSETTO:-0600
TZNAME:CST
DTSTART:20261101T070000
END:STANDARD
END:VTIMEZONE
BEGIN:VEVENT
DTSTART;TZID=America/North_Dakota/Center:20250118T110000
DTEND;TZID=America/North_Dakota/Center:20250118T123000
DTSTAMP:20260425T112028
CREATED:20241222T160341Z
LAST-MODIFIED:20241222T160341Z
UID:10001924-1737198000-1737203400@www.redbudrvresort.com
SUMMARY:Craft Time @ 11 AM
DESCRIPTION:Join us in The Lodge for craft time activities.
URL:https://www.redbudrvresort.com/event/craft-time-11-am/2025-01-18/
END:VEVENT
BEGIN:VEVENT
DTSTART;TZID=America/North_Dakota/Center:20250117T180000
DTEND;TZID=America/North_Dakota/Center:20250117T190000
DTSTAMP:20260425T112028
CREATED:20250109T220647Z
LAST-MODIFIED:20250109T220648Z
UID:10002409-1737136800-1737140400@www.redbudrvresort.com
SUMMARY:BINGO
DESCRIPTION:Join us on Friday’s at 6 pm in The Lodge for BINGO – fun for the whole family!
URL:https://www.redbudrvresort.com/event/bingo-21-4/
END:VEVENT
BEGIN:VEVENT
DTSTART;TZID=America/North_Dakota/Center:20250111T190000
DTEND;TZID=America/North_Dakota/Center:20250111T210000
DTSTAMP:20260425T112028
CREATED:20241018T171555Z
LAST-MODIFIED:20250109T155358Z
UID:10001653-1736622000-1736629200@www.redbudrvresort.com
SUMMARY:Movie Night
DESCRIPTION:
URL:https://www.redbudrvresort.com/event/movie-night-5-2-2/2025-01-11/
END:VEVENT
BEGIN:VEVENT
DTSTART;TZID=America/North_Dakota/Center:20250111T110000
DTEND;TZID=America/North_Dakota/Center:20250111T123000
DTSTAMP:20260425T112028
CREATED:20241222T160341Z
LAST-MODIFIED:20241222T160341Z
UID:10001923-1736593200-1736598600@www.redbudrvresort.com
SUMMARY:Craft Time @ 11 AM
DESCRIPTION:Join us in The Lodge for craft time activities.
URL:https://www.redbudrvresort.com/event/craft-time-11-am/2025-01-11/
END:VEVENT
BEGIN:VEVENT
DTSTART;TZID=America/North_Dakota/Center:20250110T180000
DTEND;TZID=America/North_Dakota/Center:20250110T190000
DTSTAMP:20260425T112028
CREATED:20250109T220530Z
LAST-MODIFIED:20250109T220530Z
UID:10001918-1736532000-1736535600@www.redbudrvresort.com
SUMMARY:BINGO
DESCRIPTION:Join us on Friday’s at 6 pm in The Lodge for BINGO – fun for the whole family!
URL:https://www.redbudrvresort.com/event/bingo-21-3/
END:VEVENT
BEGIN:VEVENT
DTSTART;TZID=America/North_Dakota/Center:20250105T130000
DTEND;TZID=America/North_Dakota/Center:20250105T133000
DTSTAMP:20260425T112028
CREATED:20241222T160516Z
LAST-MODIFIED:20241222T160516Z
UID:10001926-1736082000-1736083800@www.redbudrvresort.com
SUMMARY:Polar Plunge
DESCRIPTION:Join us at the pool for our annual Polar Plunge!
URL:https://www.redbudrvresort.com/event/polar-plunge-2/
END:VEVENT
BEGIN:VEVENT
DTSTART;TZID=America/North_Dakota/Center:20250104T190000
DTEND;TZID=America/North_Dakota/Center:20250104T210000
DTSTAMP:20260425T112028
CREATED:20241018T171555Z
LAST-MODIFIED:20250109T155358Z
UID:10001652-1736017200-1736024400@www.redbudrvresort.com
SUMMARY:Movie Night
DESCRIPTION:
URL:https://www.redbudrvresort.com/event/movie-night-5-2-2/2025-01-04/
END:VEVENT
BEGIN:VEVENT
DTSTART;TZID=America/North_Dakota/Center:20250104T110000
DTEND;TZID=America/North_Dakota/Center:20250104T123000
DTSTAMP:20260425T112028
CREATED:20241222T160341Z
LAST-MODIFIED:20241222T160341Z
UID:10001922-1735988400-1735993800@www.redbudrvresort.com
SUMMARY:Craft Time @ 11 AM
DESCRIPTION:Join us in The Lodge for craft time activities.
URL:https://www.redbudrvresort.com/event/craft-time-11-am/2025-01-04/
END:VEVENT
BEGIN:VEVENT
DTSTART;TZID=America/North_Dakota/Center:20250103T180000
DTEND;TZID=America/North_Dakota/Center:20250103T190000
DTSTAMP:20260425T112028
CREATED:20241222T161141Z
LAST-MODIFIED:20241222T161322Z
UID:10001927-1735927200-1735930800@www.redbudrvresort.com
SUMMARY:BINGO
DESCRIPTION:Join us on Friday’s at 6 pm in The Lodge for BINGO – fun for the whole family!
URL:https://www.redbudrvresort.com/event/bingo-21-2/2025-01-03/
END:VEVENT
BEGIN:VEVENT
DTSTART;VALUE=DATE:20241231
DTEND;VALUE=DATE:20250101
DTSTAMP:20260425T112028
CREATED:20241122T211009Z
LAST-MODIFIED:20241122T211009Z
UID:10001916-1735603200-1735689599@www.redbudrvresort.com
SUMMARY:NEW YEAR'S EVE
DESCRIPTION:Office closing today at 1 PM
URL:https://www.redbudrvresort.com/event/new-years-eve/
END:VEVENT
BEGIN:VEVENT
DTSTART;TZID=America/North_Dakota/Center:20241228T190000
DTEND;TZID=America/North_Dakota/Center:20241228T210000
DTSTAMP:20260425T112028
CREATED:20241018T171555Z
LAST-MODIFIED:20250109T155358Z
UID:10001651-1735412400-1735419600@www.redbudrvresort.com
SUMMARY:Movie Night
DESCRIPTION:
URL:https://www.redbudrvresort.com/event/movie-night-5-2-2/2024-12-28/
END:VEVENT
BEGIN:VEVENT
DTSTART;TZID=America/North_Dakota/Center:20241228T110000
DTEND;TZID=America/North_Dakota/Center:20241228T120000
DTSTAMP:20260425T112028
CREATED:20241122T210850Z
LAST-MODIFIED:20241122T210850Z
UID:10001915-1735383600-1735387200@www.redbudrvresort.com
SUMMARY:Craft
DESCRIPTION:Head to the lodge @ 11 AM for a New Year’s craftivity!
URL:https://www.redbudrvresort.com/event/craft/
END:VEVENT
BEGIN:VEVENT
DTSTART;TZID=America/North_Dakota/Center:20241227T180000
DTEND;TZID=America/North_Dakota/Center:20241227T190000
DTSTAMP:20260425T112028
CREATED:20241222T161141Z
LAST-MODIFIED:20241222T161322Z
UID:10001917-1735322400-1735326000@www.redbudrvresort.com
SUMMARY:BINGO
DESCRIPTION:Join us on Friday’s at 6 pm in The Lodge for BINGO – fun for the whole family!
URL:https://www.redbudrvresort.com/event/bingo-21-2/2024-12-27/
END:VEVENT
BEGIN:VEVENT
DTSTART;VALUE=DATE:20241225
DTEND;VALUE=DATE:20241226
DTSTAMP:20260425T112028
CREATED:20241018T171256Z
LAST-MODIFIED:20241018T171357Z
UID:10001643-1735113600-1735156800@www.redbudrvresort.com
SUMMARY:Office Closed
DESCRIPTION:For our staff to spend time with their families the office will be closed.
URL:https://www.redbudrvresort.com/event/office-closed/2024-12-25/
END:VEVENT
BEGIN:VEVENT
DTSTART;VALUE=DATE:20241225
DTEND;VALUE=DATE:20241226
DTSTAMP:20260425T112028
CREATED:20231115T160951Z
LAST-MODIFIED:20231214T223124Z
UID:10000921-1735084800-1735171199@www.redbudrvresort.com
SUMMARY:Merry Christmas
DESCRIPTION:Office Closed
URL:https://www.redbudrvresort.com/event/merry-christmas/2024-12-25/
END:VEVENT
BEGIN:VEVENT
DTSTART;VALUE=DATE:20241224
DTEND;VALUE=DATE:20241225
DTSTAMP:20260425T112028
CREATED:20241122T210654Z
LAST-MODIFIED:20241122T210654Z
UID:10000917-1734998400-1735084799@www.redbudrvresort.com
SUMMARY:Christmas Eve
DESCRIPTION:Office closing at 1 PM.
URL:https://www.redbudrvresort.com/event/christmas-eve-2/
END:VEVENT
BEGIN:VEVENT
DTSTART;TZID=America/North_Dakota/Center:20241221T190000
DTEND;TZID=America/North_Dakota/Center:20241221T210000
DTSTAMP:20260425T112028
CREATED:20241018T171555Z
LAST-MODIFIED:20250109T155358Z
UID:10001650-1734807600-1734814800@www.redbudrvresort.com
SUMMARY:Movie Night
DESCRIPTION:
URL:https://www.redbudrvresort.com/event/movie-night-5-2-2/2024-12-21/
END:VEVENT
BEGIN:VEVENT
DTSTART;TZID=America/North_Dakota/Center:20241214T190000
DTEND;TZID=America/North_Dakota/Center:20241214T210000
DTSTAMP:20260425T112028
CREATED:20241018T171555Z
LAST-MODIFIED:20250109T155358Z
UID:10001649-1734202800-1734210000@www.redbudrvresort.com
SUMMARY:Movie Night
DESCRIPTION:
URL:https://www.redbudrvresort.com/event/movie-night-5-2-2/2024-12-14/
END:VEVENT
BEGIN:VEVENT
DTSTART;TZID=America/North_Dakota/Center:20241207T190000
DTEND;TZID=America/North_Dakota/Center:20241207T210000
DTSTAMP:20260425T112028
CREATED:20241018T171555Z
LAST-MODIFIED:20250109T155358Z
UID:10001648-1733598000-1733605200@www.redbudrvresort.com
SUMMARY:Movie Night
DESCRIPTION:
URL:https://www.redbudrvresort.com/event/movie-night-5-2-2/2024-12-07/
END:VEVENT
BEGIN:VEVENT
DTSTART;TZID=America/North_Dakota/Center:20241130T190000
DTEND;TZID=America/North_Dakota/Center:20241130T210000
DTSTAMP:20260425T112028
CREATED:20241018T171555Z
LAST-MODIFIED:20250109T155358Z
UID:10001647-1732993200-1733000400@www.redbudrvresort.com
SUMMARY:Movie Night
DESCRIPTION:
URL:https://www.redbudrvresort.com/event/movie-night-5-2-2/2024-11-30/
END:VEVENT
BEGIN:VEVENT
DTSTART;TZID=America/North_Dakota/Center:20241129T190000
DTEND;TZID=America/North_Dakota/Center:20241129T210000
DTSTAMP:20260425T112028
CREATED:20241018T171555Z
LAST-MODIFIED:20250109T155358Z
UID:10001905-1732906800-1732914000@www.redbudrvresort.com
SUMMARY:Movie Night
DESCRIPTION:
URL:https://www.redbudrvresort.com/event/movie-night-5-2-2/2024-11-29/
END:VEVENT
BEGIN:VEVENT
DTSTART;TZID=America/North_Dakota/Center:20241129T080000
DTEND;TZID=America/North_Dakota/Center:20241129T180000
DTSTAMP:20260425T112028
CREATED:20241104T162941Z
LAST-MODIFIED:20241104T162941Z
UID:10001910-1732867200-1732903200@www.redbudrvresort.com
SUMMARY:Office Hours
DESCRIPTION:Our office will close at 1 pm today!
URL:https://www.redbudrvresort.com/event/office-hours/
END:VEVENT
BEGIN:VEVENT
DTSTART;VALUE=DATE:20241128
DTEND;VALUE=DATE:20241129
DTSTAMP:20260425T112028
CREATED:20241018T171256Z
LAST-MODIFIED:20241018T171357Z
UID:10001641-1732752000-1732838399@www.redbudrvresort.com
SUMMARY:Office Closed
DESCRIPTION:For our staff to spend time with their families the office will be closed.
URL:https://www.redbudrvresort.com/event/office-closed/2024-11-28/
END:VEVENT
BEGIN:VEVENT
DTSTART;VALUE=DATE:20241128
DTEND;VALUE=DATE:20241129
DTSTAMP:20260425T112028
CREATED:20231021T184514Z
LAST-MODIFIED:20231214T223227Z
UID:10000925-1732752000-1732838399@www.redbudrvresort.com
SUMMARY:Thanksgiving
DESCRIPTION:Happy Thanksgiving! Our office is closed to our staff can enjoy time with their families.
URL:https://www.redbudrvresort.com/event/thanksgiving/2024-11-28/
END:VEVENT
BEGIN:VEVENT
DTSTART;VALUE=DATE:20241127
DTEND;VALUE=DATE:20241128
DTSTAMP:20260425T112028
CREATED:20241018T173451Z
LAST-MODIFIED:20241018T173451Z
UID:10001908-1732665600-1732751999@www.redbudrvresort.com
SUMMARY:Early Closure
DESCRIPTION:Office closing at 1 pm today!
URL:https://www.redbudrvresort.com/event/early-closure/
END:VEVENT
BEGIN:VEVENT
DTSTART;TZID=America/North_Dakota/Center:20241123T190000
DTEND;TZID=America/North_Dakota/Center:20241123T210000
DTSTAMP:20260425T112028
CREATED:20241018T171555Z
LAST-MODIFIED:20250109T155358Z
UID:10001929-1732388400-1732395600@www.redbudrvresort.com
SUMMARY:Movie Night
DESCRIPTION:
URL:https://www.redbudrvresort.com/event/movie-night-5-2-2/2024-11-23/
END:VEVENT
BEGIN:VEVENT
DTSTART;TZID=America/North_Dakota/Center:20241123T180000
DTEND;TZID=America/North_Dakota/Center:20241123T193000
DTSTAMP:20260425T112028
CREATED:20231214T221507Z
LAST-MODIFIED:20241018T172144Z
UID:10000909-1732384800-1732390200@www.redbudrvresort.com
SUMMARY:Redbud Thanksgiving Potluck
DESCRIPTION:Kick off the holiday season with us.  Bring a side dish to share with other guests!  Meats will be provided.
URL:https://www.redbudrvresort.com/event/redbud-campsgiving-weekend/
END:VEVENT
BEGIN:VEVENT
DTSTART;TZID=America/North_Dakota/Center:20241122T180000
DTEND;TZID=America/North_Dakota/Center:20241122T200000
DTSTAMP:20260425T112028
CREATED:20231214T220637Z
LAST-MODIFIED:20241018T170607Z
UID:10001638-1732298400-1732305600@www.redbudrvresort.com
SUMMARY:BINGO
DESCRIPTION:Bring the family and enjoy this free event by playing multiple games of BINGO.  There are plenty of fun prizes to be won for kids and adults!
URL:https://www.redbudrvresort.com/event/bingo-15/2024-11-22/
END:VEVENT
BEGIN:VEVENT
DTSTART;TZID=America/North_Dakota/Center:20241116T190000
DTEND;TZID=America/North_Dakota/Center:20241116T210000
DTSTAMP:20260425T112028
CREATED:20241018T171555Z
LAST-MODIFIED:20250109T155358Z
UID:10001645-1731783600-1731790800@www.redbudrvresort.com
SUMMARY:Movie Night
DESCRIPTION:
URL:https://www.redbudrvresort.com/event/movie-night-5-2-2/2024-11-16/
END:VEVENT
BEGIN:VEVENT
DTSTART;TZID=America/North_Dakota/Center:20241115T180000
DTEND;TZID=America/North_Dakota/Center:20241115T200000
DTSTAMP:20260425T112028
CREATED:20231214T220637Z
LAST-MODIFIED:20241018T170607Z
UID:10000903-1731693600-1731700800@www.redbudrvresort.com
SUMMARY:BINGO
DESCRIPTION:Bring the family and enjoy this free event by playing multiple games of BINGO.  There are plenty of fun prizes to be won for kids and adults!
URL:https://www.redbudrvresort.com/event/bingo-15/2024-11-15/
END:VEVENT
END:VCALENDAR