BEGIN:VCALENDAR
VERSION:2.0
PRODID:-//Redbud Ranch RV Resort - ECPv6.15.20//NONSGML v1.0//EN
CALSCALE:GREGORIAN
METHOD:PUBLISH
X-WR-CALNAME:Redbud Ranch RV Resort
X-ORIGINAL-URL:https://www.redbudrvresort.com
X-WR-CALDESC:Events for Redbud Ranch RV Resort
REFRESH-INTERVAL;VALUE=DURATION:PT1H
X-Robots-Tag:noindex
X-PUBLISHED-TTL:PT1H
BEGIN:VTIMEZONE
TZID:America/North_Dakota/Center
BEGIN:DAYLIGHT
TZOFFSETFROM:-0600
TZOFFSETTO:-0500
TZNAME:CDT
DTSTART:20230312T080000
END:DAYLIGHT
BEGIN:STANDARD
TZOFFSETFROM:-0500
TZOFFSETTO:-0600
TZNAME:CST
DTSTART:20231105T070000
END:STANDARD
BEGIN:DAYLIGHT
TZOFFSETFROM:-0600
TZOFFSETTO:-0500
TZNAME:CDT
DTSTART:20240310T080000
END:DAYLIGHT
BEGIN:STANDARD
TZOFFSETFROM:-0500
TZOFFSETTO:-0600
TZNAME:CST
DTSTART:20241103T070000
END:STANDARD
BEGIN:DAYLIGHT
TZOFFSETFROM:-0600
TZOFFSETTO:-0500
TZNAME:CDT
DTSTART:20250309T080000
END:DAYLIGHT
BEGIN:STANDARD
TZOFFSETFROM:-0500
TZOFFSETTO:-0600
TZNAME:CST
DTSTART:20251102T070000
END:STANDARD
END:VTIMEZONE
BEGIN:VEVENT
DTSTART;TZID=America/North_Dakota/Center:20240824T150000
DTEND;TZID=America/North_Dakota/Center:20240824T200000
DTSTAMP:20260425T172529
CREATED:20240803T202637Z
LAST-MODIFIED:20240803T202637Z
UID:10001622-1724511600-1724529600@www.redbudrvresort.com
SUMMARY:Cornhole Tourney
DESCRIPTION:Join us out by the pool at the Cornhole area for a fun\, friendly tournament.  Sign up at 3 pm and tournament will start shortly after!
URL:https://www.redbudrvresort.com/event/cornhole-tourney/
END:VEVENT
BEGIN:VEVENT
DTSTART;TZID=America/North_Dakota/Center:20240823T180000
DTEND;TZID=America/North_Dakota/Center:20240823T200000
DTSTAMP:20260425T172529
CREATED:20231214T201537Z
LAST-MODIFIED:20240503T165955Z
UID:10000857-1724436000-1724443200@www.redbudrvresort.com
SUMMARY:BINGO
DESCRIPTION:Bring the family and enjoy this free event by playing multiple games of BINGO.  There are plenty of fun prizes to be won for kids and adults!
URL:https://www.redbudrvresort.com/event/bingo-13/2024-08-23/
END:VEVENT
BEGIN:VEVENT
DTSTART;TZID=America/North_Dakota/Center:20240821T183000
DTEND;TZID=America/North_Dakota/Center:20240821T200000
DTSTAMP:20260425T172529
CREATED:20231214T212142Z
LAST-MODIFIED:20240224T174809Z
UID:10000951-1724265000-1724270400@www.redbudrvresort.com
SUMMARY:Wine Down Wednesday
DESCRIPTION:This Adult Only Event is the perfect way to escape from the busy week.  Bring your favorite beverage and enjoy the snacks that will be provided while socializing with fellow guests!
URL:https://www.redbudrvresort.com/event/wine-down-wednesday-8/2024-08-21/
END:VEVENT
BEGIN:VEVENT
DTSTART;TZID=America/North_Dakota/Center:20240817T200000
DTEND;TZID=America/North_Dakota/Center:20240817T213000
DTSTAMP:20260425T172529
CREATED:20240803T184149Z
LAST-MODIFIED:20240803T184230Z
UID:10001620-1723924800-1723930200@www.redbudrvresort.com
SUMMARY:Movie Night
DESCRIPTION:Join us poolside (weather permitting) for this week’s movie night!
URL:https://www.redbudrvresort.com/event/movie-night-10/
END:VEVENT
BEGIN:VEVENT
DTSTART;TZID=America/North_Dakota/Center:20240817T150000
DTEND;TZID=America/North_Dakota/Center:20240817T170000
DTSTAMP:20260425T172529
CREATED:20240816T154421Z
LAST-MODIFIED:20240816T154421Z
UID:10001624-1723906800-1723914000@www.redbudrvresort.com
SUMMARY:Bubble Bash Fun
DESCRIPTION:Join us at the pool for Back to School Bubble Bash Fun!  It is sure to be a “popping” good time!
URL:https://www.redbudrvresort.com/event/bubble-bash-fun/
END:VEVENT
BEGIN:VEVENT
DTSTART;TZID=America/North_Dakota/Center:20240816T200000
DTEND;TZID=America/North_Dakota/Center:20240816T213000
DTSTAMP:20260425T172529
CREATED:20240816T153809Z
LAST-MODIFIED:20240816T153809Z
UID:10001623-1723838400-1723843800@www.redbudrvresort.com
SUMMARY:Bonus Movie Night!
DESCRIPTION:We will be having a BONUS MOVIE NIGHT at the pool tonight!  Float around\, relax\, lounge on the chair and enjoy a family friendly movie! 8 pm
URL:https://www.redbudrvresort.com/event/bonus-movie-night/
END:VEVENT
BEGIN:VEVENT
DTSTART;VALUE=DATE:20240816
DTEND;VALUE=DATE:20240819
DTSTAMP:20260425T172529
CREATED:20231214T214520Z
LAST-MODIFIED:20231214T214520Z
UID:10000891-1723766400-1724025599@www.redbudrvresort.com
SUMMARY:Back 2 School Bubble Bash Weekend
DESCRIPTION:From making’ bubbles to blowing bubbles\, this weekend will be bubbles of fun!
URL:https://www.redbudrvresort.com/event/back-2-school-bubble-bash-weekend/
END:VEVENT
BEGIN:VEVENT
DTSTART;TZID=America/North_Dakota/Center:20240810T200000
DTEND;TZID=America/North_Dakota/Center:20240810T210000
DTSTAMP:20260425T172529
CREATED:20240301T022903Z
LAST-MODIFIED:20240423T151946Z
UID:10001366-1723320000-1723323600@www.redbudrvresort.com
SUMMARY:Movie Night
DESCRIPTION:
URL:https://www.redbudrvresort.com/event/movie-night-5-2/2024-08-10/
END:VEVENT
BEGIN:VEVENT
DTSTART;TZID=America/North_Dakota/Center:20240809T180000
DTEND;TZID=America/North_Dakota/Center:20240809T200000
DTSTAMP:20260425T172529
CREATED:20231214T201537Z
LAST-MODIFIED:20240503T165955Z
UID:10000855-1723226400-1723233600@www.redbudrvresort.com
SUMMARY:BINGO
DESCRIPTION:Bring the family and enjoy this free event by playing multiple games of BINGO.  There are plenty of fun prizes to be won for kids and adults!
URL:https://www.redbudrvresort.com/event/bingo-13/2024-08-09/
END:VEVENT
BEGIN:VEVENT
DTSTART;VALUE=DATE:20240809
DTEND;VALUE=DATE:20240812
DTSTAMP:20260425T172529
CREATED:20231214T214329Z
LAST-MODIFIED:20231214T214329Z
UID:10000890-1723161600-1723420799@www.redbudrvresort.com
SUMMARY:The Ultimate Water Wars Weekend
DESCRIPTION:Don’t get left dry this weekend!  Bring your supersonic blaster and enjoy activities that will for sure get you soaked!
URL:https://www.redbudrvresort.com/event/the-ultimate-water-wars-weekend/
END:VEVENT
BEGIN:VEVENT
DTSTART;TZID=America/North_Dakota/Center:20240803T200000
DTEND;TZID=America/North_Dakota/Center:20240803T210000
DTSTAMP:20260425T172529
CREATED:20240301T022903Z
LAST-MODIFIED:20240423T151946Z
UID:10001365-1722715200-1722718800@www.redbudrvresort.com
SUMMARY:Movie Night
DESCRIPTION:
URL:https://www.redbudrvresort.com/event/movie-night-5-2/2024-08-03/
END:VEVENT
BEGIN:VEVENT
DTSTART;TZID=America/North_Dakota/Center:20240802T180000
DTEND;TZID=America/North_Dakota/Center:20240802T200000
DTSTAMP:20260425T172529
CREATED:20231214T201537Z
LAST-MODIFIED:20240503T165955Z
UID:10000854-1722621600-1722628800@www.redbudrvresort.com
SUMMARY:BINGO
DESCRIPTION:Bring the family and enjoy this free event by playing multiple games of BINGO.  There are plenty of fun prizes to be won for kids and adults!
URL:https://www.redbudrvresort.com/event/bingo-13/2024-08-02/
END:VEVENT
BEGIN:VEVENT
DTSTART;VALUE=DATE:20240802
DTEND;VALUE=DATE:20240805
DTSTAMP:20260425T172529
CREATED:20231214T214125Z
LAST-MODIFIED:20231214T214125Z
UID:10000889-1722556800-1722815999@www.redbudrvresort.com
SUMMARY:Takin' It Back to the 80's Weekend
DESCRIPTION:Dress up in your best 80’s outfit\, enjoy fun activities\, and join in on our 80’s dance party!
URL:https://www.redbudrvresort.com/event/takin-it-back-to-the-80s-weekend/
END:VEVENT
BEGIN:VEVENT
DTSTART;TZID=America/North_Dakota/Center:20240729T183000
DTEND;TZID=America/North_Dakota/Center:20240729T200000
DTSTAMP:20260425T172529
CREATED:20231214T212311Z
LAST-MODIFIED:20231214T212311Z
UID:10000882-1722277800-1722283200@www.redbudrvresort.com
SUMMARY:Family Game Night
DESCRIPTION:Enjoy a fun night of playing different board games with the whole family!
URL:https://www.redbudrvresort.com/event/family-game-night-5/2024-07-29/
END:VEVENT
BEGIN:VEVENT
DTSTART;TZID=America/North_Dakota/Center:20240727T200000
DTEND;TZID=America/North_Dakota/Center:20240727T210000
DTSTAMP:20260425T172529
CREATED:20240301T022903Z
LAST-MODIFIED:20240423T151946Z
UID:10001364-1722110400-1722114000@www.redbudrvresort.com
SUMMARY:Movie Night
DESCRIPTION:
URL:https://www.redbudrvresort.com/event/movie-night-5-2/2024-07-27/
END:VEVENT
BEGIN:VEVENT
DTSTART;TZID=America/North_Dakota/Center:20240727T150000
DTEND;TZID=America/North_Dakota/Center:20240727T160000
DTSTAMP:20260425T172529
CREATED:20240724T162336Z
LAST-MODIFIED:20240724T162336Z
UID:10001619-1722092400-1722096000@www.redbudrvresort.com
SUMMARY:Kona Ice
DESCRIPTION:Kona Ice is coming back to Redbud Ranch!  Today from 3-4 pm!  If you got a souvenir cup last visit\, bring it with you!
URL:https://www.redbudrvresort.com/event/kona-ice-4/
END:VEVENT
BEGIN:VEVENT
DTSTART;TZID=America/North_Dakota/Center:20240726T180000
DTEND;TZID=America/North_Dakota/Center:20240726T200000
DTSTAMP:20260425T172529
CREATED:20231214T201537Z
LAST-MODIFIED:20240503T165955Z
UID:10000853-1722016800-1722024000@www.redbudrvresort.com
SUMMARY:BINGO
DESCRIPTION:Bring the family and enjoy this free event by playing multiple games of BINGO.  There are plenty of fun prizes to be won for kids and adults!
URL:https://www.redbudrvresort.com/event/bingo-13/2024-07-26/
END:VEVENT
BEGIN:VEVENT
DTSTART;TZID=America/North_Dakota/Center:20240721T140000
DTEND;TZID=America/North_Dakota/Center:20240721T150000
DTSTAMP:20260425T172529
CREATED:20231214T212552Z
LAST-MODIFIED:20231214T212552Z
UID:10000884-1721570400-1721574000@www.redbudrvresort.com
SUMMARY:National Ice Cream Day Social
DESCRIPTION:Bring the whole family to enjoy this free event by building your own ice cream bowl with different toppings!
URL:https://www.redbudrvresort.com/event/national-ice-cream-day-social/
END:VEVENT
BEGIN:VEVENT
DTSTART;TZID=America/North_Dakota/Center:20240720T200000
DTEND;TZID=America/North_Dakota/Center:20240720T210000
DTSTAMP:20260425T172529
CREATED:20240301T022903Z
LAST-MODIFIED:20240423T151946Z
UID:10001363-1721505600-1721509200@www.redbudrvresort.com
SUMMARY:Movie Night
DESCRIPTION:
URL:https://www.redbudrvresort.com/event/movie-night-5-2/2024-07-20/
END:VEVENT
BEGIN:VEVENT
DTSTART;TZID=America/North_Dakota/Center:20240720T140000
DTEND;TZID=America/North_Dakota/Center:20240720T160000
DTSTAMP:20260425T172529
CREATED:20240627T145353Z
LAST-MODIFIED:20240627T145646Z
UID:10001615-1721484000-1721491200@www.redbudrvresort.com
SUMMARY:KONA ICE
DESCRIPTION:KONA ICE is coming to Redbud Ranch!  Come enjoy a cool Kona treat near the pool from 2-4pm!  There are three sizes $3\, $4\, and $6 and many flavors to choose from.
URL:https://www.redbudrvresort.com/event/kona-ice-3/
END:VEVENT
BEGIN:VEVENT
DTSTART;TZID=America/North_Dakota/Center:20240719T180000
DTEND;TZID=America/North_Dakota/Center:20240719T200000
DTSTAMP:20260425T172529
CREATED:20231214T201537Z
LAST-MODIFIED:20240503T165955Z
UID:10000852-1721412000-1721419200@www.redbudrvresort.com
SUMMARY:BINGO
DESCRIPTION:Bring the family and enjoy this free event by playing multiple games of BINGO.  There are plenty of fun prizes to be won for kids and adults!
URL:https://www.redbudrvresort.com/event/bingo-13/2024-07-19/
END:VEVENT
BEGIN:VEVENT
DTSTART;VALUE=DATE:20240719
DTEND;VALUE=DATE:20240722
DTSTAMP:20260425T172529
CREATED:20231214T213327Z
LAST-MODIFIED:20231214T213327Z
UID:10000886-1721347200-1721606399@www.redbudrvresort.com
SUMMARY:Life is Sweet Weekend
DESCRIPTION:Sweetin up your weekend at Redbud Ranch as multiple activities will be planned for the whole family to enjoy!
URL:https://www.redbudrvresort.com/event/life-is-sweet-weekend-2/
END:VEVENT
BEGIN:VEVENT
DTSTART;TZID=America/North_Dakota/Center:20240717T183000
DTEND;TZID=America/North_Dakota/Center:20240717T200000
DTSTAMP:20260425T172529
CREATED:20231214T212142Z
LAST-MODIFIED:20240224T174809Z
UID:10000880-1721241000-1721246400@www.redbudrvresort.com
SUMMARY:Wine Down Wednesday
DESCRIPTION:This Adult Only Event is the perfect way to escape from the busy week.  Bring your favorite beverage and enjoy the snacks that will be provided while socializing with fellow guests!
URL:https://www.redbudrvresort.com/event/wine-down-wednesday-8/2024-07-17/
END:VEVENT
BEGIN:VEVENT
DTSTART;TZID=America/North_Dakota/Center:20240713T200000
DTEND;TZID=America/North_Dakota/Center:20240713T220000
DTSTAMP:20260425T172529
CREATED:20240710T140530Z
LAST-MODIFIED:20240710T140530Z
UID:10001618-1720900800-1720908000@www.redbudrvresort.com
SUMMARY:JAWS Night 2
DESCRIPTION:Will you back in the water for night 2?  Join us at the pool for Jaws Night 2!
URL:https://www.redbudrvresort.com/event/jaws-night-2/
END:VEVENT
BEGIN:VEVENT
DTSTART;TZID=America/North_Dakota/Center:20240713T200000
DTEND;TZID=America/North_Dakota/Center:20240713T210000
DTSTAMP:20260425T172529
CREATED:20240301T022903Z
LAST-MODIFIED:20240423T151946Z
UID:10001903-1720900800-1720904400@www.redbudrvresort.com
SUMMARY:Movie Night
DESCRIPTION:
URL:https://www.redbudrvresort.com/event/movie-night-5-2/2024-07-13/
END:VEVENT
BEGIN:VEVENT
DTSTART;TZID=America/North_Dakota/Center:20240713T120000
DTEND;TZID=America/North_Dakota/Center:20240713T150000
DTSTAMP:20260425T172529
CREATED:20240620T200450Z
LAST-MODIFIED:20240620T200450Z
UID:10001613-1720872000-1720882800@www.redbudrvresort.com
SUMMARY:O's Chop House Food Truck
DESCRIPTION:Join us at site 206 for BBQ from O’s Chop House!
URL:https://www.redbudrvresort.com/event/os-chop-house-food-truck/
END:VEVENT
BEGIN:VEVENT
DTSTART;TZID=America/North_Dakota/Center:20240712T200000
DTEND;TZID=America/North_Dakota/Center:20240712T220000
DTSTAMP:20260425T172529
CREATED:20240710T140428Z
LAST-MODIFIED:20240710T140428Z
UID:10001617-1720814400-1720821600@www.redbudrvresort.com
SUMMARY:JAWS Night 1
DESCRIPTION:Will you go in the water?  Join us in the pool for Jaws Night 1.
URL:https://www.redbudrvresort.com/event/jaws-night-1/
END:VEVENT
BEGIN:VEVENT
DTSTART;TZID=America/North_Dakota/Center:20240712T180000
DTEND;TZID=America/North_Dakota/Center:20240712T200000
DTSTAMP:20260425T172529
CREATED:20231214T201537Z
LAST-MODIFIED:20240503T165955Z
UID:10000851-1720807200-1720814400@www.redbudrvresort.com
SUMMARY:BINGO
DESCRIPTION:Bring the family and enjoy this free event by playing multiple games of BINGO.  There are plenty of fun prizes to be won for kids and adults!
URL:https://www.redbudrvresort.com/event/bingo-13/2024-07-12/
END:VEVENT
BEGIN:VEVENT
DTSTART;TZID=America/North_Dakota/Center:20240706T200000
DTEND;TZID=America/North_Dakota/Center:20240706T210000
DTSTAMP:20260425T172529
CREATED:20240301T022903Z
LAST-MODIFIED:20240423T151946Z
UID:10001902-1720296000-1720299600@www.redbudrvresort.com
SUMMARY:Movie Night
DESCRIPTION:
URL:https://www.redbudrvresort.com/event/movie-night-5-2/2024-07-06/
END:VEVENT
BEGIN:VEVENT
DTSTART;TZID=America/North_Dakota/Center:20240706T180000
DTEND;TZID=America/North_Dakota/Center:20240706T210000
DTSTAMP:20260425T172529
CREATED:20240627T160141Z
LAST-MODIFIED:20240627T160429Z
UID:10001616-1720288800-1720299600@www.redbudrvresort.com
SUMMARY:Ruel Thomas - Live Music
DESCRIPTION:Join us in the pool area from 6 – 9 pm for live music from local musician Ruel Thomas!
URL:https://www.redbudrvresort.com/event/ruel-thomas-live-music/
END:VEVENT
END:VCALENDAR