BEGIN:VCALENDAR
VERSION:2.0
PRODID:-//Redbud Ranch RV Resort - ECPv6.15.20//NONSGML v1.0//EN
CALSCALE:GREGORIAN
METHOD:PUBLISH
X-WR-CALNAME:Redbud Ranch RV Resort
X-ORIGINAL-URL:https://www.redbudrvresort.com
X-WR-CALDESC:Events for Redbud Ranch RV Resort
REFRESH-INTERVAL;VALUE=DURATION:PT1H
X-Robots-Tag:noindex
X-PUBLISHED-TTL:PT1H
BEGIN:VTIMEZONE
TZID:America/North_Dakota/Center
BEGIN:DAYLIGHT
TZOFFSETFROM:-0600
TZOFFSETTO:-0500
TZNAME:CDT
DTSTART:20250309T080000
END:DAYLIGHT
BEGIN:STANDARD
TZOFFSETFROM:-0500
TZOFFSETTO:-0600
TZNAME:CST
DTSTART:20251102T070000
END:STANDARD
BEGIN:DAYLIGHT
TZOFFSETFROM:-0600
TZOFFSETTO:-0500
TZNAME:CDT
DTSTART:20260308T080000
END:DAYLIGHT
BEGIN:STANDARD
TZOFFSETFROM:-0500
TZOFFSETTO:-0600
TZNAME:CST
DTSTART:20261101T070000
END:STANDARD
BEGIN:DAYLIGHT
TZOFFSETFROM:-0600
TZOFFSETTO:-0500
TZNAME:CDT
DTSTART:20270314T080000
END:DAYLIGHT
BEGIN:STANDARD
TZOFFSETFROM:-0500
TZOFFSETTO:-0600
TZNAME:CST
DTSTART:20271107T070000
END:STANDARD
BEGIN:DAYLIGHT
TZOFFSETFROM:-0600
TZOFFSETTO:-0500
TZNAME:CDT
DTSTART:20280312T080000
END:DAYLIGHT
BEGIN:STANDARD
TZOFFSETFROM:-0500
TZOFFSETTO:-0600
TZNAME:CST
DTSTART:20281105T070000
END:STANDARD
END:VTIMEZONE
BEGIN:VEVENT
DTSTART;TZID=America/North_Dakota/Center:20270220T190000
DTEND;TZID=America/North_Dakota/Center:20270220T210000
DTSTAMP:20260425T092942
CREATED:20260326T195644Z
LAST-MODIFIED:20260326T195644Z
UID:10003053-1803150000-1803157200@www.redbudrvresort.com
SUMMARY:Movie Night
DESCRIPTION:Movie Night in The Lodge at 7 pm!
URL:https://www.redbudrvresort.com/event/movie-night-14/2027-02-20/
END:VEVENT
BEGIN:VEVENT
DTSTART;TZID=America/North_Dakota/Center:20270213T190000
DTEND;TZID=America/North_Dakota/Center:20270213T210000
DTSTAMP:20260425T092942
CREATED:20260326T195644Z
LAST-MODIFIED:20260326T195644Z
UID:10003052-1802545200-1802552400@www.redbudrvresort.com
SUMMARY:Movie Night
DESCRIPTION:Movie Night in The Lodge at 7 pm!
URL:https://www.redbudrvresort.com/event/movie-night-14/2027-02-13/
END:VEVENT
BEGIN:VEVENT
DTSTART;TZID=America/North_Dakota/Center:20270206T190000
DTEND;TZID=America/North_Dakota/Center:20270206T210000
DTSTAMP:20260425T092942
CREATED:20260326T195644Z
LAST-MODIFIED:20260326T195644Z
UID:10003051-1801940400-1801947600@www.redbudrvresort.com
SUMMARY:Movie Night
DESCRIPTION:Movie Night in The Lodge at 7 pm!
URL:https://www.redbudrvresort.com/event/movie-night-14/2027-02-06/
END:VEVENT
BEGIN:VEVENT
DTSTART;TZID=America/North_Dakota/Center:20270130T190000
DTEND;TZID=America/North_Dakota/Center:20270130T210000
DTSTAMP:20260425T092942
CREATED:20260326T195644Z
LAST-MODIFIED:20260326T195644Z
UID:10003050-1801335600-1801342800@www.redbudrvresort.com
SUMMARY:Movie Night
DESCRIPTION:Movie Night in The Lodge at 7 pm!
URL:https://www.redbudrvresort.com/event/movie-night-14/2027-01-30/
END:VEVENT
BEGIN:VEVENT
DTSTART;TZID=America/North_Dakota/Center:20270123T190000
DTEND;TZID=America/North_Dakota/Center:20270123T210000
DTSTAMP:20260425T092942
CREATED:20260326T195644Z
LAST-MODIFIED:20260326T195644Z
UID:10003049-1800730800-1800738000@www.redbudrvresort.com
SUMMARY:Movie Night
DESCRIPTION:Movie Night in The Lodge at 7 pm!
URL:https://www.redbudrvresort.com/event/movie-night-14/2027-01-23/
END:VEVENT
BEGIN:VEVENT
DTSTART;TZID=America/North_Dakota/Center:20270116T190000
DTEND;TZID=America/North_Dakota/Center:20270116T210000
DTSTAMP:20260425T092942
CREATED:20260326T195644Z
LAST-MODIFIED:20260326T195644Z
UID:10003048-1800126000-1800133200@www.redbudrvresort.com
SUMMARY:Movie Night
DESCRIPTION:Movie Night in The Lodge at 7 pm!
URL:https://www.redbudrvresort.com/event/movie-night-14/2027-01-16/
END:VEVENT
BEGIN:VEVENT
DTSTART;TZID=America/North_Dakota/Center:20270109T190000
DTEND;TZID=America/North_Dakota/Center:20270109T210000
DTSTAMP:20260425T092942
CREATED:20260326T195644Z
LAST-MODIFIED:20260326T195644Z
UID:10003047-1799521200-1799528400@www.redbudrvresort.com
SUMMARY:Movie Night
DESCRIPTION:Movie Night in The Lodge at 7 pm!
URL:https://www.redbudrvresort.com/event/movie-night-14/2027-01-09/
END:VEVENT
BEGIN:VEVENT
DTSTART;TZID=America/North_Dakota/Center:20270102T190000
DTEND;TZID=America/North_Dakota/Center:20270102T210000
DTSTAMP:20260425T092942
CREATED:20260326T195644Z
LAST-MODIFIED:20260326T195644Z
UID:10003046-1798916400-1798923600@www.redbudrvresort.com
SUMMARY:Movie Night
DESCRIPTION:Movie Night in The Lodge at 7 pm!
URL:https://www.redbudrvresort.com/event/movie-night-14/2027-01-02/
END:VEVENT
BEGIN:VEVENT
DTSTART;TZID=America/North_Dakota/Center:20261226T190000
DTEND;TZID=America/North_Dakota/Center:20261226T210000
DTSTAMP:20260425T092942
CREATED:20260326T195644Z
LAST-MODIFIED:20260326T195644Z
UID:10003045-1798311600-1798318800@www.redbudrvresort.com
SUMMARY:Movie Night
DESCRIPTION:Movie Night in The Lodge at 7 pm!
URL:https://www.redbudrvresort.com/event/movie-night-14/2026-12-26/
END:VEVENT
BEGIN:VEVENT
DTSTART;VALUE=DATE:20261225
DTEND;VALUE=DATE:20261226
DTSTAMP:20260425T092942
CREATED:20231115T160951Z
LAST-MODIFIED:20231214T223124Z
UID:10000923-1798156800-1798243199@www.redbudrvresort.com
SUMMARY:Merry Christmas
DESCRIPTION:Office Closed
URL:https://www.redbudrvresort.com/event/merry-christmas/2026-12-25/
END:VEVENT
BEGIN:VEVENT
DTSTART;VALUE=DATE:20261224
DTEND;VALUE=DATE:20261225
DTSTAMP:20260425T092942
CREATED:20231115T161017Z
LAST-MODIFIED:20231214T223012Z
UID:10000919-1798070400-1798156799@www.redbudrvresort.com
SUMMARY:Christmas Eve
DESCRIPTION:Office closing at noon.
URL:https://www.redbudrvresort.com/event/christmas-eve/2026-12-24/
END:VEVENT
BEGIN:VEVENT
DTSTART;TZID=America/North_Dakota/Center:20261219T190000
DTEND;TZID=America/North_Dakota/Center:20261219T210000
DTSTAMP:20260425T092942
CREATED:20260326T195644Z
LAST-MODIFIED:20260326T195644Z
UID:10003044-1797706800-1797714000@www.redbudrvresort.com
SUMMARY:Movie Night
DESCRIPTION:Movie Night in The Lodge at 7 pm!
URL:https://www.redbudrvresort.com/event/movie-night-14/2026-12-19/
END:VEVENT
BEGIN:VEVENT
DTSTART;TZID=America/North_Dakota/Center:20261212T190000
DTEND;TZID=America/North_Dakota/Center:20261212T210000
DTSTAMP:20260425T092942
CREATED:20260326T195644Z
LAST-MODIFIED:20260326T195644Z
UID:10003043-1797102000-1797109200@www.redbudrvresort.com
SUMMARY:Movie Night
DESCRIPTION:Movie Night in The Lodge at 7 pm!
URL:https://www.redbudrvresort.com/event/movie-night-14/2026-12-12/
END:VEVENT
BEGIN:VEVENT
DTSTART;TZID=America/North_Dakota/Center:20261205T190000
DTEND;TZID=America/North_Dakota/Center:20261205T210000
DTSTAMP:20260425T092942
CREATED:20260326T195644Z
LAST-MODIFIED:20260326T195644Z
UID:10003042-1796497200-1796504400@www.redbudrvresort.com
SUMMARY:Movie Night
DESCRIPTION:Movie Night in The Lodge at 7 pm!
URL:https://www.redbudrvresort.com/event/movie-night-14/2026-12-05/
END:VEVENT
BEGIN:VEVENT
DTSTART;TZID=America/North_Dakota/Center:20261201T080000
DTEND;TZID=America/North_Dakota/Center:20261201T120000
DTSTAMP:20260425T092942
CREATED:20251227T214400Z
LAST-MODIFIED:20251227T214400Z
UID:10002924-1796112000-1796126400@www.redbudrvresort.com
SUMMARY:Lodge Closed
DESCRIPTION:
URL:https://www.redbudrvresort.com/event/lodge-closed/2026-12-01/
END:VEVENT
BEGIN:VEVENT
DTSTART;TZID=America/North_Dakota/Center:20261128T190000
DTEND;TZID=America/North_Dakota/Center:20261128T210000
DTSTAMP:20260425T092942
CREATED:20260326T195644Z
LAST-MODIFIED:20260326T195644Z
UID:10003041-1795892400-1795899600@www.redbudrvresort.com
SUMMARY:Movie Night
DESCRIPTION:Movie Night in The Lodge at 7 pm!
URL:https://www.redbudrvresort.com/event/movie-night-14/2026-11-28/
END:VEVENT
BEGIN:VEVENT
DTSTART;TZID=America/North_Dakota/Center:20261128T110000
DTEND;TZID=America/North_Dakota/Center:20261128T120000
DTSTAMP:20260425T092942
CREATED:20251024T161346Z
LAST-MODIFIED:20251024T161346Z
UID:10002856-1795863600-1795867200@www.redbudrvresort.com
SUMMARY:Craft Time
DESCRIPTION:Join us for craft time at 11 AM.  This is a free\, family friendly event!
URL:https://www.redbudrvresort.com/event/craft-time-9/2026-11-28/
END:VEVENT
BEGIN:VEVENT
DTSTART;VALUE=DATE:20261126
DTEND;VALUE=DATE:20261127
DTSTAMP:20260425T092942
CREATED:20231021T184514Z
LAST-MODIFIED:20231214T223227Z
UID:10000927-1795651200-1795737599@www.redbudrvresort.com
SUMMARY:Thanksgiving
DESCRIPTION:Happy Thanksgiving! Our office is closed to our staff can enjoy time with their families.
URL:https://www.redbudrvresort.com/event/thanksgiving/2026-11-26/
END:VEVENT
BEGIN:VEVENT
DTSTART;VALUE=DATE:20261125
DTEND;VALUE=DATE:20261126
DTSTAMP:20260425T092942
CREATED:20251227T221003Z
LAST-MODIFIED:20251227T221003Z
UID:10002935-1795564800-1795651199@www.redbudrvresort.com
SUMMARY:Office Closing Early
DESCRIPTION:Our office will be closing at 1 pm today!
URL:https://www.redbudrvresort.com/event/office-closing-early-2/
END:VEVENT
BEGIN:VEVENT
DTSTART;TZID=America/North_Dakota/Center:20261121T190000
DTEND;TZID=America/North_Dakota/Center:20261121T210000
DTSTAMP:20260425T092942
CREATED:20260326T195644Z
LAST-MODIFIED:20260326T195644Z
UID:10003040-1795287600-1795294800@www.redbudrvresort.com
SUMMARY:Movie Night
DESCRIPTION:Movie Night in The Lodge at 7 pm!
URL:https://www.redbudrvresort.com/event/movie-night-14/2026-11-21/
END:VEVENT
BEGIN:VEVENT
DTSTART;TZID=America/North_Dakota/Center:20261121T110000
DTEND;TZID=America/North_Dakota/Center:20261121T120000
DTSTAMP:20260425T092942
CREATED:20251024T161346Z
LAST-MODIFIED:20251024T161346Z
UID:10002855-1795258800-1795262400@www.redbudrvresort.com
SUMMARY:Craft Time
DESCRIPTION:Join us for craft time at 11 AM.  This is a free\, family friendly event!
URL:https://www.redbudrvresort.com/event/craft-time-9/2026-11-21/
END:VEVENT
BEGIN:VEVENT
DTSTART;TZID=America/North_Dakota/Center:20261114T190000
DTEND;TZID=America/North_Dakota/Center:20261114T210000
DTSTAMP:20260425T092942
CREATED:20260326T195644Z
LAST-MODIFIED:20260326T195644Z
UID:10003039-1794682800-1794690000@www.redbudrvresort.com
SUMMARY:Movie Night
DESCRIPTION:Movie Night in The Lodge at 7 pm!
URL:https://www.redbudrvresort.com/event/movie-night-14/2026-11-14/
END:VEVENT
BEGIN:VEVENT
DTSTART;TZID=America/North_Dakota/Center:20261114T110000
DTEND;TZID=America/North_Dakota/Center:20261114T120000
DTSTAMP:20260425T092942
CREATED:20251024T161346Z
LAST-MODIFIED:20251024T161346Z
UID:10002854-1794654000-1794657600@www.redbudrvresort.com
SUMMARY:Craft Time
DESCRIPTION:Join us for craft time at 11 AM.  This is a free\, family friendly event!
URL:https://www.redbudrvresort.com/event/craft-time-9/2026-11-14/
END:VEVENT
BEGIN:VEVENT
DTSTART;TZID=America/North_Dakota/Center:20261107T190000
DTEND;TZID=America/North_Dakota/Center:20261107T210000
DTSTAMP:20260425T092942
CREATED:20260326T195644Z
LAST-MODIFIED:20260326T195644Z
UID:10003038-1794078000-1794085200@www.redbudrvresort.com
SUMMARY:Movie Night
DESCRIPTION:Movie Night in The Lodge at 7 pm!
URL:https://www.redbudrvresort.com/event/movie-night-14/2026-11-07/
END:VEVENT
BEGIN:VEVENT
DTSTART;TZID=America/North_Dakota/Center:20261107T110000
DTEND;TZID=America/North_Dakota/Center:20261107T120000
DTSTAMP:20260425T092942
CREATED:20251024T161346Z
LAST-MODIFIED:20251024T161346Z
UID:10002853-1794049200-1794052800@www.redbudrvresort.com
SUMMARY:Craft Time
DESCRIPTION:Join us for craft time at 11 AM.  This is a free\, family friendly event!
URL:https://www.redbudrvresort.com/event/craft-time-9/2026-11-07/
END:VEVENT
BEGIN:VEVENT
DTSTART;TZID=America/North_Dakota/Center:20261103T080000
DTEND;TZID=America/North_Dakota/Center:20261103T120000
DTSTAMP:20260425T092942
CREATED:20251227T214400Z
LAST-MODIFIED:20251227T214400Z
UID:10002923-1793692800-1793707200@www.redbudrvresort.com
SUMMARY:Lodge Closed
DESCRIPTION:
URL:https://www.redbudrvresort.com/event/lodge-closed/2026-11-03/
END:VEVENT
BEGIN:VEVENT
DTSTART;TZID=America/North_Dakota/Center:20261031T190000
DTEND;TZID=America/North_Dakota/Center:20261031T210000
DTSTAMP:20260425T092942
CREATED:20260326T195644Z
LAST-MODIFIED:20260326T195644Z
UID:10003037-1793473200-1793480400@www.redbudrvresort.com
SUMMARY:Movie Night
DESCRIPTION:Movie Night in The Lodge at 7 pm!
URL:https://www.redbudrvresort.com/event/movie-night-14/2026-10-31/
END:VEVENT
BEGIN:VEVENT
DTSTART;TZID=America/North_Dakota/Center:20261031T110000
DTEND;TZID=America/North_Dakota/Center:20261031T200000
DTSTAMP:20260425T092942
CREATED:20251227T220707Z
LAST-MODIFIED:20251227T220707Z
UID:10002933-1793444400-1793476800@www.redbudrvresort.com
SUMMARY:BOO IN THE PARK
DESCRIPTION:This is one of our most fun weekends!  Plan your best costume\, decorate your pumpkin\, pull out all the stops decking out your cabin/campsite and have fun! \nScavenger Hunt\, craft time\, pumpkin contest and festival games\, costume contest and trick or treating through the resort and site decorating contest!  What more could you ask for?
URL:https://www.redbudrvresort.com/event/boo-in-the-park-2/
END:VEVENT
BEGIN:VEVENT
DTSTART;TZID=America/North_Dakota/Center:20261031T110000
DTEND;TZID=America/North_Dakota/Center:20261031T120000
DTSTAMP:20260425T092942
CREATED:20251024T161346Z
LAST-MODIFIED:20251024T161346Z
UID:10002852-1793444400-1793448000@www.redbudrvresort.com
SUMMARY:Craft Time
DESCRIPTION:Join us for craft time at 11 AM.  This is a free\, family friendly event!
URL:https://www.redbudrvresort.com/event/craft-time-9/2026-10-31/
END:VEVENT
BEGIN:VEVENT
DTSTART;VALUE=DATE:20261031
DTEND;VALUE=DATE:20261101
DTSTAMP:20260425T092942
CREATED:20251227T220850Z
LAST-MODIFIED:20251227T220850Z
UID:10002934-1793404800-1793491199@www.redbudrvresort.com
SUMMARY:Turn Your Clocks Back!
DESCRIPTION:
URL:https://www.redbudrvresort.com/event/turn-your-clocks-back/
END:VEVENT
END:VCALENDAR