BEGIN:VCALENDAR
VERSION:2.0
PRODID:-//Redbud Ranch RV Resort - ECPv6.15.20//NONSGML v1.0//EN
CALSCALE:GREGORIAN
METHOD:PUBLISH
X-WR-CALNAME:Redbud Ranch RV Resort
X-ORIGINAL-URL:https://www.redbudrvresort.com
X-WR-CALDESC:Events for Redbud Ranch RV Resort
REFRESH-INTERVAL;VALUE=DURATION:PT1H
X-Robots-Tag:noindex
X-PUBLISHED-TTL:PT1H
BEGIN:VTIMEZONE
TZID:America/North_Dakota/Center
BEGIN:DAYLIGHT
TZOFFSETFROM:-0600
TZOFFSETTO:-0500
TZNAME:CDT
DTSTART:20240310T080000
END:DAYLIGHT
BEGIN:STANDARD
TZOFFSETFROM:-0500
TZOFFSETTO:-0600
TZNAME:CST
DTSTART:20241103T070000
END:STANDARD
BEGIN:DAYLIGHT
TZOFFSETFROM:-0600
TZOFFSETTO:-0500
TZNAME:CDT
DTSTART:20250309T080000
END:DAYLIGHT
BEGIN:STANDARD
TZOFFSETFROM:-0500
TZOFFSETTO:-0600
TZNAME:CST
DTSTART:20251102T070000
END:STANDARD
BEGIN:DAYLIGHT
TZOFFSETFROM:-0600
TZOFFSETTO:-0500
TZNAME:CDT
DTSTART:20260308T080000
END:DAYLIGHT
BEGIN:STANDARD
TZOFFSETFROM:-0500
TZOFFSETTO:-0600
TZNAME:CST
DTSTART:20261101T070000
END:STANDARD
END:VTIMEZONE
BEGIN:VEVENT
DTSTART;TZID=America/North_Dakota/Center:20250425T180000
DTEND;TZID=America/North_Dakota/Center:20250425T193000
DTSTAMP:20260425T093019
CREATED:20250327T200938Z
LAST-MODIFIED:20250327T201355Z
UID:10002662-1745604000-1745609400@www.redbudrvresort.com
SUMMARY:BINGO
DESCRIPTION:Join us on Friday’s at 6 pm in The Lodge for BINGO – fun for the whole family!
URL:https://www.redbudrvresort.com/event/bingo-21-6/2025-04-25/
END:VEVENT
BEGIN:VEVENT
DTSTART;VALUE=DATE:20250422
DTEND;VALUE=DATE:20250423
DTSTAMP:20260425T093019
CREATED:20250110T201144Z
LAST-MODIFIED:20250110T201144Z
UID:10002632-1745280000-1745366399@www.redbudrvresort.com
SUMMARY:Earth Day
DESCRIPTION:In 2025\, we celebrate the 55th anniversary of Earth Day. To mark this milestone\, we invite everyone to support Earth Day’s 2025 theme: OUR POWER\, OUR PLANET.
URL:https://www.redbudrvresort.com/event/earth-day/
END:VEVENT
BEGIN:VEVENT
DTSTART;VALUE=DATE:20250420
DTEND;VALUE=DATE:20250421
DTSTAMP:20260425T093019
CREATED:20250110T200912Z
LAST-MODIFIED:20250110T200912Z
UID:10002631-1745107200-1745193599@www.redbudrvresort.com
SUMMARY:Easter  - Office Closed
DESCRIPTION:
URL:https://www.redbudrvresort.com/event/easter-office-closed/
END:VEVENT
BEGIN:VEVENT
DTSTART;TZID=America/North_Dakota/Center:20250419T200000
DTEND;TZID=America/North_Dakota/Center:20250419T213000
DTSTAMP:20260425T093019
CREATED:20250327T194542Z
LAST-MODIFIED:20250327T194543Z
UID:10001945-1745092800-1745098200@www.redbudrvresort.com
SUMMARY:Movie Night
DESCRIPTION:Movie Night will be pool side tonight (weather permitting)
URL:https://www.redbudrvresort.com/event/movie-night-5-2-2-3-3/
END:VEVENT
BEGIN:VEVENT
DTSTART;TZID=America/North_Dakota/Center:20250419T200000
DTEND;TZID=America/North_Dakota/Center:20250419T213000
DTSTAMP:20260425T093019
CREATED:20250109T160317Z
LAST-MODIFIED:20250109T160318Z
UID:10002795-1745092800-1745098200@www.redbudrvresort.com
SUMMARY:Movie Night
DESCRIPTION:
URL:https://www.redbudrvresort.com/event/movie-night-5-2-2-3/2025-04-19/
END:VEVENT
BEGIN:VEVENT
DTSTART;TZID=America/North_Dakota/Center:20250419T170000
DTEND;TZID=America/North_Dakota/Center:20250419T230000
DTSTAMP:20260425T093019
CREATED:20250327T194848Z
LAST-MODIFIED:20250327T194848Z
UID:10002660-1745082000-1745103600@www.redbudrvresort.com
SUMMARY:Lodge Closed (Private Event)
DESCRIPTION:
URL:https://www.redbudrvresort.com/event/lodge-closed-private-event-2/
END:VEVENT
BEGIN:VEVENT
DTSTART;TZID=America/North_Dakota/Center:20250419T110000
DTEND;TZID=America/North_Dakota/Center:20250419T123000
DTSTAMP:20260425T093019
CREATED:20250110T200645Z
LAST-MODIFIED:20250327T194042Z
UID:10002630-1745060400-1745065800@www.redbudrvresort.com
SUMMARY:Easter Egg Hunt
DESCRIPTION:Join us at 11:00 AM on the porch at the office for Easter Egg Hunts!
URL:https://www.redbudrvresort.com/event/easter-egg-hunt-3/
END:VEVENT
BEGIN:VEVENT
DTSTART;TZID=America/North_Dakota/Center:20250418T180000
DTEND;TZID=America/North_Dakota/Center:20250418T190000
DTSTAMP:20260425T093019
CREATED:20250110T200058Z
LAST-MODIFIED:20250327T201150Z
UID:10002422-1744999200-1745002800@www.redbudrvresort.com
SUMMARY:BINGO
DESCRIPTION:Hop on over to The Lodge at 6 PM for BINGO – fun for the whole family!
URL:https://www.redbudrvresort.com/event/bingo-21-5/2025-04-18/
END:VEVENT
BEGIN:VEVENT
DTSTART;TZID=America/North_Dakota/Center:20250418T080000
DTEND;TZID=America/North_Dakota/Center:20250418T170000
DTSTAMP:20260425T093019
CREATED:20250110T194806Z
LAST-MODIFIED:20250110T194806Z
UID:10002629-1744963200-1744995600@www.redbudrvresort.com
SUMMARY:Good Friday
DESCRIPTION:
URL:https://www.redbudrvresort.com/event/good-friday/
END:VEVENT
BEGIN:VEVENT
DTSTART;TZID=America/North_Dakota/Center:20250415T080000
DTEND;TZID=America/North_Dakota/Center:20250415T170000
DTSTAMP:20260425T093019
CREATED:20250110T194734Z
LAST-MODIFIED:20250110T194734Z
UID:10002628-1744704000-1744736400@www.redbudrvresort.com
SUMMARY:Tax Day
DESCRIPTION:
URL:https://www.redbudrvresort.com/event/tax-day/
END:VEVENT
BEGIN:VEVENT
DTSTART;TZID=America/North_Dakota/Center:20250412T200000
DTEND;TZID=America/North_Dakota/Center:20250412T213000
DTSTAMP:20260425T093019
CREATED:20250109T160317Z
LAST-MODIFIED:20250109T160318Z
UID:10001944-1744488000-1744493400@www.redbudrvresort.com
SUMMARY:Movie Night
DESCRIPTION:
URL:https://www.redbudrvresort.com/event/movie-night-5-2-2-3/2025-04-12/
END:VEVENT
BEGIN:VEVENT
DTSTART;TZID=America/North_Dakota/Center:20250411T180000
DTEND;TZID=America/North_Dakota/Center:20250411T193000
DTSTAMP:20260425T093019
CREATED:20250110T200058Z
LAST-MODIFIED:20250327T201150Z
UID:10002661-1744394400-1744399800@www.redbudrvresort.com
SUMMARY:BINGO
DESCRIPTION:Hop on over to The Lodge at 6 PM for BINGO – fun for the whole family!
URL:https://www.redbudrvresort.com/event/bingo-21-5/2025-04-11/
END:VEVENT
BEGIN:VEVENT
DTSTART;TZID=America/North_Dakota/Center:20250411T080000
DTEND;TZID=America/North_Dakota/Center:20250413T170000
DTSTAMP:20260425T093019
CREATED:20250110T194711Z
LAST-MODIFIED:20250110T194711Z
UID:10002627-1744358400-1744563600@www.redbudrvresort.com
SUMMARY:Slip and Slime Into Spring Weekend
DESCRIPTION:
URL:https://www.redbudrvresort.com/event/slip-and-slime-into-spring-weekend/
END:VEVENT
BEGIN:VEVENT
DTSTART;TZID=America/North_Dakota/Center:20250405T200000
DTEND;TZID=America/North_Dakota/Center:20250405T213000
DTSTAMP:20260425T093019
CREATED:20250109T160317Z
LAST-MODIFIED:20250109T160318Z
UID:10001943-1743883200-1743888600@www.redbudrvresort.com
SUMMARY:Movie Night
DESCRIPTION:
URL:https://www.redbudrvresort.com/event/movie-night-5-2-2-3/2025-04-05/
END:VEVENT
BEGIN:VEVENT
DTSTART;TZID=America/North_Dakota/Center:20250404T080000
DTEND;TZID=America/North_Dakota/Center:20250404T170000
DTSTAMP:20260425T093019
CREATED:20250110T154907Z
LAST-MODIFIED:20250124T174612Z
UID:10002649-1743753600-1743786000@www.redbudrvresort.com
SUMMARY:Lodge Closed - Private Group
DESCRIPTION:
URL:https://www.redbudrvresort.com/event/lodge-closed-private-group/2025-04-04/
END:VEVENT
BEGIN:VEVENT
DTSTART;TZID=America/North_Dakota/Center:20250402T080000
DTEND;TZID=America/North_Dakota/Center:20250402T170000
DTSTAMP:20260425T093019
CREATED:20250110T194604Z
LAST-MODIFIED:20250110T194604Z
UID:10002626-1743580800-1743613200@www.redbudrvresort.com
SUMMARY:Autism Awareness Day
DESCRIPTION:
URL:https://www.redbudrvresort.com/event/autism-awareness-day/
END:VEVENT
BEGIN:VEVENT
DTSTART;TZID=America/North_Dakota/Center:20250401T080000
DTEND;TZID=America/North_Dakota/Center:20250401T170000
DTSTAMP:20260425T093019
CREATED:20250110T193802Z
LAST-MODIFIED:20250110T194519Z
UID:10002625-1743494400-1743526800@www.redbudrvresort.com
SUMMARY:April Fool's Day
DESCRIPTION:
URL:https://www.redbudrvresort.com/event/april-fools-day/
END:VEVENT
BEGIN:VEVENT
DTSTART;TZID=America/North_Dakota/Center:20250401T080000
DTEND;TZID=America/North_Dakota/Center:20250401T120000
DTSTAMP:20260425T093019
CREATED:20250110T154907Z
LAST-MODIFIED:20250124T174612Z
UID:10002648-1743494400-1743508800@www.redbudrvresort.com
SUMMARY:Lodge Closed - Private Group
DESCRIPTION:
URL:https://www.redbudrvresort.com/event/lodge-closed-private-group/2025-04-01/
END:VEVENT
BEGIN:VEVENT
DTSTART;TZID=America/North_Dakota/Center:20250329T200000
DTEND;TZID=America/North_Dakota/Center:20250329T213000
DTSTAMP:20260425T093019
CREATED:20250327T190821Z
LAST-MODIFIED:20250327T190821Z
UID:10002659-1743278400-1743283800@www.redbudrvresort.com
SUMMARY:Movie Night
DESCRIPTION:Join us pool side tonight for movie night!
URL:https://www.redbudrvresort.com/event/movie-night-12/
END:VEVENT
BEGIN:VEVENT
DTSTART;TZID=America/North_Dakota/Center:20250329T110000
DTEND;TZID=America/North_Dakota/Center:20250329T123000
DTSTAMP:20260425T093019
CREATED:20250124T175741Z
LAST-MODIFIED:20250227T154559Z
UID:10002521-1743246000-1743251400@www.redbudrvresort.com
SUMMARY:Craft Time
DESCRIPTION:Craft will be outdoors today (weather permitting)
URL:https://www.redbudrvresort.com/event/craft-time-3/
END:VEVENT
BEGIN:VEVENT
DTSTART;TZID=America/North_Dakota/Center:20250328T170000
DTEND;TZID=America/North_Dakota/Center:20250328T190000
DTSTAMP:20260425T093019
CREATED:20250124T162925Z
LAST-MODIFIED:20250124T164423Z
UID:10002644-1743181200-1743188400@www.redbudrvresort.com
SUMMARY:O's Chop House
DESCRIPTION:
URL:https://www.redbudrvresort.com/event/os-chop-house/2025-03-28/
END:VEVENT
BEGIN:VEVENT
DTSTART;TZID=America/North_Dakota/Center:20250327T080000
DTEND;TZID=America/North_Dakota/Center:20250330T170000
DTSTAMP:20260425T093019
CREATED:20250110T154907Z
LAST-MODIFIED:20250124T174612Z
UID:10002622-1743062400-1743354000@www.redbudrvresort.com
SUMMARY:Lodge Closed - Private Group
DESCRIPTION:
URL:https://www.redbudrvresort.com/event/lodge-closed-private-group/2025-03-27/
END:VEVENT
BEGIN:VEVENT
DTSTART;TZID=America/North_Dakota/Center:20250322T200000
DTEND;TZID=America/North_Dakota/Center:20250322T213000
DTSTAMP:20260425T093019
CREATED:20250109T160147Z
LAST-MODIFIED:20250109T160156Z
UID:10001663-1742673600-1742679000@www.redbudrvresort.com
SUMMARY:Movie Night
DESCRIPTION:
URL:https://www.redbudrvresort.com/event/movie-night-5-2-2-2/
END:VEVENT
BEGIN:VEVENT
DTSTART;TZID=America/North_Dakota/Center:20250322T140000
DTEND;TZID=America/North_Dakota/Center:20250322T160000
DTSTAMP:20260425T093019
CREATED:20250110T154358Z
LAST-MODIFIED:20250227T151625Z
UID:10002621-1742652000-1742659200@www.redbudrvresort.com
SUMMARY:KONA ICE
DESCRIPTION:Kona Ice returns to Redbud Ranch!  Truck will be parked near the bike rack by the office!  Come get a sweet treat 2-4 pm.
URL:https://www.redbudrvresort.com/event/kona-ice-5/2025-03-22/
END:VEVENT
BEGIN:VEVENT
DTSTART;TZID=America/North_Dakota/Center:20250321T180000
DTEND;TZID=America/North_Dakota/Center:20250321T190000
DTSTAMP:20260425T093019
CREATED:20241222T160047Z
LAST-MODIFIED:20250124T164601Z
UID:10002418-1742580000-1742583600@www.redbudrvresort.com
SUMMARY:BINGO
DESCRIPTION:Join us on Friday’s at 6 pm in The Lodge for BINGO – fun for the whole family!
URL:https://www.redbudrvresort.com/event/bingo-21/2025-03-21/
END:VEVENT
BEGIN:VEVENT
DTSTART;TZID=America/North_Dakota/Center:20250320T080000
DTEND;TZID=America/North_Dakota/Center:20250320T170000
DTSTAMP:20260425T093019
CREATED:20250110T154702Z
LAST-MODIFIED:20250110T154702Z
UID:10002620-1742457600-1742490000@www.redbudrvresort.com
SUMMARY:First Day of Spring
DESCRIPTION:Two moments in the year when the Sun is exactly above the Equator and day and night are of equal length; also\, either of the two points in the sky where the ecliptic (the Sun’s annual pathway) and the celestial equator intersect.
URL:https://www.redbudrvresort.com/event/first-day-of-spring/
END:VEVENT
BEGIN:VEVENT
DTSTART;TZID=America/North_Dakota/Center:20250317T080000
DTEND;TZID=America/North_Dakota/Center:20250317T170000
DTSTAMP:20260425T093019
CREATED:20250110T154532Z
LAST-MODIFIED:20250110T154532Z
UID:10002619-1742198400-1742230800@www.redbudrvresort.com
SUMMARY:St. Patrick's Day
DESCRIPTION:
URL:https://www.redbudrvresort.com/event/st-patricks-day/
END:VEVENT
BEGIN:VEVENT
DTSTART;TZID=America/North_Dakota/Center:20250315T200000
DTEND;TZID=America/North_Dakota/Center:20250315T213000
DTSTAMP:20260425T093019
CREATED:20250227T154251Z
LAST-MODIFIED:20250227T154252Z
UID:10001662-1742068800-1742074200@www.redbudrvresort.com
SUMMARY:Movie Night
DESCRIPTION:
URL:https://www.redbudrvresort.com/event/movie-night-5-2-2-4/
END:VEVENT
BEGIN:VEVENT
DTSTART;TZID=America/North_Dakota/Center:20250315T180000
DTEND;TZID=America/North_Dakota/Center:20250315T193000
DTSTAMP:20260425T093019
CREATED:20231214T221347Z
LAST-MODIFIED:20250205T174025Z
UID:10000908-1742061600-1742067000@www.redbudrvresort.com
SUMMARY:Hot Dog Social
DESCRIPTION:Dinner is on us!  Come to The Lodge for hot dogs and a movie!
URL:https://www.redbudrvresort.com/event/hot-dog-marshmallow-roasting-social/
END:VEVENT
BEGIN:VEVENT
DTSTART;TZID=America/North_Dakota/Center:20250315T140000
DTEND;TZID=America/North_Dakota/Center:20250315T160000
DTSTAMP:20260425T093019
CREATED:20250110T154358Z
LAST-MODIFIED:20250227T151625Z
UID:10002618-1742047200-1742054400@www.redbudrvresort.com
SUMMARY:KONA ICE
DESCRIPTION:Kona Ice returns to Redbud Ranch!  Truck will be parked near the bike rack by the office!  Come get a sweet treat 2-4 pm.
URL:https://www.redbudrvresort.com/event/kona-ice-5/2025-03-15/
END:VEVENT
END:VCALENDAR