BEGIN:VCALENDAR
VERSION:2.0
PRODID:-//Redbud Ranch RV Resort - ECPv6.15.20//NONSGML v1.0//EN
CALSCALE:GREGORIAN
METHOD:PUBLISH
X-WR-CALNAME:Redbud Ranch RV Resort
X-ORIGINAL-URL:https://www.redbudrvresort.com
X-WR-CALDESC:Events for Redbud Ranch RV Resort
REFRESH-INTERVAL;VALUE=DURATION:PT1H
X-Robots-Tag:noindex
X-PUBLISHED-TTL:PT1H
BEGIN:VTIMEZONE
TZID:America/North_Dakota/Center
BEGIN:DAYLIGHT
TZOFFSETFROM:-0600
TZOFFSETTO:-0500
TZNAME:CDT
DTSTART:20240310T080000
END:DAYLIGHT
BEGIN:STANDARD
TZOFFSETFROM:-0500
TZOFFSETTO:-0600
TZNAME:CST
DTSTART:20241103T070000
END:STANDARD
BEGIN:DAYLIGHT
TZOFFSETFROM:-0600
TZOFFSETTO:-0500
TZNAME:CDT
DTSTART:20250309T080000
END:DAYLIGHT
BEGIN:STANDARD
TZOFFSETFROM:-0500
TZOFFSETTO:-0600
TZNAME:CST
DTSTART:20251102T070000
END:STANDARD
BEGIN:DAYLIGHT
TZOFFSETFROM:-0600
TZOFFSETTO:-0500
TZNAME:CDT
DTSTART:20260308T080000
END:DAYLIGHT
BEGIN:STANDARD
TZOFFSETFROM:-0500
TZOFFSETTO:-0600
TZNAME:CST
DTSTART:20261101T070000
END:STANDARD
END:VTIMEZONE
BEGIN:VEVENT
DTSTART;TZID=America/North_Dakota/Center:20250228T180000
DTEND;TZID=America/North_Dakota/Center:20250228T190000
DTSTAMP:20260425T090334
CREATED:20241222T160047Z
LAST-MODIFIED:20250124T164601Z
UID:10002415-1740765600-1740769200@www.redbudrvresort.com
SUMMARY:BINGO
DESCRIPTION:Join us on Friday’s at 6 pm in The Lodge for BINGO – fun for the whole family!
URL:https://www.redbudrvresort.com/event/bingo-21/2025-02-28/
END:VEVENT
BEGIN:VEVENT
DTSTART;TZID=America/North_Dakota/Center:20250222T190000
DTEND;TZID=America/North_Dakota/Center:20250222T210000
DTSTAMP:20260425T090334
CREATED:20241018T171555Z
LAST-MODIFIED:20250109T155358Z
UID:10001659-1740250800-1740258000@www.redbudrvresort.com
SUMMARY:Movie Night
DESCRIPTION:
URL:https://www.redbudrvresort.com/event/movie-night-5-2-2/2025-02-22/
END:VEVENT
BEGIN:VEVENT
DTSTART;TZID=America/North_Dakota/Center:20250222T110000
DTEND;TZID=America/North_Dakota/Center:20250222T123000
DTSTAMP:20260425T090334
CREATED:20250221T180913Z
LAST-MODIFIED:20250221T180914Z
UID:10002516-1740222000-1740227400@www.redbudrvresort.com
SUMMARY:Craft Time
DESCRIPTION:Join us in The Business Center for craft time today @ 11 AM
URL:https://www.redbudrvresort.com/event/craft-time-5/
END:VEVENT
BEGIN:VEVENT
DTSTART;TZID=America/North_Dakota/Center:20250221T180000
DTEND;TZID=America/North_Dakota/Center:20250221T190000
DTSTAMP:20260425T090334
CREATED:20241222T160047Z
LAST-MODIFIED:20250124T164601Z
UID:10002414-1740160800-1740164400@www.redbudrvresort.com
SUMMARY:BINGO
DESCRIPTION:Join us on Friday’s at 6 pm in The Lodge for BINGO – fun for the whole family!
URL:https://www.redbudrvresort.com/event/bingo-21/2025-02-21/
END:VEVENT
BEGIN:VEVENT
DTSTART;TZID=America/North_Dakota/Center:20250221T170000
DTEND;TZID=America/North_Dakota/Center:20250221T190000
DTSTAMP:20260425T090334
CREATED:20250124T162925Z
LAST-MODIFIED:20250124T164423Z
UID:10002643-1740157200-1740164400@www.redbudrvresort.com
SUMMARY:O's Chop House
DESCRIPTION:
URL:https://www.redbudrvresort.com/event/os-chop-house/2025-02-21/
END:VEVENT
BEGIN:VEVENT
DTSTART;TZID=America/North_Dakota/Center:20250217T080000
DTEND;TZID=America/North_Dakota/Center:20250217T170000
DTSTAMP:20260425T090334
CREATED:20250110T151020Z
LAST-MODIFIED:20250110T151231Z
UID:10002614-1739779200-1739811600@www.redbudrvresort.com
SUMMARY:Presidents' Day
DESCRIPTION:
URL:https://www.redbudrvresort.com/event/presidents-day/
END:VEVENT
BEGIN:VEVENT
DTSTART;TZID=America/North_Dakota/Center:20250215T190000
DTEND;TZID=America/North_Dakota/Center:20250215T210000
DTSTAMP:20260425T090334
CREATED:20241018T171555Z
LAST-MODIFIED:20250109T155358Z
UID:10001658-1739646000-1739653200@www.redbudrvresort.com
SUMMARY:Movie Night
DESCRIPTION:
URL:https://www.redbudrvresort.com/event/movie-night-5-2-2/2025-02-15/
END:VEVENT
BEGIN:VEVENT
DTSTART;TZID=America/North_Dakota/Center:20250214T180000
DTEND;TZID=America/North_Dakota/Center:20250214T190000
DTSTAMP:20260425T090334
CREATED:20241222T160047Z
LAST-MODIFIED:20250124T164601Z
UID:10002413-1739556000-1739559600@www.redbudrvresort.com
SUMMARY:BINGO
DESCRIPTION:Join us on Friday’s at 6 pm in The Lodge for BINGO – fun for the whole family!
URL:https://www.redbudrvresort.com/event/bingo-21/2025-02-14/
END:VEVENT
BEGIN:VEVENT
DTSTART;TZID=America/North_Dakota/Center:20250214T080000
DTEND;TZID=America/North_Dakota/Center:20250216T170000
DTSTAMP:20260425T090334
CREATED:20250110T144424Z
LAST-MODIFIED:20250213T174919Z
UID:10002613-1739520000-1739725200@www.redbudrvresort.com
SUMMARY:Love Is In The Air Weekend (Valentine's Day)
DESCRIPTION:Themed weekend for: Bingo\,craft time and family friendly movie night!
URL:https://www.redbudrvresort.com/event/love-is-in-the-air-weekend-valentines-day/
END:VEVENT
BEGIN:VEVENT
DTSTART;TZID=America/North_Dakota/Center:20250209T170000
DTEND;TZID=America/North_Dakota/Center:20250209T183000
DTSTAMP:20260425T090334
CREATED:20250110T143541Z
LAST-MODIFIED:20250110T143541Z
UID:10002612-1739120400-1739125800@www.redbudrvresort.com
SUMMARY:"SOUP"er Bowl Weekend Social
DESCRIPTION:Cook up a batch of your favorite soup and join us in The Lodge for a tasting/sharing before the big game!  Stick around and watch on the big screen if you like.
URL:https://www.redbudrvresort.com/event/souper-bowl-weekend-social/
END:VEVENT
BEGIN:VEVENT
DTSTART;TZID=America/North_Dakota/Center:20250208T190000
DTEND;TZID=America/North_Dakota/Center:20250208T210000
DTSTAMP:20260425T090334
CREATED:20241018T171555Z
LAST-MODIFIED:20250109T155358Z
UID:10001657-1739041200-1739048400@www.redbudrvresort.com
SUMMARY:Movie Night
DESCRIPTION:
URL:https://www.redbudrvresort.com/event/movie-night-5-2-2/2025-02-08/
END:VEVENT
BEGIN:VEVENT
DTSTART;TZID=America/North_Dakota/Center:20250208T110000
DTEND;TZID=America/North_Dakota/Center:20250208T123000
DTSTAMP:20260425T090334
CREATED:20250124T175457Z
LAST-MODIFIED:20250124T175507Z
UID:10002514-1739012400-1739017800@www.redbudrvresort.com
SUMMARY:Craft Time
DESCRIPTION:Join us in The Business Center for craft time @ 11 AM
URL:https://www.redbudrvresort.com/event/craft-time-2/
END:VEVENT
BEGIN:VEVENT
DTSTART;TZID=America/North_Dakota/Center:20250208T093000
DTEND;TZID=America/North_Dakota/Center:20250208T140000
DTSTAMP:20260425T090334
CREATED:20250110T154907Z
LAST-MODIFIED:20250124T174612Z
UID:10002646-1739007000-1739023200@www.redbudrvresort.com
SUMMARY:Lodge Closed - Private Group
DESCRIPTION:
URL:https://www.redbudrvresort.com/event/lodge-closed-private-group/2025-02-08/
END:VEVENT
BEGIN:VEVENT
DTSTART;TZID=America/North_Dakota/Center:20250207T180000
DTEND;TZID=America/North_Dakota/Center:20250207T190000
DTSTAMP:20260425T090334
CREATED:20241222T160047Z
LAST-MODIFIED:20250124T164601Z
UID:10002412-1738951200-1738954800@www.redbudrvresort.com
SUMMARY:BINGO
DESCRIPTION:Join us on Friday’s at 6 pm in The Lodge for BINGO – fun for the whole family!
URL:https://www.redbudrvresort.com/event/bingo-21/2025-02-07/
END:VEVENT
BEGIN:VEVENT
DTSTART;TZID=America/North_Dakota/Center:20250204T080000
DTEND;TZID=America/North_Dakota/Center:20250204T120000
DTSTAMP:20260425T090334
CREATED:20250110T154907Z
LAST-MODIFIED:20250124T174612Z
UID:10002645-1738656000-1738670400@www.redbudrvresort.com
SUMMARY:Lodge Closed - Private Group
DESCRIPTION:
URL:https://www.redbudrvresort.com/event/lodge-closed-private-group/2025-02-04/
END:VEVENT
BEGIN:VEVENT
DTSTART;TZID=America/North_Dakota/Center:20250201T190000
DTEND;TZID=America/North_Dakota/Center:20250201T210000
DTSTAMP:20260425T090334
CREATED:20241018T171555Z
LAST-MODIFIED:20250109T155358Z
UID:10001656-1738436400-1738443600@www.redbudrvresort.com
SUMMARY:Movie Night
DESCRIPTION:
URL:https://www.redbudrvresort.com/event/movie-night-5-2-2/2025-02-01/
END:VEVENT
BEGIN:VEVENT
DTSTART;TZID=America/North_Dakota/Center:20250201T110000
DTEND;TZID=America/North_Dakota/Center:20250201T123000
DTSTAMP:20260425T090334
CREATED:20250110T142948Z
LAST-MODIFIED:20250805T151909Z
UID:10002513-1738407600-1738413000@www.redbudrvresort.com
SUMMARY:Slip N Slide Fun
DESCRIPTION:he pla
URL:https://www.redbudrvresort.com/event/craft-time/
END:VEVENT
BEGIN:VEVENT
DTSTART;TZID=America/North_Dakota/Center:20250131T180000
DTEND;TZID=America/North_Dakota/Center:20250131T190000
DTSTAMP:20260425T090334
CREATED:20241222T160047Z
LAST-MODIFIED:20250124T164601Z
UID:10002411-1738346400-1738350000@www.redbudrvresort.com
SUMMARY:BINGO
DESCRIPTION:Join us on Friday’s at 6 pm in The Lodge for BINGO – fun for the whole family!
URL:https://www.redbudrvresort.com/event/bingo-21/2025-01-31/
END:VEVENT
BEGIN:VEVENT
DTSTART;TZID=America/North_Dakota/Center:20250131T170000
DTEND;TZID=America/North_Dakota/Center:20250131T190000
DTSTAMP:20260425T090334
CREATED:20250124T162925Z
LAST-MODIFIED:20250124T164423Z
UID:10002641-1738342800-1738350000@www.redbudrvresort.com
SUMMARY:O's Chop House
DESCRIPTION:
URL:https://www.redbudrvresort.com/event/os-chop-house/2025-01-31/
END:VEVENT
BEGIN:VEVENT
DTSTART;TZID=America/North_Dakota/Center:20250125T190000
DTEND;TZID=America/North_Dakota/Center:20250125T210000
DTSTAMP:20260425T090334
CREATED:20241018T171555Z
LAST-MODIFIED:20250109T155358Z
UID:10001655-1737831600-1737838800@www.redbudrvresort.com
SUMMARY:Movie Night
DESCRIPTION:
URL:https://www.redbudrvresort.com/event/movie-night-5-2-2/2025-01-25/
END:VEVENT
BEGIN:VEVENT
DTSTART;TZID=America/North_Dakota/Center:20250125T110000
DTEND;TZID=America/North_Dakota/Center:20250125T123000
DTSTAMP:20260425T090334
CREATED:20241222T160341Z
LAST-MODIFIED:20241222T160341Z
UID:10001925-1737802800-1737808200@www.redbudrvresort.com
SUMMARY:Craft Time @ 11 AM
DESCRIPTION:Join us in The Lodge for craft time activities.
URL:https://www.redbudrvresort.com/event/craft-time-11-am/2025-01-25/
END:VEVENT
BEGIN:VEVENT
DTSTART;TZID=America/North_Dakota/Center:20250124T180000
DTEND;TZID=America/North_Dakota/Center:20250124T190000
DTSTAMP:20260425T090334
CREATED:20250109T220706Z
LAST-MODIFIED:20250109T220723Z
UID:10002410-1737741600-1737745200@www.redbudrvresort.com
SUMMARY:BINGO
DESCRIPTION:Join us on Friday’s at 6 pm in The Lodge for BINGO – fun for the whole family!
URL:https://www.redbudrvresort.com/event/bingo-16/
END:VEVENT
BEGIN:VEVENT
DTSTART;TZID=America/North_Dakota/Center:20250124T080000
DTEND;TZID=America/North_Dakota/Center:20250208T200000
DTSTAMP:20260425T090334
CREATED:20250124T163304Z
LAST-MODIFIED:20250124T163304Z
UID:10002642-1737705600-1739044800@www.redbudrvresort.com
SUMMARY:Super Bowl Squares
DESCRIPTION:Check out the board in The Lodge!  Choose your square(s) $5/square and pay the office staff!  Last square purchase on 2/8/25 at 8 pm.  Then join us for SOUPer Bowl Social on 2/9 at 5 pm\, bring a soup to share and watch the game on the big screen.
URL:https://www.redbudrvresort.com/event/super-bowl-squares/
END:VEVENT
BEGIN:VEVENT
DTSTART;TZID=America/North_Dakota/Center:20250118T190000
DTEND;TZID=America/North_Dakota/Center:20250118T210000
DTSTAMP:20260425T090334
CREATED:20241018T171555Z
LAST-MODIFIED:20250109T155358Z
UID:10001654-1737226800-1737234000@www.redbudrvresort.com
SUMMARY:Movie Night
DESCRIPTION:
URL:https://www.redbudrvresort.com/event/movie-night-5-2-2/2025-01-18/
END:VEVENT
BEGIN:VEVENT
DTSTART;TZID=America/North_Dakota/Center:20250118T110000
DTEND;TZID=America/North_Dakota/Center:20250118T123000
DTSTAMP:20260425T090334
CREATED:20241222T160341Z
LAST-MODIFIED:20241222T160341Z
UID:10001924-1737198000-1737203400@www.redbudrvresort.com
SUMMARY:Craft Time @ 11 AM
DESCRIPTION:Join us in The Lodge for craft time activities.
URL:https://www.redbudrvresort.com/event/craft-time-11-am/2025-01-18/
END:VEVENT
BEGIN:VEVENT
DTSTART;TZID=America/North_Dakota/Center:20250117T180000
DTEND;TZID=America/North_Dakota/Center:20250117T190000
DTSTAMP:20260425T090334
CREATED:20250109T220647Z
LAST-MODIFIED:20250109T220648Z
UID:10002409-1737136800-1737140400@www.redbudrvresort.com
SUMMARY:BINGO
DESCRIPTION:Join us on Friday’s at 6 pm in The Lodge for BINGO – fun for the whole family!
URL:https://www.redbudrvresort.com/event/bingo-21-4/
END:VEVENT
BEGIN:VEVENT
DTSTART;TZID=America/North_Dakota/Center:20250111T190000
DTEND;TZID=America/North_Dakota/Center:20250111T210000
DTSTAMP:20260425T090334
CREATED:20241018T171555Z
LAST-MODIFIED:20250109T155358Z
UID:10001653-1736622000-1736629200@www.redbudrvresort.com
SUMMARY:Movie Night
DESCRIPTION:
URL:https://www.redbudrvresort.com/event/movie-night-5-2-2/2025-01-11/
END:VEVENT
BEGIN:VEVENT
DTSTART;TZID=America/North_Dakota/Center:20250111T110000
DTEND;TZID=America/North_Dakota/Center:20250111T123000
DTSTAMP:20260425T090334
CREATED:20241222T160341Z
LAST-MODIFIED:20241222T160341Z
UID:10001923-1736593200-1736598600@www.redbudrvresort.com
SUMMARY:Craft Time @ 11 AM
DESCRIPTION:Join us in The Lodge for craft time activities.
URL:https://www.redbudrvresort.com/event/craft-time-11-am/2025-01-11/
END:VEVENT
BEGIN:VEVENT
DTSTART;TZID=America/North_Dakota/Center:20250110T180000
DTEND;TZID=America/North_Dakota/Center:20250110T190000
DTSTAMP:20260425T090334
CREATED:20250109T220530Z
LAST-MODIFIED:20250109T220530Z
UID:10001918-1736532000-1736535600@www.redbudrvresort.com
SUMMARY:BINGO
DESCRIPTION:Join us on Friday’s at 6 pm in The Lodge for BINGO – fun for the whole family!
URL:https://www.redbudrvresort.com/event/bingo-21-3/
END:VEVENT
BEGIN:VEVENT
DTSTART;TZID=America/North_Dakota/Center:20250105T130000
DTEND;TZID=America/North_Dakota/Center:20250105T133000
DTSTAMP:20260425T090334
CREATED:20241222T160516Z
LAST-MODIFIED:20241222T160516Z
UID:10001926-1736082000-1736083800@www.redbudrvresort.com
SUMMARY:Polar Plunge
DESCRIPTION:Join us at the pool for our annual Polar Plunge!
URL:https://www.redbudrvresort.com/event/polar-plunge-2/
END:VEVENT
END:VCALENDAR