BEGIN:VCALENDAR
VERSION:2.0
PRODID:-//Redbud Ranch RV Resort - ECPv6.15.20//NONSGML v1.0//EN
CALSCALE:GREGORIAN
METHOD:PUBLISH
X-WR-CALNAME:Redbud Ranch RV Resort
X-ORIGINAL-URL:https://www.redbudrvresort.com
X-WR-CALDESC:Events for Redbud Ranch RV Resort
REFRESH-INTERVAL;VALUE=DURATION:PT1H
X-Robots-Tag:noindex
X-PUBLISHED-TTL:PT1H
BEGIN:VTIMEZONE
TZID:America/North_Dakota/Center
BEGIN:DAYLIGHT
TZOFFSETFROM:-0600
TZOFFSETTO:-0500
TZNAME:CDT
DTSTART:20230312T080000
END:DAYLIGHT
BEGIN:STANDARD
TZOFFSETFROM:-0500
TZOFFSETTO:-0600
TZNAME:CST
DTSTART:20231105T070000
END:STANDARD
BEGIN:DAYLIGHT
TZOFFSETFROM:-0600
TZOFFSETTO:-0500
TZNAME:CDT
DTSTART:20240310T080000
END:DAYLIGHT
BEGIN:STANDARD
TZOFFSETFROM:-0500
TZOFFSETTO:-0600
TZNAME:CST
DTSTART:20241103T070000
END:STANDARD
BEGIN:DAYLIGHT
TZOFFSETFROM:-0600
TZOFFSETTO:-0500
TZNAME:CDT
DTSTART:20250309T080000
END:DAYLIGHT
BEGIN:STANDARD
TZOFFSETFROM:-0500
TZOFFSETTO:-0600
TZNAME:CST
DTSTART:20251102T070000
END:STANDARD
END:VTIMEZONE
BEGIN:VEVENT
DTSTART;TZID=America/North_Dakota/Center:20241025T200000
DTEND;TZID=America/North_Dakota/Center:20241025T213000
DTSTAMP:20260425T113403
CREATED:20240919T170703Z
LAST-MODIFIED:20240919T170703Z
UID:10001632-1729886400-1729891800@www.redbudrvresort.com
SUMMARY:Movie Night
DESCRIPTION:We are moving MOVIE NIGHT to Friday since we will be trick or treating tomorrow!  The Lodge 8 pm
URL:https://www.redbudrvresort.com/event/movie-night-11/
END:VEVENT
BEGIN:VEVENT
DTSTART;TZID=America/North_Dakota/Center:20241025T180000
DTEND;TZID=America/North_Dakota/Center:20241025T190000
DTSTAMP:20260425T113403
CREATED:20240919T170443Z
LAST-MODIFIED:20240919T170443Z
UID:10001631-1729879200-1729882800@www.redbudrvresort.com
SUMMARY:BINGO
DESCRIPTION:Come join us for a “ghoulishly” fun game of BINGO!  Bring the family!  6 pm
URL:https://www.redbudrvresort.com/event/bingo-18/
END:VEVENT
BEGIN:VEVENT
DTSTART;VALUE=DATE:20241025
DTEND;VALUE=DATE:20241028
DTSTAMP:20260425T113403
CREATED:20231214T220256Z
LAST-MODIFIED:20240919T181448Z
UID:10000900-1729814400-1730073599@www.redbudrvresort.com
SUMMARY:4th Annual Boo in the Park Celebration Weekend
DESCRIPTION:Wear your best costume\, bring your decorations for our site decorating contest\, and get ready for a hauntingly good time!
URL:https://www.redbudrvresort.com/event/4th-annual-boo-in-the-park-celebration-weekend/
END:VEVENT
BEGIN:VEVENT
DTSTART;TZID=America/North_Dakota/Center:20241019T200000
DTEND;TZID=America/North_Dakota/Center:20241019T210000
DTSTAMP:20260425T113403
CREATED:20240301T022903Z
LAST-MODIFIED:20240423T151946Z
UID:10001375-1729368000-1729371600@www.redbudrvresort.com
SUMMARY:Movie Night
DESCRIPTION:
URL:https://www.redbudrvresort.com/event/movie-night-5-2/2024-10-19/
END:VEVENT
BEGIN:VEVENT
DTSTART;TZID=America/North_Dakota/Center:20241018T180000
DTEND;TZID=America/North_Dakota/Center:20241018T190000
DTSTAMP:20260425T113403
CREATED:20240909T152807Z
LAST-MODIFIED:20240909T152807Z
UID:10001629-1729274400-1729278000@www.redbudrvresort.com
SUMMARY:BINGO!
DESCRIPTION:Join us for a family fun activity and try your luck at some BINGO!  6 pm in The Lodge.
URL:https://www.redbudrvresort.com/event/bingo-17/2024-10-18/
END:VEVENT
BEGIN:VEVENT
DTSTART;TZID=America/North_Dakota/Center:20241012T200000
DTEND;TZID=America/North_Dakota/Center:20241012T210000
DTSTAMP:20260425T113403
CREATED:20240301T022903Z
LAST-MODIFIED:20240423T151946Z
UID:10001374-1728763200-1728766800@www.redbudrvresort.com
SUMMARY:Movie Night
DESCRIPTION:
URL:https://www.redbudrvresort.com/event/movie-night-5-2/2024-10-12/
END:VEVENT
BEGIN:VEVENT
DTSTART;TZID=America/North_Dakota/Center:20241011T180000
DTEND;TZID=America/North_Dakota/Center:20241011T200000
DTSTAMP:20260425T113403
CREATED:20231214T220528Z
LAST-MODIFIED:20240919T170054Z
UID:10000901-1728669600-1728676800@www.redbudrvresort.com
SUMMARY:BINGO
DESCRIPTION:Bring the family and enjoy this free event by playing multiple games of BINGO.  There are plenty of fun prizes to be won for kids and adults!
URL:https://www.redbudrvresort.com/event/bingo-14/
END:VEVENT
BEGIN:VEVENT
DTSTART;TZID=America/North_Dakota/Center:20241005T200000
DTEND;TZID=America/North_Dakota/Center:20241005T210000
DTSTAMP:20260425T113403
CREATED:20240301T022903Z
LAST-MODIFIED:20240423T151946Z
UID:10001373-1728158400-1728162000@www.redbudrvresort.com
SUMMARY:Movie Night
DESCRIPTION:
URL:https://www.redbudrvresort.com/event/movie-night-5-2/2024-10-05/
END:VEVENT
BEGIN:VEVENT
DTSTART;TZID=America/North_Dakota/Center:20241005T180000
DTEND;TZID=America/North_Dakota/Center:20241005T193000
DTSTAMP:20260425T113403
CREATED:20231214T220052Z
LAST-MODIFIED:20240919T165438Z
UID:10000899-1728151200-1728156600@www.redbudrvresort.com
SUMMARY:National Taco Day Social
DESCRIPTION:Join us in The Lodge for a Taco Bar Social!  6 pm
URL:https://www.redbudrvresort.com/event/national-taco-day-social/
END:VEVENT
BEGIN:VEVENT
DTSTART;TZID=America/North_Dakota/Center:20241004T180000
DTEND;TZID=America/North_Dakota/Center:20241004T190000
DTSTAMP:20260425T113403
CREATED:20240909T152807Z
LAST-MODIFIED:20240909T152807Z
UID:10001628-1728064800-1728068400@www.redbudrvresort.com
SUMMARY:BINGO!
DESCRIPTION:Join us for a family fun activity and try your luck at some BINGO!  6 pm in The Lodge.
URL:https://www.redbudrvresort.com/event/bingo-17/2024-10-04/
END:VEVENT
BEGIN:VEVENT
DTSTART;TZID=America/North_Dakota/Center:20240928T200000
DTEND;TZID=America/North_Dakota/Center:20240928T210000
DTSTAMP:20260425T113403
CREATED:20240301T022903Z
LAST-MODIFIED:20240423T151946Z
UID:10001372-1727553600-1727557200@www.redbudrvresort.com
SUMMARY:Movie Night
DESCRIPTION:
URL:https://www.redbudrvresort.com/event/movie-night-5-2/2024-09-28/
END:VEVENT
BEGIN:VEVENT
DTSTART;TZID=America/North_Dakota/Center:20240927T180000
DTEND;TZID=America/North_Dakota/Center:20240927T200000
DTSTAMP:20260425T113403
CREATED:20231214T201537Z
LAST-MODIFIED:20240503T165955Z
UID:10000862-1727460000-1727467200@www.redbudrvresort.com
SUMMARY:BINGO
DESCRIPTION:Bring the family and enjoy this free event by playing multiple games of BINGO.  There are plenty of fun prizes to be won for kids and adults!
URL:https://www.redbudrvresort.com/event/bingo-13/2024-09-27/
END:VEVENT
BEGIN:VEVENT
DTSTART;TZID=America/North_Dakota/Center:20240921T200000
DTEND;TZID=America/North_Dakota/Center:20240921T210000
DTSTAMP:20260425T113403
CREATED:20240301T022903Z
LAST-MODIFIED:20240423T151946Z
UID:10001371-1726948800-1726952400@www.redbudrvresort.com
SUMMARY:Movie Night
DESCRIPTION:
URL:https://www.redbudrvresort.com/event/movie-night-5-2/2024-09-21/
END:VEVENT
BEGIN:VEVENT
DTSTART;TZID=America/North_Dakota/Center:20240920T180000
DTEND;TZID=America/North_Dakota/Center:20240920T200000
DTSTAMP:20260425T113403
CREATED:20231214T201537Z
LAST-MODIFIED:20240503T165955Z
UID:10000861-1726855200-1726862400@www.redbudrvresort.com
SUMMARY:BINGO
DESCRIPTION:Bring the family and enjoy this free event by playing multiple games of BINGO.  There are plenty of fun prizes to be won for kids and adults!
URL:https://www.redbudrvresort.com/event/bingo-13/2024-09-20/
END:VEVENT
BEGIN:VEVENT
DTSTART;TZID=America/North_Dakota/Center:20240914T200000
DTEND;TZID=America/North_Dakota/Center:20240914T210000
DTSTAMP:20260425T113403
CREATED:20240301T022903Z
LAST-MODIFIED:20240423T151946Z
UID:10001904-1726344000-1726347600@www.redbudrvresort.com
SUMMARY:Movie Night
DESCRIPTION:
URL:https://www.redbudrvresort.com/event/movie-night-5-2/2024-09-14/
END:VEVENT
BEGIN:VEVENT
DTSTART;TZID=America/North_Dakota/Center:20240914T110000
DTEND;TZID=America/North_Dakota/Center:20240914T120000
DTSTAMP:20260425T113403
CREATED:20240907T214627Z
LAST-MODIFIED:20240907T214628Z
UID:10000380-1726311600-1726315200@www.redbudrvresort.com
SUMMARY:Arts & Crafts
DESCRIPTION:Today we will be doing craft outside on the sidewalk in front of the playscape!  Bring out your inner artist and help us chalk the walk!
URL:https://www.redbudrvresort.com/event/arts-crafts-5-3/
END:VEVENT
BEGIN:VEVENT
DTSTART;TZID=America/North_Dakota/Center:20240913T180000
DTEND;TZID=America/North_Dakota/Center:20240913T200000
DTSTAMP:20260425T113403
CREATED:20231214T201537Z
LAST-MODIFIED:20240503T165955Z
UID:10000860-1726250400-1726257600@www.redbudrvresort.com
SUMMARY:BINGO
DESCRIPTION:Bring the family and enjoy this free event by playing multiple games of BINGO.  There are plenty of fun prizes to be won for kids and adults!
URL:https://www.redbudrvresort.com/event/bingo-13/2024-09-13/
END:VEVENT
BEGIN:VEVENT
DTSTART;TZID=America/North_Dakota/Center:20240907T200000
DTEND;TZID=America/North_Dakota/Center:20240907T210000
DTSTAMP:20260425T113403
CREATED:20240301T022903Z
LAST-MODIFIED:20240423T151946Z
UID:10001369-1725739200-1725742800@www.redbudrvresort.com
SUMMARY:Movie Night
DESCRIPTION:
URL:https://www.redbudrvresort.com/event/movie-night-5-2/2024-09-07/
END:VEVENT
BEGIN:VEVENT
DTSTART;TZID=America/North_Dakota/Center:20240907T080000
DTEND;TZID=America/North_Dakota/Center:20240907T093000
DTSTAMP:20260425T113403
CREATED:20240824T173152Z
LAST-MODIFIED:20240824T194457Z
UID:10001626-1725696000-1725701400@www.redbudrvresort.com
SUMMARY:Pastries with Grandparents
DESCRIPTION:Join us at 8 am in The Lodge for pastries with grandparents!
URL:https://www.redbudrvresort.com/event/pastries-with-grandparents/
END:VEVENT
BEGIN:VEVENT
DTSTART;TZID=America/North_Dakota/Center:20240906T180000
DTEND;TZID=America/North_Dakota/Center:20240906T200000
DTSTAMP:20260425T113403
CREATED:20231214T201537Z
LAST-MODIFIED:20240503T165955Z
UID:10000859-1725645600-1725652800@www.redbudrvresort.com
SUMMARY:BINGO
DESCRIPTION:Bring the family and enjoy this free event by playing multiple games of BINGO.  There are plenty of fun prizes to be won for kids and adults!
URL:https://www.redbudrvresort.com/event/bingo-13/2024-09-06/
END:VEVENT
BEGIN:VEVENT
DTSTART;VALUE=DATE:20240906
DTEND;VALUE=DATE:20240909
DTSTAMP:20260425T113403
CREATED:20231214T215743Z
LAST-MODIFIED:20231214T215743Z
UID:10000898-1725580800-1725839999@www.redbudrvresort.com
SUMMARY:National Grandparent's Day Weekend Celebration
DESCRIPTION:Grandparent’s\, this weekend is all about YOU!
URL:https://www.redbudrvresort.com/event/national-grandparents-day-weekend-celebration/
END:VEVENT
BEGIN:VEVENT
DTSTART;TZID=America/North_Dakota/Center:20240831T200000
DTEND;TZID=America/North_Dakota/Center:20240831T210000
DTSTAMP:20260425T113403
CREATED:20240301T022903Z
LAST-MODIFIED:20240423T151946Z
UID:10001368-1725134400-1725138000@www.redbudrvresort.com
SUMMARY:Movie Night
DESCRIPTION:
URL:https://www.redbudrvresort.com/event/movie-night-5-2/2024-08-31/
END:VEVENT
BEGIN:VEVENT
DTSTART;TZID=America/North_Dakota/Center:20240830T180000
DTEND;TZID=America/North_Dakota/Center:20240830T200000
DTSTAMP:20260425T113403
CREATED:20231214T201537Z
LAST-MODIFIED:20240503T165955Z
UID:10000858-1725040800-1725048000@www.redbudrvresort.com
SUMMARY:BINGO
DESCRIPTION:Bring the family and enjoy this free event by playing multiple games of BINGO.  There are plenty of fun prizes to be won for kids and adults!
URL:https://www.redbudrvresort.com/event/bingo-13/2024-08-30/
END:VEVENT
BEGIN:VEVENT
DTSTART;TZID=America/North_Dakota/Center:20240826T183000
DTEND;TZID=America/North_Dakota/Center:20240826T200000
DTSTAMP:20260425T113403
CREATED:20231214T212311Z
LAST-MODIFIED:20231214T212311Z
UID:10000883-1724697000-1724702400@www.redbudrvresort.com
SUMMARY:Family Game Night
DESCRIPTION:Enjoy a fun night of playing different board games with the whole family!
URL:https://www.redbudrvresort.com/event/family-game-night-5/2024-08-26/
END:VEVENT
BEGIN:VEVENT
DTSTART;TZID=America/North_Dakota/Center:20240824T200000
DTEND;TZID=America/North_Dakota/Center:20240824T210000
DTSTAMP:20260425T113403
CREATED:20240301T022903Z
LAST-MODIFIED:20240423T151946Z
UID:10001367-1724529600-1724533200@www.redbudrvresort.com
SUMMARY:Movie Night
DESCRIPTION:
URL:https://www.redbudrvresort.com/event/movie-night-5-2/2024-08-24/
END:VEVENT
BEGIN:VEVENT
DTSTART;TZID=America/North_Dakota/Center:20240824T150000
DTEND;TZID=America/North_Dakota/Center:20240824T200000
DTSTAMP:20260425T113403
CREATED:20240803T202637Z
LAST-MODIFIED:20240803T202637Z
UID:10001622-1724511600-1724529600@www.redbudrvresort.com
SUMMARY:Cornhole Tourney
DESCRIPTION:Join us out by the pool at the Cornhole area for a fun\, friendly tournament.  Sign up at 3 pm and tournament will start shortly after!
URL:https://www.redbudrvresort.com/event/cornhole-tourney/
END:VEVENT
BEGIN:VEVENT
DTSTART;TZID=America/North_Dakota/Center:20240823T180000
DTEND;TZID=America/North_Dakota/Center:20240823T200000
DTSTAMP:20260425T113403
CREATED:20231214T201537Z
LAST-MODIFIED:20240503T165955Z
UID:10000857-1724436000-1724443200@www.redbudrvresort.com
SUMMARY:BINGO
DESCRIPTION:Bring the family and enjoy this free event by playing multiple games of BINGO.  There are plenty of fun prizes to be won for kids and adults!
URL:https://www.redbudrvresort.com/event/bingo-13/2024-08-23/
END:VEVENT
BEGIN:VEVENT
DTSTART;TZID=America/North_Dakota/Center:20240821T183000
DTEND;TZID=America/North_Dakota/Center:20240821T200000
DTSTAMP:20260425T113403
CREATED:20231214T212142Z
LAST-MODIFIED:20240224T174809Z
UID:10000951-1724265000-1724270400@www.redbudrvresort.com
SUMMARY:Wine Down Wednesday
DESCRIPTION:This Adult Only Event is the perfect way to escape from the busy week.  Bring your favorite beverage and enjoy the snacks that will be provided while socializing with fellow guests!
URL:https://www.redbudrvresort.com/event/wine-down-wednesday-8/2024-08-21/
END:VEVENT
BEGIN:VEVENT
DTSTART;TZID=America/North_Dakota/Center:20240817T200000
DTEND;TZID=America/North_Dakota/Center:20240817T213000
DTSTAMP:20260425T113403
CREATED:20240803T184149Z
LAST-MODIFIED:20240803T184230Z
UID:10001620-1723924800-1723930200@www.redbudrvresort.com
SUMMARY:Movie Night
DESCRIPTION:Join us poolside (weather permitting) for this week’s movie night!
URL:https://www.redbudrvresort.com/event/movie-night-10/
END:VEVENT
BEGIN:VEVENT
DTSTART;TZID=America/North_Dakota/Center:20240817T150000
DTEND;TZID=America/North_Dakota/Center:20240817T170000
DTSTAMP:20260425T113403
CREATED:20240816T154421Z
LAST-MODIFIED:20240816T154421Z
UID:10001624-1723906800-1723914000@www.redbudrvresort.com
SUMMARY:Bubble Bash Fun
DESCRIPTION:Join us at the pool for Back to School Bubble Bash Fun!  It is sure to be a “popping” good time!
URL:https://www.redbudrvresort.com/event/bubble-bash-fun/
END:VEVENT
END:VCALENDAR