BEGIN:VCALENDAR
VERSION:2.0
PRODID:-//Redbud Ranch RV Resort - ECPv6.15.20//NONSGML v1.0//EN
CALSCALE:GREGORIAN
METHOD:PUBLISH
X-WR-CALNAME:Redbud Ranch RV Resort
X-ORIGINAL-URL:https://www.redbudrvresort.com
X-WR-CALDESC:Events for Redbud Ranch RV Resort
REFRESH-INTERVAL;VALUE=DURATION:PT1H
X-Robots-Tag:noindex
X-PUBLISHED-TTL:PT1H
BEGIN:VTIMEZONE
TZID:America/North_Dakota/Center
BEGIN:DAYLIGHT
TZOFFSETFROM:-0600
TZOFFSETTO:-0500
TZNAME:CDT
DTSTART:20260308T080000
END:DAYLIGHT
BEGIN:STANDARD
TZOFFSETFROM:-0500
TZOFFSETTO:-0600
TZNAME:CST
DTSTART:20261101T070000
END:STANDARD
BEGIN:DAYLIGHT
TZOFFSETFROM:-0600
TZOFFSETTO:-0500
TZNAME:CDT
DTSTART:20270314T080000
END:DAYLIGHT
BEGIN:STANDARD
TZOFFSETFROM:-0500
TZOFFSETTO:-0600
TZNAME:CST
DTSTART:20271107T070000
END:STANDARD
BEGIN:DAYLIGHT
TZOFFSETFROM:-0600
TZOFFSETTO:-0500
TZNAME:CDT
DTSTART:20280312T080000
END:DAYLIGHT
BEGIN:STANDARD
TZOFFSETFROM:-0500
TZOFFSETTO:-0600
TZNAME:CST
DTSTART:20281105T070000
END:STANDARD
BEGIN:DAYLIGHT
TZOFFSETFROM:-0600
TZOFFSETTO:-0500
TZNAME:CDT
DTSTART:20290311T080000
END:DAYLIGHT
BEGIN:STANDARD
TZOFFSETFROM:-0500
TZOFFSETTO:-0600
TZNAME:CST
DTSTART:20291104T070000
END:STANDARD
BEGIN:DAYLIGHT
TZOFFSETFROM:-0600
TZOFFSETTO:-0500
TZNAME:CDT
DTSTART:20300310T080000
END:DAYLIGHT
BEGIN:STANDARD
TZOFFSETFROM:-0500
TZOFFSETTO:-0600
TZNAME:CST
DTSTART:20301103T070000
END:STANDARD
END:VTIMEZONE
BEGIN:VEVENT
DTSTART;TZID=America/North_Dakota/Center:20270109T190000
DTEND;TZID=America/North_Dakota/Center:20270109T210000
DTSTAMP:20260425T111633
CREATED:20260326T195644Z
LAST-MODIFIED:20260326T195644Z
UID:10003047-1799521200-1799528400@www.redbudrvresort.com
SUMMARY:Movie Night
DESCRIPTION:Movie Night in The Lodge at 7 pm!
URL:https://www.redbudrvresort.com/event/movie-night-14/2027-01-09/
END:VEVENT
BEGIN:VEVENT
DTSTART;TZID=America/North_Dakota/Center:20270116T190000
DTEND;TZID=America/North_Dakota/Center:20270116T210000
DTSTAMP:20260425T111633
CREATED:20260326T195644Z
LAST-MODIFIED:20260326T195644Z
UID:10003048-1800126000-1800133200@www.redbudrvresort.com
SUMMARY:Movie Night
DESCRIPTION:Movie Night in The Lodge at 7 pm!
URL:https://www.redbudrvresort.com/event/movie-night-14/2027-01-16/
END:VEVENT
BEGIN:VEVENT
DTSTART;TZID=America/North_Dakota/Center:20270123T190000
DTEND;TZID=America/North_Dakota/Center:20270123T210000
DTSTAMP:20260425T111633
CREATED:20260326T195644Z
LAST-MODIFIED:20260326T195644Z
UID:10003049-1800730800-1800738000@www.redbudrvresort.com
SUMMARY:Movie Night
DESCRIPTION:Movie Night in The Lodge at 7 pm!
URL:https://www.redbudrvresort.com/event/movie-night-14/2027-01-23/
END:VEVENT
BEGIN:VEVENT
DTSTART;TZID=America/North_Dakota/Center:20270130T190000
DTEND;TZID=America/North_Dakota/Center:20270130T210000
DTSTAMP:20260425T111633
CREATED:20260326T195644Z
LAST-MODIFIED:20260326T195644Z
UID:10003050-1801335600-1801342800@www.redbudrvresort.com
SUMMARY:Movie Night
DESCRIPTION:Movie Night in The Lodge at 7 pm!
URL:https://www.redbudrvresort.com/event/movie-night-14/2027-01-30/
END:VEVENT
BEGIN:VEVENT
DTSTART;TZID=America/North_Dakota/Center:20270206T190000
DTEND;TZID=America/North_Dakota/Center:20270206T210000
DTSTAMP:20260425T111633
CREATED:20260326T195644Z
LAST-MODIFIED:20260326T195644Z
UID:10003051-1801940400-1801947600@www.redbudrvresort.com
SUMMARY:Movie Night
DESCRIPTION:Movie Night in The Lodge at 7 pm!
URL:https://www.redbudrvresort.com/event/movie-night-14/2027-02-06/
END:VEVENT
BEGIN:VEVENT
DTSTART;TZID=America/North_Dakota/Center:20270213T190000
DTEND;TZID=America/North_Dakota/Center:20270213T210000
DTSTAMP:20260425T111633
CREATED:20260326T195644Z
LAST-MODIFIED:20260326T195644Z
UID:10003052-1802545200-1802552400@www.redbudrvresort.com
SUMMARY:Movie Night
DESCRIPTION:Movie Night in The Lodge at 7 pm!
URL:https://www.redbudrvresort.com/event/movie-night-14/2027-02-13/
END:VEVENT
BEGIN:VEVENT
DTSTART;TZID=America/North_Dakota/Center:20270220T190000
DTEND;TZID=America/North_Dakota/Center:20270220T210000
DTSTAMP:20260425T111633
CREATED:20260326T195644Z
LAST-MODIFIED:20260326T195644Z
UID:10003053-1803150000-1803157200@www.redbudrvresort.com
SUMMARY:Movie Night
DESCRIPTION:Movie Night in The Lodge at 7 pm!
URL:https://www.redbudrvresort.com/event/movie-night-14/2027-02-20/
END:VEVENT
BEGIN:VEVENT
DTSTART;TZID=America/North_Dakota/Center:20270227T190000
DTEND;TZID=America/North_Dakota/Center:20270227T210000
DTSTAMP:20260425T111633
CREATED:20260326T195644Z
LAST-MODIFIED:20260326T195644Z
UID:10003054-1803754800-1803762000@www.redbudrvresort.com
SUMMARY:Movie Night
DESCRIPTION:Movie Night in The Lodge at 7 pm!
URL:https://www.redbudrvresort.com/event/movie-night-14/2027-02-27/
END:VEVENT
BEGIN:VEVENT
DTSTART;TZID=America/North_Dakota/Center:20270306T190000
DTEND;TZID=America/North_Dakota/Center:20270306T210000
DTSTAMP:20260425T111633
CREATED:20260326T195644Z
LAST-MODIFIED:20260326T195644Z
UID:10003055-1804359600-1804366800@www.redbudrvresort.com
SUMMARY:Movie Night
DESCRIPTION:Movie Night in The Lodge at 7 pm!
URL:https://www.redbudrvresort.com/event/movie-night-14/2027-03-06/
END:VEVENT
BEGIN:VEVENT
DTSTART;TZID=America/North_Dakota/Center:20270313T190000
DTEND;TZID=America/North_Dakota/Center:20270313T210000
DTSTAMP:20260425T111633
CREATED:20260326T195644Z
LAST-MODIFIED:20260326T195644Z
UID:10003056-1804964400-1804971600@www.redbudrvresort.com
SUMMARY:Movie Night
DESCRIPTION:Movie Night in The Lodge at 7 pm!
URL:https://www.redbudrvresort.com/event/movie-night-14/2027-03-13/
END:VEVENT
BEGIN:VEVENT
DTSTART;TZID=America/North_Dakota/Center:20270320T190000
DTEND;TZID=America/North_Dakota/Center:20270320T210000
DTSTAMP:20260425T111633
CREATED:20260326T195644Z
LAST-MODIFIED:20260326T195644Z
UID:10003057-1805569200-1805576400@www.redbudrvresort.com
SUMMARY:Movie Night
DESCRIPTION:Movie Night in The Lodge at 7 pm!
URL:https://www.redbudrvresort.com/event/movie-night-14/2027-03-20/
END:VEVENT
BEGIN:VEVENT
DTSTART;TZID=America/North_Dakota/Center:20270327T190000
DTEND;TZID=America/North_Dakota/Center:20270327T210000
DTSTAMP:20260425T111633
CREATED:20260326T195644Z
LAST-MODIFIED:20260326T195644Z
UID:10003058-1806174000-1806181200@www.redbudrvresort.com
SUMMARY:Movie Night
DESCRIPTION:Movie Night in The Lodge at 7 pm!
URL:https://www.redbudrvresort.com/event/movie-night-14/2027-03-27/
END:VEVENT
BEGIN:VEVENT
DTSTART;TZID=America/North_Dakota/Center:20270403T190000
DTEND;TZID=America/North_Dakota/Center:20270403T210000
DTSTAMP:20260425T111633
CREATED:20260326T195644Z
LAST-MODIFIED:20260326T195644Z
UID:10003059-1806778800-1806786000@www.redbudrvresort.com
SUMMARY:Movie Night
DESCRIPTION:Movie Night in The Lodge at 7 pm!
URL:https://www.redbudrvresort.com/event/movie-night-14/2027-04-03/
END:VEVENT
BEGIN:VEVENT
DTSTART;TZID=America/North_Dakota/Center:20270410T190000
DTEND;TZID=America/North_Dakota/Center:20270410T210000
DTSTAMP:20260425T111633
CREATED:20260326T195644Z
LAST-MODIFIED:20260326T195644Z
UID:10003060-1807383600-1807390800@www.redbudrvresort.com
SUMMARY:Movie Night
DESCRIPTION:Movie Night in The Lodge at 7 pm!
URL:https://www.redbudrvresort.com/event/movie-night-14/2027-04-10/
END:VEVENT
BEGIN:VEVENT
DTSTART;TZID=America/North_Dakota/Center:20270417T190000
DTEND;TZID=America/North_Dakota/Center:20270417T210000
DTSTAMP:20260425T111633
CREATED:20260326T195644Z
LAST-MODIFIED:20260326T195644Z
UID:10003061-1807988400-1807995600@www.redbudrvresort.com
SUMMARY:Movie Night
DESCRIPTION:Movie Night in The Lodge at 7 pm!
URL:https://www.redbudrvresort.com/event/movie-night-14/2027-04-17/
END:VEVENT
BEGIN:VEVENT
DTSTART;TZID=America/North_Dakota/Center:20270424T190000
DTEND;TZID=America/North_Dakota/Center:20270424T210000
DTSTAMP:20260425T111633
CREATED:20260326T195644Z
LAST-MODIFIED:20260326T195644Z
UID:10003062-1808593200-1808600400@www.redbudrvresort.com
SUMMARY:Movie Night
DESCRIPTION:Movie Night in The Lodge at 7 pm!
URL:https://www.redbudrvresort.com/event/movie-night-14/2027-04-24/
END:VEVENT
BEGIN:VEVENT
DTSTART;VALUE=DATE:20271125
DTEND;VALUE=DATE:20271126
DTSTAMP:20260425T111633
CREATED:20231021T184514Z
LAST-MODIFIED:20231214T223227Z
UID:10000928-1827100800-1827187199@www.redbudrvresort.com
SUMMARY:Thanksgiving
DESCRIPTION:Happy Thanksgiving! Our office is closed to our staff can enjoy time with their families.
URL:https://www.redbudrvresort.com/event/thanksgiving/2027-11-25/
END:VEVENT
BEGIN:VEVENT
DTSTART;VALUE=DATE:20271224
DTEND;VALUE=DATE:20271225
DTSTAMP:20260425T111633
CREATED:20231115T161017Z
LAST-MODIFIED:20231214T223012Z
UID:10000920-1829606400-1829692799@www.redbudrvresort.com
SUMMARY:Christmas Eve
DESCRIPTION:Office closing at noon.
URL:https://www.redbudrvresort.com/event/christmas-eve/2027-12-24/
END:VEVENT
BEGIN:VEVENT
DTSTART;VALUE=DATE:20271225
DTEND;VALUE=DATE:20271226
DTSTAMP:20260425T111633
CREATED:20231115T160951Z
LAST-MODIFIED:20231214T223124Z
UID:10000924-1829692800-1829779199@www.redbudrvresort.com
SUMMARY:Merry Christmas
DESCRIPTION:Office Closed
URL:https://www.redbudrvresort.com/event/merry-christmas/2027-12-25/
END:VEVENT
BEGIN:VEVENT
DTSTART;VALUE=DATE:20281123
DTEND;VALUE=DATE:20281124
DTSTAMP:20260425T111633
CREATED:20231021T184514Z
LAST-MODIFIED:20231214T223227Z
UID:10000929-1858550400-1858636799@www.redbudrvresort.com
SUMMARY:Thanksgiving
DESCRIPTION:Happy Thanksgiving! Our office is closed to our staff can enjoy time with their families.
URL:https://www.redbudrvresort.com/event/thanksgiving/2028-11-23/
END:VEVENT
BEGIN:VEVENT
DTSTART;VALUE=DATE:20281224
DTEND;VALUE=DATE:20281225
DTSTAMP:20260425T111633
CREATED:20231115T161017Z
LAST-MODIFIED:20231214T223012Z
UID:10001914-1861228800-1861315199@www.redbudrvresort.com
SUMMARY:Christmas Eve
DESCRIPTION:Office closing at noon.
URL:https://www.redbudrvresort.com/event/christmas-eve/2028-12-24/
END:VEVENT
BEGIN:VEVENT
DTSTART;VALUE=DATE:20291122
DTEND;VALUE=DATE:20291123
DTSTAMP:20260425T111633
CREATED:20231021T184514Z
LAST-MODIFIED:20231214T223227Z
UID:10002859-1890000000-1890086399@www.redbudrvresort.com
SUMMARY:Thanksgiving
DESCRIPTION:Happy Thanksgiving! Our office is closed to our staff can enjoy time with their families.
URL:https://www.redbudrvresort.com/event/thanksgiving/2029-11-22/
END:VEVENT
BEGIN:VEVENT
DTSTART;VALUE=DATE:20291224
DTEND;VALUE=DATE:20291225
DTSTAMP:20260425T111633
CREATED:20231115T161017Z
LAST-MODIFIED:20231214T223012Z
UID:10002864-1892764800-1892851199@www.redbudrvresort.com
SUMMARY:Christmas Eve
DESCRIPTION:Office closing at noon.
URL:https://www.redbudrvresort.com/event/christmas-eve/2029-12-24/
END:VEVENT
END:VCALENDAR