BEGIN:VCALENDAR
VERSION:2.0
PRODID:-//Redbud Ranch RV Resort - ECPv6.15.20//NONSGML v1.0//EN
CALSCALE:GREGORIAN
METHOD:PUBLISH
X-WR-CALNAME:Redbud Ranch RV Resort
X-ORIGINAL-URL:https://www.redbudrvresort.com
X-WR-CALDESC:Events for Redbud Ranch RV Resort
REFRESH-INTERVAL;VALUE=DURATION:PT1H
X-Robots-Tag:noindex
X-PUBLISHED-TTL:PT1H
BEGIN:VTIMEZONE
TZID:America/North_Dakota/Center
BEGIN:DAYLIGHT
TZOFFSETFROM:-0600
TZOFFSETTO:-0500
TZNAME:CDT
DTSTART:20240310T080000
END:DAYLIGHT
BEGIN:STANDARD
TZOFFSETFROM:-0500
TZOFFSETTO:-0600
TZNAME:CST
DTSTART:20241103T070000
END:STANDARD
BEGIN:DAYLIGHT
TZOFFSETFROM:-0600
TZOFFSETTO:-0500
TZNAME:CDT
DTSTART:20250309T080000
END:DAYLIGHT
BEGIN:STANDARD
TZOFFSETFROM:-0500
TZOFFSETTO:-0600
TZNAME:CST
DTSTART:20251102T070000
END:STANDARD
BEGIN:DAYLIGHT
TZOFFSETFROM:-0600
TZOFFSETTO:-0500
TZNAME:CDT
DTSTART:20260308T080000
END:DAYLIGHT
BEGIN:STANDARD
TZOFFSETFROM:-0500
TZOFFSETTO:-0600
TZNAME:CST
DTSTART:20261101T070000
END:STANDARD
END:VTIMEZONE
BEGIN:VEVENT
DTSTART;TZID=America/North_Dakota/Center:20250606T180000
DTEND;TZID=America/North_Dakota/Center:20250606T190000
DTSTAMP:20260425T064115
CREATED:20250506T133950Z
LAST-MODIFIED:20250506T133950Z
UID:10002668-1749232800-1749236400@www.redbudrvresort.com
SUMMARY:BINGO
DESCRIPTION:Join us at 6 pm in the lodge for bingo!  All ages\, prizes for winners!  No cost to play.
URL:https://www.redbudrvresort.com/event/bingo-20/2025-06-06/
END:VEVENT
BEGIN:VEVENT
DTSTART;TZID=America/North_Dakota/Center:20250603T080000
DTEND;TZID=America/North_Dakota/Center:20250603T120000
DTSTAMP:20260425T064115
CREATED:20250110T154907Z
LAST-MODIFIED:20250124T174612Z
UID:10002652-1748937600-1748952000@www.redbudrvresort.com
SUMMARY:Lodge Closed - Private Group
DESCRIPTION:
URL:https://www.redbudrvresort.com/event/lodge-closed-private-group/2025-06-03/
END:VEVENT
BEGIN:VEVENT
DTSTART;TZID=America/North_Dakota/Center:20250531T200000
DTEND;TZID=America/North_Dakota/Center:20250531T213000
DTSTAMP:20260425T064115
CREATED:20250109T160317Z
LAST-MODIFIED:20250109T160318Z
UID:10001951-1748721600-1748727000@www.redbudrvresort.com
SUMMARY:Movie Night
DESCRIPTION:
URL:https://www.redbudrvresort.com/event/movie-night-5-2-2-3/2025-05-31/
END:VEVENT
BEGIN:VEVENT
DTSTART;TZID=America/North_Dakota/Center:20250531T130000
DTEND;TZID=America/North_Dakota/Center:20250531T180000
DTSTAMP:20260425T064115
CREATED:20250506T141153Z
LAST-MODIFIED:20250506T141153Z
UID:10002721-1748696400-1748714400@www.redbudrvresort.com
SUMMARY:Lodge Closed - Private Group
DESCRIPTION:
URL:https://www.redbudrvresort.com/event/lodge-closed-private-group-3/
END:VEVENT
BEGIN:VEVENT
DTSTART;TZID=America/North_Dakota/Center:20250530T180000
DTEND;TZID=America/North_Dakota/Center:20250530T190000
DTSTAMP:20260425T064115
CREATED:20250506T133950Z
LAST-MODIFIED:20250506T133950Z
UID:10002667-1748628000-1748631600@www.redbudrvresort.com
SUMMARY:BINGO
DESCRIPTION:Join us at 6 pm in the lodge for bingo!  All ages\, prizes for winners!  No cost to play.
URL:https://www.redbudrvresort.com/event/bingo-20/2025-05-30/
END:VEVENT
BEGIN:VEVENT
DTSTART;VALUE=DATE:20250526
DTEND;VALUE=DATE:20250527
DTSTAMP:20260425T064115
CREATED:20250110T211602Z
LAST-MODIFIED:20250110T211602Z
UID:10002640-1748217600-1748303999@www.redbudrvresort.com
SUMMARY:Memorial Day
DESCRIPTION:Memorial Day (originally known as Decoration Day) is one of the federal holidays in the United States for honoring and mourning the U.S. military personnel who died while serving in the United States Armed Forces.
URL:https://www.redbudrvresort.com/event/memorial-day-2/
END:VEVENT
BEGIN:VEVENT
DTSTART;TZID=America/North_Dakota/Center:20250524T200000
DTEND;TZID=America/North_Dakota/Center:20250524T213000
DTSTAMP:20260425T064115
CREATED:20250109T160317Z
LAST-MODIFIED:20250109T160318Z
UID:10001950-1748116800-1748122200@www.redbudrvresort.com
SUMMARY:Movie Night
DESCRIPTION:
URL:https://www.redbudrvresort.com/event/movie-night-5-2-2-3/2025-05-24/
END:VEVENT
BEGIN:VEVENT
DTSTART;TZID=America/North_Dakota/Center:20250524T120000
DTEND;TZID=America/North_Dakota/Center:20250524T163000
DTSTAMP:20260425T064115
CREATED:20250110T154907Z
LAST-MODIFIED:20250124T174612Z
UID:10002651-1748088000-1748104200@www.redbudrvresort.com
SUMMARY:Lodge Closed - Private Group
DESCRIPTION:
URL:https://www.redbudrvresort.com/event/lodge-closed-private-group/2025-05-24/
END:VEVENT
BEGIN:VEVENT
DTSTART;TZID=America/North_Dakota/Center:20250523T180000
DTEND;TZID=America/North_Dakota/Center:20250523T190000
DTSTAMP:20260425T064115
CREATED:20250506T133950Z
LAST-MODIFIED:20250506T133950Z
UID:10002666-1748023200-1748026800@www.redbudrvresort.com
SUMMARY:BINGO
DESCRIPTION:Join us at 6 pm in the lodge for bingo!  All ages\, prizes for winners!  No cost to play.
URL:https://www.redbudrvresort.com/event/bingo-20/2025-05-23/
END:VEVENT
BEGIN:VEVENT
DTSTART;TZID=America/North_Dakota/Center:20250517T200000
DTEND;TZID=America/North_Dakota/Center:20250517T213000
DTSTAMP:20260425T064115
CREATED:20250109T160317Z
LAST-MODIFIED:20250109T160318Z
UID:10001949-1747512000-1747517400@www.redbudrvresort.com
SUMMARY:Movie Night
DESCRIPTION:
URL:https://www.redbudrvresort.com/event/movie-night-5-2-2-3/2025-05-17/
END:VEVENT
BEGIN:VEVENT
DTSTART;TZID=America/North_Dakota/Center:20250516T180000
DTEND;TZID=America/North_Dakota/Center:20250516T190000
DTSTAMP:20260425T064115
CREATED:20250506T133950Z
LAST-MODIFIED:20250506T133950Z
UID:10002665-1747418400-1747422000@www.redbudrvresort.com
SUMMARY:BINGO
DESCRIPTION:Join us at 6 pm in the lodge for bingo!  All ages\, prizes for winners!  No cost to play.
URL:https://www.redbudrvresort.com/event/bingo-20/2025-05-16/
END:VEVENT
BEGIN:VEVENT
DTSTART;TZID=America/North_Dakota/Center:20250511T080000
DTEND;TZID=America/North_Dakota/Center:20250511T170000
DTSTAMP:20260425T064115
CREATED:20250110T202916Z
LAST-MODIFIED:20250110T202916Z
UID:10002639-1746950400-1746982800@www.redbudrvresort.com
SUMMARY:Mother's Day
DESCRIPTION:
URL:https://www.redbudrvresort.com/event/mothers-day-2/
END:VEVENT
BEGIN:VEVENT
DTSTART;TZID=America/North_Dakota/Center:20250510T200000
DTEND;TZID=America/North_Dakota/Center:20250510T213000
DTSTAMP:20260425T064115
CREATED:20250109T160317Z
LAST-MODIFIED:20250109T160318Z
UID:10001948-1746907200-1746912600@www.redbudrvresort.com
SUMMARY:Movie Night
DESCRIPTION:
URL:https://www.redbudrvresort.com/event/movie-night-5-2-2-3/2025-05-10/
END:VEVENT
BEGIN:VEVENT
DTSTART;TZID=America/North_Dakota/Center:20250510T170000
DTEND;TZID=America/North_Dakota/Center:20250510T193000
DTSTAMP:20260425T064115
CREATED:20250506T133625Z
LAST-MODIFIED:20250506T133625Z
UID:10002663-1746896400-1746905400@www.redbudrvresort.com
SUMMARY:Food Truck - Sophie's Kitchen
DESCRIPTION:Treat mom to dinner this evening from 5 – 7:30 for Sophie’s Kitchen food truck!  Parked in site 204.
URL:https://www.redbudrvresort.com/event/food-truck-sophies-kitchen/
END:VEVENT
BEGIN:VEVENT
DTSTART;TZID=America/North_Dakota/Center:20250510T090000
DTEND;TZID=America/North_Dakota/Center:20250510T110000
DTSTAMP:20260425T064115
CREATED:20250110T202740Z
LAST-MODIFIED:20260415T173336Z
UID:10002638-1746867600-1746874800@www.redbudrvresort.com
SUMMARY:Muffins with Mom
DESCRIPTION:Join us in The Lodge for Muffins with Mom this morning 9-11 before a special Mother’s Day craft time!
URL:https://www.redbudrvresort.com/event/muffins-with-mom-2/2025-05-10/
END:VEVENT
BEGIN:VEVENT
DTSTART;TZID=America/North_Dakota/Center:20250509T180000
DTEND;TZID=America/North_Dakota/Center:20250509T190000
DTSTAMP:20260425T064115
CREATED:20250506T133950Z
LAST-MODIFIED:20250506T133950Z
UID:10002664-1746813600-1746817200@www.redbudrvresort.com
SUMMARY:BINGO
DESCRIPTION:Join us at 6 pm in the lodge for bingo!  All ages\, prizes for winners!  No cost to play.
URL:https://www.redbudrvresort.com/event/bingo-20/2025-05-09/
END:VEVENT
BEGIN:VEVENT
DTSTART;TZID=America/North_Dakota/Center:20250509T080000
DTEND;TZID=America/North_Dakota/Center:20250511T170000
DTSTAMP:20260425T064115
CREATED:20250110T202618Z
LAST-MODIFIED:20250110T202618Z
UID:10002637-1746777600-1746982800@www.redbudrvresort.com
SUMMARY:Magnificent Mom's Weekend
DESCRIPTION:Celebrating Mom\, Grandma\, Mom figures in our lives this weekend!
URL:https://www.redbudrvresort.com/event/magnificent-moms-weekend/
END:VEVENT
BEGIN:VEVENT
DTSTART;TZID=America/North_Dakota/Center:20250506T080000
DTEND;TZID=America/North_Dakota/Center:20250506T120000
DTSTAMP:20260425T064115
CREATED:20250110T154907Z
LAST-MODIFIED:20250124T174612Z
UID:10002650-1746518400-1746532800@www.redbudrvresort.com
SUMMARY:Lodge Closed - Private Group
DESCRIPTION:
URL:https://www.redbudrvresort.com/event/lodge-closed-private-group/2025-05-06/
END:VEVENT
BEGIN:VEVENT
DTSTART;TZID=America/North_Dakota/Center:20250505T080000
DTEND;TZID=America/North_Dakota/Center:20250505T170000
DTSTAMP:20260425T064115
CREATED:20250110T202428Z
LAST-MODIFIED:20250110T202428Z
UID:10002636-1746432000-1746464400@www.redbudrvresort.com
SUMMARY:Cinco de Mayo
DESCRIPTION:Cinco de Mayo is an annual celebration held on May 5 to celebrate Mexico’s victory over the Second French Empire at the Battle of Puebla in 1862\, led by General Ignacio Zaragoza.  Stop by The Lodge for coloring page and more information about Cinco de Mayo.
URL:https://www.redbudrvresort.com/event/cinco-de-mayo/
END:VEVENT
BEGIN:VEVENT
DTSTART;TZID=America/North_Dakota/Center:20250504T080000
DTEND;TZID=America/North_Dakota/Center:20250504T170000
DTSTAMP:20260425T064115
CREATED:20250110T202152Z
LAST-MODIFIED:20250110T202152Z
UID:10002635-1746345600-1746378000@www.redbudrvresort.com
SUMMARY:Star Wars Day!
DESCRIPTION:
URL:https://www.redbudrvresort.com/event/star-wars-day/
END:VEVENT
BEGIN:VEVENT
DTSTART;TZID=America/North_Dakota/Center:20250503T200000
DTEND;TZID=America/North_Dakota/Center:20250503T213000
DTSTAMP:20260425T064115
CREATED:20250109T160317Z
LAST-MODIFIED:20250109T160318Z
UID:10001947-1746302400-1746307800@www.redbudrvresort.com
SUMMARY:Movie Night
DESCRIPTION:
URL:https://www.redbudrvresort.com/event/movie-night-5-2-2-3/2025-05-03/
END:VEVENT
BEGIN:VEVENT
DTSTART;TZID=America/North_Dakota/Center:20250502T080000
DTEND;TZID=America/North_Dakota/Center:20250502T170000
DTSTAMP:20260425T064115
CREATED:20250110T201841Z
LAST-MODIFIED:20250110T201941Z
UID:10002634-1746172800-1746205200@www.redbudrvresort.com
SUMMARY:Astronomy Day
DESCRIPTION:Take some time this evening to enjoy our reduced light pollution resort and look up at the stars!
URL:https://www.redbudrvresort.com/event/astronomy-day/
END:VEVENT
BEGIN:VEVENT
DTSTART;TZID=America/North_Dakota/Center:20250428T080000
DTEND;TZID=America/North_Dakota/Center:20250428T170000
DTSTAMP:20260425T064115
CREATED:20250110T201358Z
LAST-MODIFIED:20250110T201358Z
UID:10002633-1745827200-1745859600@www.redbudrvresort.com
SUMMARY:National Superhero Day
DESCRIPTION:Who is your Superhero?  Stop by the office and grab a Superhero to color!
URL:https://www.redbudrvresort.com/event/national-superhero-day/
END:VEVENT
BEGIN:VEVENT
DTSTART;TZID=America/North_Dakota/Center:20250426T200000
DTEND;TZID=America/North_Dakota/Center:20250426T213000
DTSTAMP:20260425T064115
CREATED:20250109T160317Z
LAST-MODIFIED:20250109T160318Z
UID:10001946-1745697600-1745703000@www.redbudrvresort.com
SUMMARY:Movie Night
DESCRIPTION:
URL:https://www.redbudrvresort.com/event/movie-night-5-2-2-3/2025-04-26/
END:VEVENT
BEGIN:VEVENT
DTSTART;TZID=America/North_Dakota/Center:20250425T180000
DTEND;TZID=America/North_Dakota/Center:20250425T193000
DTSTAMP:20260425T064115
CREATED:20250327T200938Z
LAST-MODIFIED:20250327T201355Z
UID:10002662-1745604000-1745609400@www.redbudrvresort.com
SUMMARY:BINGO
DESCRIPTION:Join us on Friday’s at 6 pm in The Lodge for BINGO – fun for the whole family!
URL:https://www.redbudrvresort.com/event/bingo-21-6/2025-04-25/
END:VEVENT
BEGIN:VEVENT
DTSTART;VALUE=DATE:20250422
DTEND;VALUE=DATE:20250423
DTSTAMP:20260425T064115
CREATED:20250110T201144Z
LAST-MODIFIED:20250110T201144Z
UID:10002632-1745280000-1745366399@www.redbudrvresort.com
SUMMARY:Earth Day
DESCRIPTION:In 2025\, we celebrate the 55th anniversary of Earth Day. To mark this milestone\, we invite everyone to support Earth Day’s 2025 theme: OUR POWER\, OUR PLANET.
URL:https://www.redbudrvresort.com/event/earth-day/
END:VEVENT
BEGIN:VEVENT
DTSTART;VALUE=DATE:20250420
DTEND;VALUE=DATE:20250421
DTSTAMP:20260425T064115
CREATED:20250110T200912Z
LAST-MODIFIED:20250110T200912Z
UID:10002631-1745107200-1745193599@www.redbudrvresort.com
SUMMARY:Easter  - Office Closed
DESCRIPTION:
URL:https://www.redbudrvresort.com/event/easter-office-closed/
END:VEVENT
BEGIN:VEVENT
DTSTART;TZID=America/North_Dakota/Center:20250419T200000
DTEND;TZID=America/North_Dakota/Center:20250419T213000
DTSTAMP:20260425T064115
CREATED:20250327T194542Z
LAST-MODIFIED:20250327T194543Z
UID:10001945-1745092800-1745098200@www.redbudrvresort.com
SUMMARY:Movie Night
DESCRIPTION:Movie Night will be pool side tonight (weather permitting)
URL:https://www.redbudrvresort.com/event/movie-night-5-2-2-3-3/
END:VEVENT
BEGIN:VEVENT
DTSTART;TZID=America/North_Dakota/Center:20250419T200000
DTEND;TZID=America/North_Dakota/Center:20250419T213000
DTSTAMP:20260425T064115
CREATED:20250109T160317Z
LAST-MODIFIED:20250109T160318Z
UID:10002795-1745092800-1745098200@www.redbudrvresort.com
SUMMARY:Movie Night
DESCRIPTION:
URL:https://www.redbudrvresort.com/event/movie-night-5-2-2-3/2025-04-19/
END:VEVENT
BEGIN:VEVENT
DTSTART;TZID=America/North_Dakota/Center:20250419T170000
DTEND;TZID=America/North_Dakota/Center:20250419T230000
DTSTAMP:20260425T064115
CREATED:20250327T194848Z
LAST-MODIFIED:20250327T194848Z
UID:10002660-1745082000-1745103600@www.redbudrvresort.com
SUMMARY:Lodge Closed (Private Event)
DESCRIPTION:
URL:https://www.redbudrvresort.com/event/lodge-closed-private-event-2/
END:VEVENT
END:VCALENDAR