BEGIN:VCALENDAR
VERSION:2.0
PRODID:-//Redbud Ranch RV Resort - ECPv6.15.20//NONSGML v1.0//EN
CALSCALE:GREGORIAN
METHOD:PUBLISH
X-WR-CALNAME:Redbud Ranch RV Resort
X-ORIGINAL-URL:https://www.redbudrvresort.com
X-WR-CALDESC:Events for Redbud Ranch RV Resort
REFRESH-INTERVAL;VALUE=DURATION:PT1H
X-Robots-Tag:noindex
X-PUBLISHED-TTL:PT1H
BEGIN:VTIMEZONE
TZID:America/North_Dakota/Center
BEGIN:DAYLIGHT
TZOFFSETFROM:-0600
TZOFFSETTO:-0500
TZNAME:CDT
DTSTART:20240310T080000
END:DAYLIGHT
BEGIN:STANDARD
TZOFFSETFROM:-0500
TZOFFSETTO:-0600
TZNAME:CST
DTSTART:20241103T070000
END:STANDARD
BEGIN:DAYLIGHT
TZOFFSETFROM:-0600
TZOFFSETTO:-0500
TZNAME:CDT
DTSTART:20250309T080000
END:DAYLIGHT
BEGIN:STANDARD
TZOFFSETFROM:-0500
TZOFFSETTO:-0600
TZNAME:CST
DTSTART:20251102T070000
END:STANDARD
BEGIN:DAYLIGHT
TZOFFSETFROM:-0600
TZOFFSETTO:-0500
TZNAME:CDT
DTSTART:20260308T080000
END:DAYLIGHT
BEGIN:STANDARD
TZOFFSETFROM:-0500
TZOFFSETTO:-0600
TZNAME:CST
DTSTART:20261101T070000
END:STANDARD
END:VTIMEZONE
BEGIN:VEVENT
DTSTART;TZID=America/North_Dakota/Center:20251104T080000
DTEND;TZID=America/North_Dakota/Center:20251104T120000
DTSTAMP:20260425T120026
CREATED:20250110T154907Z
LAST-MODIFIED:20250124T174612Z
UID:10002656-1762243200-1762257600@www.redbudrvresort.com
SUMMARY:Lodge Closed - Private Group
DESCRIPTION:
URL:https://www.redbudrvresort.com/event/lodge-closed-private-group/2025-11-04/
END:VEVENT
BEGIN:VEVENT
DTSTART;VALUE=DATE:20251102
DTEND;VALUE=DATE:20251103
DTSTAMP:20260425T120026
CREATED:20251024T170107Z
LAST-MODIFIED:20251024T170107Z
UID:10002861-1762041600-1762127999@www.redbudrvresort.com
SUMMARY:Daylight Savings Time
DESCRIPTION:Time to turn those clocks back an hour!
URL:https://www.redbudrvresort.com/event/daylight-savings-time/
END:VEVENT
BEGIN:VEVENT
DTSTART;TZID=America/North_Dakota/Center:20251101T190000
DTEND;TZID=America/North_Dakota/Center:20251101T213000
DTSTAMP:20260425T120026
CREATED:20250924T190317Z
LAST-MODIFIED:20250924T190318Z
UID:10001973-1762023600-1762032600@www.redbudrvresort.com
SUMMARY:Movie Night
DESCRIPTION:
URL:https://www.redbudrvresort.com/event/movie-night-5-2-2-3-4-2/
END:VEVENT
BEGIN:VEVENT
DTSTART;TZID=America/North_Dakota/Center:20251101T110000
DTEND;TZID=America/North_Dakota/Center:20251101T120000
DTSTAMP:20260425T120026
CREATED:20251024T161346Z
LAST-MODIFIED:20251024T161346Z
UID:10002800-1761994800-1761998400@www.redbudrvresort.com
SUMMARY:Craft Time
DESCRIPTION:Join us for craft time at 11 AM.  This is a free\, family friendly event!
URL:https://www.redbudrvresort.com/event/craft-time-9/2025-11-01/
END:VEVENT
BEGIN:VEVENT
DTSTART;TZID=America/North_Dakota/Center:20251031T170000
DTEND;TZID=America/North_Dakota/Center:20251031T200000
DTSTAMP:20260425T120026
CREATED:20250923T164217Z
LAST-MODIFIED:20250923T164217Z
UID:10002799-1761930000-1761940800@www.redbudrvresort.com
SUMMARY:Boo in the Park Weekend 2
DESCRIPTION:Join us @ 5 PM in the pool area for a costume contest with Trick or Treating through the resort to follow! \n7 PM vote for your favorite decorated campsite/cabin – take a picture of your favorite and send it to 737-900-6926
URL:https://www.redbudrvresort.com/event/boo-in-the-park-weekend-2/
END:VEVENT
BEGIN:VEVENT
DTSTART;TZID=America/North_Dakota/Center:20251025T190000
DTEND;TZID=America/North_Dakota/Center:20251025T210000
DTSTAMP:20260425T120026
CREATED:20250922T165151Z
LAST-MODIFIED:20250924T185801Z
UID:10002797-1761418800-1761426000@www.redbudrvresort.com
SUMMARY:Movie Night
DESCRIPTION:Movie Night time is moving to 7:00 PM!
URL:https://www.redbudrvresort.com/event/movie-night-13/
END:VEVENT
BEGIN:VEVENT
DTSTART;TZID=America/North_Dakota/Center:20251025T110000
DTEND;TZID=America/North_Dakota/Center:20251025T173000
DTSTAMP:20260425T120026
CREATED:20251024T191237Z
LAST-MODIFIED:20251024T191237Z
UID:10002867-1761390000-1761413400@www.redbudrvresort.com
SUMMARY:Pumpkin Contest and Carnival Games
DESCRIPTION:Bring your carved/painted pumpkin to the Lodge at any time today for judging and join us at 4 pm for carnival games!
URL:https://www.redbudrvresort.com/event/pumpkin-contest-and-carnival-games/
END:VEVENT
BEGIN:VEVENT
DTSTART;TZID=America/North_Dakota/Center:20251025T110000
DTEND;TZID=America/North_Dakota/Center:20251025T123000
DTSTAMP:20260425T120026
CREATED:20251024T191344Z
LAST-MODIFIED:20251024T191345Z
UID:10002740-1761390000-1761395400@www.redbudrvresort.com
SUMMARY:Craft Time @ 11 AM
DESCRIPTION:Join us for scavenger hunt and craft at 11 AM
URL:https://www.redbudrvresort.com/event/craft-time-11-am-2-2/
END:VEVENT
BEGIN:VEVENT
DTSTART;TZID=America/North_Dakota/Center:20251024T190000
DTEND;TZID=America/North_Dakota/Center:20251024T210000
DTSTAMP:20260425T120026
CREATED:20250922T164940Z
LAST-MODIFIED:20250924T190042Z
UID:10002796-1761332400-1761339600@www.redbudrvresort.com
SUMMARY:Bonus Movie Night
DESCRIPTION:
URL:https://www.redbudrvresort.com/event/bonus-movie-night-2/
END:VEVENT
BEGIN:VEVENT
DTSTART;TZID=America/North_Dakota/Center:20251024T180000
DTEND;TZID=America/North_Dakota/Center:20251025T193000
DTSTAMP:20260425T120026
CREATED:20250923T163353Z
LAST-MODIFIED:20251016T165131Z
UID:10002798-1761328800-1761420600@www.redbudrvresort.com
SUMMARY:Boo in the Park Weekend 1
DESCRIPTION:Friday:  “Spooky” Bingo 6 pm in the Lodge \nBonus Movie Night 7:00 in the Lodge \n  \nSaturday:  11 AM Scavenger Hunt and Craft Time \n4 PM Pumpkin Contest and Festival Games (front office) \n7:00 PM Movie Night
URL:https://www.redbudrvresort.com/event/boo-in-the-park-weekend-1/
END:VEVENT
BEGIN:VEVENT
DTSTART;TZID=America/North_Dakota/Center:20251024T180000
DTEND;TZID=America/North_Dakota/Center:20251024T190000
DTSTAMP:20260425T120026
CREATED:20250506T133950Z
LAST-MODIFIED:20250506T133950Z
UID:10002688-1761328800-1761332400@www.redbudrvresort.com
SUMMARY:BINGO
DESCRIPTION:Join us at 6 pm in the lodge for bingo!  All ages\, prizes for winners!  No cost to play.
URL:https://www.redbudrvresort.com/event/bingo-20/2025-10-24/
END:VEVENT
BEGIN:VEVENT
DTSTART;TZID=America/North_Dakota/Center:20251018T200000
DTEND;TZID=America/North_Dakota/Center:20251018T213000
DTSTAMP:20260425T120026
CREATED:20250922T164808Z
LAST-MODIFIED:20250924T185942Z
UID:10001971-1760817600-1760823000@www.redbudrvresort.com
SUMMARY:Movie Night
DESCRIPTION:
URL:https://www.redbudrvresort.com/event/movie-night-5-2-2-3-4/2025-10-18/
END:VEVENT
BEGIN:VEVENT
DTSTART;TZID=America/North_Dakota/Center:20251018T110000
DTEND;TZID=America/North_Dakota/Center:20251018T123000
DTSTAMP:20260425T120026
CREATED:20250922T163750Z
LAST-MODIFIED:20250922T163945Z
UID:10002739-1760785200-1760790600@www.redbudrvresort.com
SUMMARY:Craft Time @ 11 AM
DESCRIPTION:Join us for craft time at 11 am!
URL:https://www.redbudrvresort.com/event/craft-time-11-am-2/2025-10-18/
END:VEVENT
BEGIN:VEVENT
DTSTART;VALUE=DATE:20251018
DTEND;VALUE=DATE:20251019
DTSTAMP:20260425T120026
CREATED:20250922T164414Z
LAST-MODIFIED:20250922T164501Z
UID:10002794-1760774400-1760806800@www.redbudrvresort.com
SUMMARY:Lodge Closed - Private Event
DESCRIPTION:
URL:https://www.redbudrvresort.com/event/lodge-closed-private-event-3/2025-10-18/
END:VEVENT
BEGIN:VEVENT
DTSTART;TZID=America/North_Dakota/Center:20251017T180000
DTEND;TZID=America/North_Dakota/Center:20251017T190000
DTSTAMP:20260425T120026
CREATED:20250506T133950Z
LAST-MODIFIED:20250506T133950Z
UID:10002687-1760724000-1760727600@www.redbudrvresort.com
SUMMARY:BINGO
DESCRIPTION:Join us at 6 pm in the lodge for bingo!  All ages\, prizes for winners!  No cost to play.
URL:https://www.redbudrvresort.com/event/bingo-20/2025-10-17/
END:VEVENT
BEGIN:VEVENT
DTSTART;TZID=America/North_Dakota/Center:20251011T110000
DTEND;TZID=America/North_Dakota/Center:20251011T123000
DTSTAMP:20260425T120026
CREATED:20250922T163750Z
LAST-MODIFIED:20250922T163945Z
UID:10002738-1760180400-1760185800@www.redbudrvresort.com
SUMMARY:Craft Time @ 11 AM
DESCRIPTION:Join us for craft time at 11 am!
URL:https://www.redbudrvresort.com/event/craft-time-11-am-2/2025-10-11/
END:VEVENT
BEGIN:VEVENT
DTSTART;VALUE=DATE:20251011
DTEND;VALUE=DATE:20251012
DTSTAMP:20260425T120026
CREATED:20250922T164414Z
LAST-MODIFIED:20250922T164501Z
UID:10002793-1760140800-1760227199@www.redbudrvresort.com
SUMMARY:Lodge Closed - Private Event
DESCRIPTION:
URL:https://www.redbudrvresort.com/event/lodge-closed-private-event-3/2025-10-11/
END:VEVENT
BEGIN:VEVENT
DTSTART;TZID=America/North_Dakota/Center:20251010T180000
DTEND;TZID=America/North_Dakota/Center:20251010T190000
DTSTAMP:20260425T120026
CREATED:20250506T133950Z
LAST-MODIFIED:20250506T133950Z
UID:10002686-1760119200-1760122800@www.redbudrvresort.com
SUMMARY:BINGO
DESCRIPTION:Join us at 6 pm in the lodge for bingo!  All ages\, prizes for winners!  No cost to play.
URL:https://www.redbudrvresort.com/event/bingo-20/2025-10-10/
END:VEVENT
BEGIN:VEVENT
DTSTART;TZID=America/North_Dakota/Center:20251007T080000
DTEND;TZID=America/North_Dakota/Center:20251007T120000
DTSTAMP:20260425T120026
CREATED:20250110T154907Z
LAST-MODIFIED:20250124T174612Z
UID:10002655-1759824000-1759838400@www.redbudrvresort.com
SUMMARY:Lodge Closed - Private Group
DESCRIPTION:
URL:https://www.redbudrvresort.com/event/lodge-closed-private-group/2025-10-07/
END:VEVENT
BEGIN:VEVENT
DTSTART;TZID=America/North_Dakota/Center:20251004T200000
DTEND;TZID=America/North_Dakota/Center:20251004T213000
DTSTAMP:20260425T120026
CREATED:20250922T164808Z
LAST-MODIFIED:20250924T185942Z
UID:10001969-1759608000-1759613400@www.redbudrvresort.com
SUMMARY:Movie Night
DESCRIPTION:
URL:https://www.redbudrvresort.com/event/movie-night-5-2-2-3-4/2025-10-04/
END:VEVENT
BEGIN:VEVENT
DTSTART;TZID=America/North_Dakota/Center:20251004T110000
DTEND;TZID=America/North_Dakota/Center:20251004T123000
DTSTAMP:20260425T120026
CREATED:20250922T163750Z
LAST-MODIFIED:20250922T163945Z
UID:10002737-1759575600-1759581000@www.redbudrvresort.com
SUMMARY:Craft Time @ 11 AM
DESCRIPTION:Join us for craft time at 11 am!
URL:https://www.redbudrvresort.com/event/craft-time-11-am-2/2025-10-04/
END:VEVENT
BEGIN:VEVENT
DTSTART;TZID=America/North_Dakota/Center:20251003T180000
DTEND;TZID=America/North_Dakota/Center:20251003T190000
DTSTAMP:20260425T120026
CREATED:20250506T133950Z
LAST-MODIFIED:20250506T133950Z
UID:10002685-1759514400-1759518000@www.redbudrvresort.com
SUMMARY:BINGO
DESCRIPTION:Join us at 6 pm in the lodge for bingo!  All ages\, prizes for winners!  No cost to play.
URL:https://www.redbudrvresort.com/event/bingo-20/2025-10-03/
END:VEVENT
BEGIN:VEVENT
DTSTART;TZID=America/North_Dakota/Center:20250927T200000
DTEND;TZID=America/North_Dakota/Center:20250927T213000
DTSTAMP:20260425T120026
CREATED:20250922T164808Z
LAST-MODIFIED:20250924T185942Z
UID:10001968-1759003200-1759008600@www.redbudrvresort.com
SUMMARY:Movie Night
DESCRIPTION:
URL:https://www.redbudrvresort.com/event/movie-night-5-2-2-3-4/2025-09-27/
END:VEVENT
BEGIN:VEVENT
DTSTART;TZID=America/North_Dakota/Center:20250926T180000
DTEND;TZID=America/North_Dakota/Center:20250926T190000
DTSTAMP:20260425T120026
CREATED:20250506T133950Z
LAST-MODIFIED:20250506T133950Z
UID:10002684-1758909600-1758913200@www.redbudrvresort.com
SUMMARY:BINGO
DESCRIPTION:Join us at 6 pm in the lodge for bingo!  All ages\, prizes for winners!  No cost to play.
URL:https://www.redbudrvresort.com/event/bingo-20/2025-09-26/
END:VEVENT
BEGIN:VEVENT
DTSTART;TZID=America/North_Dakota/Center:20250920T200000
DTEND;TZID=America/North_Dakota/Center:20250920T213000
DTSTAMP:20260425T120026
CREATED:20250109T160317Z
LAST-MODIFIED:20250109T160318Z
UID:10001967-1758398400-1758403800@www.redbudrvresort.com
SUMMARY:Movie Night
DESCRIPTION:
URL:https://www.redbudrvresort.com/event/movie-night-5-2-2-3/2025-09-20/
END:VEVENT
BEGIN:VEVENT
DTSTART;TZID=America/North_Dakota/Center:20250919T180000
DTEND;TZID=America/North_Dakota/Center:20250919T190000
DTSTAMP:20260425T120026
CREATED:20250506T133950Z
LAST-MODIFIED:20250506T133950Z
UID:10002683-1758304800-1758308400@www.redbudrvresort.com
SUMMARY:BINGO
DESCRIPTION:Join us at 6 pm in the lodge for bingo!  All ages\, prizes for winners!  No cost to play.
URL:https://www.redbudrvresort.com/event/bingo-20/2025-09-19/
END:VEVENT
BEGIN:VEVENT
DTSTART;TZID=America/North_Dakota/Center:20250913T200000
DTEND;TZID=America/North_Dakota/Center:20250913T213000
DTSTAMP:20260425T120026
CREATED:20250109T160317Z
LAST-MODIFIED:20250109T160318Z
UID:10001966-1757793600-1757799000@www.redbudrvresort.com
SUMMARY:Movie Night
DESCRIPTION:
URL:https://www.redbudrvresort.com/event/movie-night-5-2-2-3/2025-09-13/
END:VEVENT
BEGIN:VEVENT
DTSTART;TZID=America/North_Dakota/Center:20250912T180000
DTEND;TZID=America/North_Dakota/Center:20250912T190000
DTSTAMP:20260425T120026
CREATED:20250506T133950Z
LAST-MODIFIED:20250506T133950Z
UID:10002682-1757700000-1757703600@www.redbudrvresort.com
SUMMARY:BINGO
DESCRIPTION:Join us at 6 pm in the lodge for bingo!  All ages\, prizes for winners!  No cost to play.
URL:https://www.redbudrvresort.com/event/bingo-20/2025-09-12/
END:VEVENT
BEGIN:VEVENT
DTSTART;TZID=America/North_Dakota/Center:20250906T200000
DTEND;TZID=America/North_Dakota/Center:20250906T213000
DTSTAMP:20260425T120026
CREATED:20250109T160317Z
LAST-MODIFIED:20250109T160318Z
UID:10001965-1757188800-1757194200@www.redbudrvresort.com
SUMMARY:Movie Night
DESCRIPTION:
URL:https://www.redbudrvresort.com/event/movie-night-5-2-2-3/2025-09-06/
END:VEVENT
BEGIN:VEVENT
DTSTART;TZID=America/North_Dakota/Center:20250905T180000
DTEND;TZID=America/North_Dakota/Center:20250905T190000
DTSTAMP:20260425T120026
CREATED:20250506T133950Z
LAST-MODIFIED:20250506T133950Z
UID:10002681-1757095200-1757098800@www.redbudrvresort.com
SUMMARY:BINGO
DESCRIPTION:Join us at 6 pm in the lodge for bingo!  All ages\, prizes for winners!  No cost to play.
URL:https://www.redbudrvresort.com/event/bingo-20/2025-09-05/
END:VEVENT
END:VCALENDAR