BEGIN:VCALENDAR
VERSION:2.0
PRODID:-//Redbud Ranch RV Resort - ECPv6.15.20//NONSGML v1.0//EN
CALSCALE:GREGORIAN
METHOD:PUBLISH
X-WR-CALNAME:Redbud Ranch RV Resort
X-ORIGINAL-URL:https://www.redbudrvresort.com
X-WR-CALDESC:Events for Redbud Ranch RV Resort
REFRESH-INTERVAL;VALUE=DURATION:PT1H
X-Robots-Tag:noindex
X-PUBLISHED-TTL:PT1H
BEGIN:VTIMEZONE
TZID:America/North_Dakota/Center
BEGIN:DAYLIGHT
TZOFFSETFROM:-0600
TZOFFSETTO:-0500
TZNAME:CDT
DTSTART:20240310T080000
END:DAYLIGHT
BEGIN:STANDARD
TZOFFSETFROM:-0500
TZOFFSETTO:-0600
TZNAME:CST
DTSTART:20241103T070000
END:STANDARD
BEGIN:DAYLIGHT
TZOFFSETFROM:-0600
TZOFFSETTO:-0500
TZNAME:CDT
DTSTART:20250309T080000
END:DAYLIGHT
BEGIN:STANDARD
TZOFFSETFROM:-0500
TZOFFSETTO:-0600
TZNAME:CST
DTSTART:20251102T070000
END:STANDARD
BEGIN:DAYLIGHT
TZOFFSETFROM:-0600
TZOFFSETTO:-0500
TZNAME:CDT
DTSTART:20260308T080000
END:DAYLIGHT
BEGIN:STANDARD
TZOFFSETFROM:-0500
TZOFFSETTO:-0600
TZNAME:CST
DTSTART:20261101T070000
END:STANDARD
END:VTIMEZONE
BEGIN:VEVENT
DTSTART;TZID=America/North_Dakota/Center:20250718T180000
DTEND;TZID=America/North_Dakota/Center:20250718T190000
DTSTAMP:20260425T072804
CREATED:20250506T133950Z
LAST-MODIFIED:20250506T133950Z
UID:10002674-1752861600-1752865200@www.redbudrvresort.com
SUMMARY:BINGO
DESCRIPTION:Join us at 6 pm in the lodge for bingo!  All ages\, prizes for winners!  No cost to play.
URL:https://www.redbudrvresort.com/event/bingo-20/2025-07-18/
END:VEVENT
BEGIN:VEVENT
DTSTART;TZID=America/North_Dakota/Center:20250716T180000
DTEND;TZID=America/North_Dakota/Center:20250716T193000
DTSTAMP:20260425T072804
CREATED:20250704T194243Z
LAST-MODIFIED:20250704T194243Z
UID:10002728-1752688800-1752694200@www.redbudrvresort.com
SUMMARY:Wine Down Wednesday
DESCRIPTION:Join us in the Lodge for a Wine Down Wednesday – adult event (BYOW or beverage of choice).  Meet some fellow resort guests and just “wine down” for the evening.  6 pm in the Lodge.
URL:https://www.redbudrvresort.com/event/wine-down-wednesday-9/
END:VEVENT
BEGIN:VEVENT
DTSTART;TZID=America/North_Dakota/Center:20250712T200000
DTEND;TZID=America/North_Dakota/Center:20250712T213000
DTSTAMP:20260425T072804
CREATED:20250109T160317Z
LAST-MODIFIED:20250109T160318Z
UID:10001957-1752350400-1752355800@www.redbudrvresort.com
SUMMARY:Movie Night
DESCRIPTION:
URL:https://www.redbudrvresort.com/event/movie-night-5-2-2-3/2025-07-12/
END:VEVENT
BEGIN:VEVENT
DTSTART;TZID=America/North_Dakota/Center:20250711T180000
DTEND;TZID=America/North_Dakota/Center:20250711T190000
DTSTAMP:20260425T072804
CREATED:20250506T133950Z
LAST-MODIFIED:20250506T133950Z
UID:10002673-1752256800-1752260400@www.redbudrvresort.com
SUMMARY:BINGO
DESCRIPTION:Join us at 6 pm in the lodge for bingo!  All ages\, prizes for winners!  No cost to play.
URL:https://www.redbudrvresort.com/event/bingo-20/2025-07-11/
END:VEVENT
BEGIN:VEVENT
DTSTART;TZID=America/North_Dakota/Center:20250705T200000
DTEND;TZID=America/North_Dakota/Center:20250705T213000
DTSTAMP:20260425T072804
CREATED:20250109T160317Z
LAST-MODIFIED:20250109T160318Z
UID:10001956-1751745600-1751751000@www.redbudrvresort.com
SUMMARY:Movie Night
DESCRIPTION:
URL:https://www.redbudrvresort.com/event/movie-night-5-2-2-3/2025-07-05/
END:VEVENT
BEGIN:VEVENT
DTSTART;TZID=America/North_Dakota/Center:20250705T110000
DTEND;TZID=America/North_Dakota/Center:20250705T120000
DTSTAMP:20260425T072804
CREATED:20250704T193856Z
LAST-MODIFIED:20250704T193856Z
UID:10002727-1751713200-1751716800@www.redbudrvresort.com
SUMMARY:Patriotic Parade
DESCRIPTION:Join us after craft time today (decorate your bike\, scooter\, golf cart) for our Patriotic Parade through the resort!
URL:https://www.redbudrvresort.com/event/patriotic-parade/
END:VEVENT
BEGIN:VEVENT
DTSTART;TZID=America/North_Dakota/Center:20250705T100000
DTEND;TZID=America/North_Dakota/Center:20250705T110000
DTSTAMP:20260425T072804
CREATED:20250704T193703Z
LAST-MODIFIED:20250704T193703Z
UID:10002535-1751709600-1751713200@www.redbudrvresort.com
SUMMARY:Craft Time
DESCRIPTION:Join us in The Lodge for craft time @ 10 AM
URL:https://www.redbudrvresort.com/event/craft-time-6/
END:VEVENT
BEGIN:VEVENT
DTSTART;TZID=America/North_Dakota/Center:20250704T180000
DTEND;TZID=America/North_Dakota/Center:20250704T190000
DTSTAMP:20260425T072804
CREATED:20250506T133950Z
LAST-MODIFIED:20250506T133950Z
UID:10002672-1751652000-1751655600@www.redbudrvresort.com
SUMMARY:BINGO
DESCRIPTION:Join us at 6 pm in the lodge for bingo!  All ages\, prizes for winners!  No cost to play.
URL:https://www.redbudrvresort.com/event/bingo-20/2025-07-04/
END:VEVENT
BEGIN:VEVENT
DTSTART;TZID=America/North_Dakota/Center:20250628T200000
DTEND;TZID=America/North_Dakota/Center:20250628T213000
DTSTAMP:20260425T072804
CREATED:20250109T160317Z
LAST-MODIFIED:20250109T160318Z
UID:10001955-1751140800-1751146200@www.redbudrvresort.com
SUMMARY:Movie Night
DESCRIPTION:
URL:https://www.redbudrvresort.com/event/movie-night-5-2-2-3/2025-06-28/
END:VEVENT
BEGIN:VEVENT
DTSTART;TZID=America/North_Dakota/Center:20250627T180000
DTEND;TZID=America/North_Dakota/Center:20250627T190000
DTSTAMP:20260425T072804
CREATED:20250506T133950Z
LAST-MODIFIED:20250506T133950Z
UID:10002671-1751047200-1751050800@www.redbudrvresort.com
SUMMARY:BINGO
DESCRIPTION:Join us at 6 pm in the lodge for bingo!  All ages\, prizes for winners!  No cost to play.
URL:https://www.redbudrvresort.com/event/bingo-20/2025-06-27/
END:VEVENT
BEGIN:VEVENT
DTSTART;TZID=America/North_Dakota/Center:20250627T170000
DTEND;TZID=America/North_Dakota/Center:20250627T190000
DTSTAMP:20260425T072804
CREATED:20250529T153640Z
LAST-MODIFIED:20250529T153640Z
UID:10002725-1751043600-1751050800@www.redbudrvresort.com
SUMMARY:Food Truck Friday!
DESCRIPTION:Downtown Burger will be at Redbud Ranch from 5 – 7 pm
URL:https://www.redbudrvresort.com/event/food-truck-friday-2/
END:VEVENT
BEGIN:VEVENT
DTSTART;TZID=America/North_Dakota/Center:20250621T200000
DTEND;TZID=America/North_Dakota/Center:20250621T213000
DTSTAMP:20260425T072804
CREATED:20250109T160317Z
LAST-MODIFIED:20250109T160318Z
UID:10001954-1750536000-1750541400@www.redbudrvresort.com
SUMMARY:Movie Night
DESCRIPTION:
URL:https://www.redbudrvresort.com/event/movie-night-5-2-2-3/2025-06-21/
END:VEVENT
BEGIN:VEVENT
DTSTART;TZID=America/North_Dakota/Center:20250621T100000
DTEND;TZID=America/North_Dakota/Center:20250621T150000
DTSTAMP:20260425T072804
CREATED:20250529T153532Z
LAST-MODIFIED:20250529T153532Z
UID:10002724-1750500000-1750518000@www.redbudrvresort.com
SUMMARY:Lodge Closed 10 - 3
DESCRIPTION:
URL:https://www.redbudrvresort.com/event/lodge-closed-10-3/
END:VEVENT
BEGIN:VEVENT
DTSTART;TZID=America/North_Dakota/Center:20250620T180000
DTEND;TZID=America/North_Dakota/Center:20250620T190000
DTSTAMP:20260425T072804
CREATED:20250506T133950Z
LAST-MODIFIED:20250506T133950Z
UID:10002670-1750442400-1750446000@www.redbudrvresort.com
SUMMARY:BINGO
DESCRIPTION:Join us at 6 pm in the lodge for bingo!  All ages\, prizes for winners!  No cost to play.
URL:https://www.redbudrvresort.com/event/bingo-20/2025-06-20/
END:VEVENT
BEGIN:VEVENT
DTSTART;TZID=America/North_Dakota/Center:20250614T200000
DTEND;TZID=America/North_Dakota/Center:20250614T213000
DTSTAMP:20260425T072804
CREATED:20250109T160317Z
LAST-MODIFIED:20250109T160318Z
UID:10001953-1749931200-1749936600@www.redbudrvresort.com
SUMMARY:Movie Night
DESCRIPTION:
URL:https://www.redbudrvresort.com/event/movie-night-5-2-2-3/2025-06-14/
END:VEVENT
BEGIN:VEVENT
DTSTART;TZID=America/North_Dakota/Center:20250613T180000
DTEND;TZID=America/North_Dakota/Center:20250613T190000
DTSTAMP:20260425T072804
CREATED:20250506T133950Z
LAST-MODIFIED:20250506T133950Z
UID:10002669-1749837600-1749841200@www.redbudrvresort.com
SUMMARY:BINGO
DESCRIPTION:Join us at 6 pm in the lodge for bingo!  All ages\, prizes for winners!  No cost to play.
URL:https://www.redbudrvresort.com/event/bingo-20/2025-06-13/
END:VEVENT
BEGIN:VEVENT
DTSTART;TZID=America/North_Dakota/Center:20250613T163000
DTEND;TZID=America/North_Dakota/Center:20250613T190000
DTSTAMP:20260425T072804
CREATED:20250529T153257Z
LAST-MODIFIED:20250529T153257Z
UID:10002722-1749832200-1749841200@www.redbudrvresort.com
SUMMARY:Food Truck Friday!
DESCRIPTION:O’s Chop House returns to Redbud Ranch!  4:30 – 7 pm
URL:https://www.redbudrvresort.com/event/food-truck-friday/
END:VEVENT
BEGIN:VEVENT
DTSTART;TZID=America/North_Dakota/Center:20250613T080000
DTEND;TZID=America/North_Dakota/Center:20250615T170000
DTSTAMP:20260425T072804
CREATED:20250529T153406Z
LAST-MODIFIED:20250529T153406Z
UID:10002723-1749801600-1750006800@www.redbudrvresort.com
SUMMARY:Fun with Fathers Weekend
DESCRIPTION:Time to celebrate all Fathers and father-figures this weekend!
URL:https://www.redbudrvresort.com/event/fun-with-fathers-weekend/
END:VEVENT
BEGIN:VEVENT
DTSTART;TZID=America/North_Dakota/Center:20250607T200000
DTEND;TZID=America/North_Dakota/Center:20250607T213000
DTSTAMP:20260425T072804
CREATED:20250109T160317Z
LAST-MODIFIED:20250109T160318Z
UID:10001952-1749326400-1749331800@www.redbudrvresort.com
SUMMARY:Movie Night
DESCRIPTION:
URL:https://www.redbudrvresort.com/event/movie-night-5-2-2-3/2025-06-07/
END:VEVENT
BEGIN:VEVENT
DTSTART;TZID=America/North_Dakota/Center:20250606T180000
DTEND;TZID=America/North_Dakota/Center:20250606T190000
DTSTAMP:20260425T072804
CREATED:20250506T133950Z
LAST-MODIFIED:20250506T133950Z
UID:10002668-1749232800-1749236400@www.redbudrvresort.com
SUMMARY:BINGO
DESCRIPTION:Join us at 6 pm in the lodge for bingo!  All ages\, prizes for winners!  No cost to play.
URL:https://www.redbudrvresort.com/event/bingo-20/2025-06-06/
END:VEVENT
BEGIN:VEVENT
DTSTART;TZID=America/North_Dakota/Center:20250603T080000
DTEND;TZID=America/North_Dakota/Center:20250603T120000
DTSTAMP:20260425T072804
CREATED:20250110T154907Z
LAST-MODIFIED:20250124T174612Z
UID:10002652-1748937600-1748952000@www.redbudrvresort.com
SUMMARY:Lodge Closed - Private Group
DESCRIPTION:
URL:https://www.redbudrvresort.com/event/lodge-closed-private-group/2025-06-03/
END:VEVENT
BEGIN:VEVENT
DTSTART;TZID=America/North_Dakota/Center:20250531T200000
DTEND;TZID=America/North_Dakota/Center:20250531T213000
DTSTAMP:20260425T072804
CREATED:20250109T160317Z
LAST-MODIFIED:20250109T160318Z
UID:10001951-1748721600-1748727000@www.redbudrvresort.com
SUMMARY:Movie Night
DESCRIPTION:
URL:https://www.redbudrvresort.com/event/movie-night-5-2-2-3/2025-05-31/
END:VEVENT
BEGIN:VEVENT
DTSTART;TZID=America/North_Dakota/Center:20250531T130000
DTEND;TZID=America/North_Dakota/Center:20250531T180000
DTSTAMP:20260425T072804
CREATED:20250506T141153Z
LAST-MODIFIED:20250506T141153Z
UID:10002721-1748696400-1748714400@www.redbudrvresort.com
SUMMARY:Lodge Closed - Private Group
DESCRIPTION:
URL:https://www.redbudrvresort.com/event/lodge-closed-private-group-3/
END:VEVENT
BEGIN:VEVENT
DTSTART;TZID=America/North_Dakota/Center:20250530T180000
DTEND;TZID=America/North_Dakota/Center:20250530T190000
DTSTAMP:20260425T072804
CREATED:20250506T133950Z
LAST-MODIFIED:20250506T133950Z
UID:10002667-1748628000-1748631600@www.redbudrvresort.com
SUMMARY:BINGO
DESCRIPTION:Join us at 6 pm in the lodge for bingo!  All ages\, prizes for winners!  No cost to play.
URL:https://www.redbudrvresort.com/event/bingo-20/2025-05-30/
END:VEVENT
BEGIN:VEVENT
DTSTART;VALUE=DATE:20250526
DTEND;VALUE=DATE:20250527
DTSTAMP:20260425T072804
CREATED:20250110T211602Z
LAST-MODIFIED:20250110T211602Z
UID:10002640-1748217600-1748303999@www.redbudrvresort.com
SUMMARY:Memorial Day
DESCRIPTION:Memorial Day (originally known as Decoration Day) is one of the federal holidays in the United States for honoring and mourning the U.S. military personnel who died while serving in the United States Armed Forces.
URL:https://www.redbudrvresort.com/event/memorial-day-2/
END:VEVENT
BEGIN:VEVENT
DTSTART;TZID=America/North_Dakota/Center:20250524T200000
DTEND;TZID=America/North_Dakota/Center:20250524T213000
DTSTAMP:20260425T072804
CREATED:20250109T160317Z
LAST-MODIFIED:20250109T160318Z
UID:10001950-1748116800-1748122200@www.redbudrvresort.com
SUMMARY:Movie Night
DESCRIPTION:
URL:https://www.redbudrvresort.com/event/movie-night-5-2-2-3/2025-05-24/
END:VEVENT
BEGIN:VEVENT
DTSTART;TZID=America/North_Dakota/Center:20250524T120000
DTEND;TZID=America/North_Dakota/Center:20250524T163000
DTSTAMP:20260425T072804
CREATED:20250110T154907Z
LAST-MODIFIED:20250124T174612Z
UID:10002651-1748088000-1748104200@www.redbudrvresort.com
SUMMARY:Lodge Closed - Private Group
DESCRIPTION:
URL:https://www.redbudrvresort.com/event/lodge-closed-private-group/2025-05-24/
END:VEVENT
BEGIN:VEVENT
DTSTART;TZID=America/North_Dakota/Center:20250523T180000
DTEND;TZID=America/North_Dakota/Center:20250523T190000
DTSTAMP:20260425T072804
CREATED:20250506T133950Z
LAST-MODIFIED:20250506T133950Z
UID:10002666-1748023200-1748026800@www.redbudrvresort.com
SUMMARY:BINGO
DESCRIPTION:Join us at 6 pm in the lodge for bingo!  All ages\, prizes for winners!  No cost to play.
URL:https://www.redbudrvresort.com/event/bingo-20/2025-05-23/
END:VEVENT
BEGIN:VEVENT
DTSTART;TZID=America/North_Dakota/Center:20250517T200000
DTEND;TZID=America/North_Dakota/Center:20250517T213000
DTSTAMP:20260425T072804
CREATED:20250109T160317Z
LAST-MODIFIED:20250109T160318Z
UID:10001949-1747512000-1747517400@www.redbudrvresort.com
SUMMARY:Movie Night
DESCRIPTION:
URL:https://www.redbudrvresort.com/event/movie-night-5-2-2-3/2025-05-17/
END:VEVENT
BEGIN:VEVENT
DTSTART;TZID=America/North_Dakota/Center:20250516T180000
DTEND;TZID=America/North_Dakota/Center:20250516T190000
DTSTAMP:20260425T072804
CREATED:20250506T133950Z
LAST-MODIFIED:20250506T133950Z
UID:10002665-1747418400-1747422000@www.redbudrvresort.com
SUMMARY:BINGO
DESCRIPTION:Join us at 6 pm in the lodge for bingo!  All ages\, prizes for winners!  No cost to play.
URL:https://www.redbudrvresort.com/event/bingo-20/2025-05-16/
END:VEVENT
END:VCALENDAR