BEGIN:VCALENDAR
VERSION:2.0
PRODID:-//Redbud Ranch RV Resort - ECPv6.15.20//NONSGML v1.0//EN
CALSCALE:GREGORIAN
METHOD:PUBLISH
X-WR-CALNAME:Redbud Ranch RV Resort
X-ORIGINAL-URL:https://www.redbudrvresort.com
X-WR-CALDESC:Events for Redbud Ranch RV Resort
REFRESH-INTERVAL;VALUE=DURATION:PT1H
X-Robots-Tag:noindex
X-PUBLISHED-TTL:PT1H
BEGIN:VTIMEZONE
TZID:America/North_Dakota/Center
BEGIN:DAYLIGHT
TZOFFSETFROM:-0600
TZOFFSETTO:-0500
TZNAME:CDT
DTSTART:20240310T080000
END:DAYLIGHT
BEGIN:STANDARD
TZOFFSETFROM:-0500
TZOFFSETTO:-0600
TZNAME:CST
DTSTART:20241103T070000
END:STANDARD
BEGIN:DAYLIGHT
TZOFFSETFROM:-0600
TZOFFSETTO:-0500
TZNAME:CDT
DTSTART:20250309T080000
END:DAYLIGHT
BEGIN:STANDARD
TZOFFSETFROM:-0500
TZOFFSETTO:-0600
TZNAME:CST
DTSTART:20251102T070000
END:STANDARD
BEGIN:DAYLIGHT
TZOFFSETFROM:-0600
TZOFFSETTO:-0500
TZNAME:CDT
DTSTART:20260308T080000
END:DAYLIGHT
BEGIN:STANDARD
TZOFFSETFROM:-0500
TZOFFSETTO:-0600
TZNAME:CST
DTSTART:20261101T070000
END:STANDARD
END:VTIMEZONE
BEGIN:VEVENT
DTSTART;TZID=America/North_Dakota/Center:20250912T180000
DTEND;TZID=America/North_Dakota/Center:20250912T190000
DTSTAMP:20260425T052455
CREATED:20250506T133950Z
LAST-MODIFIED:20250506T133950Z
UID:10002682-1757700000-1757703600@www.redbudrvresort.com
SUMMARY:BINGO
DESCRIPTION:Join us at 6 pm in the lodge for bingo!  All ages\, prizes for winners!  No cost to play.
URL:https://www.redbudrvresort.com/event/bingo-20/2025-09-12/
END:VEVENT
BEGIN:VEVENT
DTSTART;TZID=America/North_Dakota/Center:20250906T200000
DTEND;TZID=America/North_Dakota/Center:20250906T213000
DTSTAMP:20260425T052455
CREATED:20250109T160317Z
LAST-MODIFIED:20250109T160318Z
UID:10001965-1757188800-1757194200@www.redbudrvresort.com
SUMMARY:Movie Night
DESCRIPTION:
URL:https://www.redbudrvresort.com/event/movie-night-5-2-2-3/2025-09-06/
END:VEVENT
BEGIN:VEVENT
DTSTART;TZID=America/North_Dakota/Center:20250905T180000
DTEND;TZID=America/North_Dakota/Center:20250905T190000
DTSTAMP:20260425T052455
CREATED:20250506T133950Z
LAST-MODIFIED:20250506T133950Z
UID:10002681-1757095200-1757098800@www.redbudrvresort.com
SUMMARY:BINGO
DESCRIPTION:Join us at 6 pm in the lodge for bingo!  All ages\, prizes for winners!  No cost to play.
URL:https://www.redbudrvresort.com/event/bingo-20/2025-09-05/
END:VEVENT
BEGIN:VEVENT
DTSTART;TZID=America/North_Dakota/Center:20250902T080000
DTEND;TZID=America/North_Dakota/Center:20250902T120000
DTSTAMP:20260425T052455
CREATED:20250110T154907Z
LAST-MODIFIED:20250124T174612Z
UID:10002654-1756800000-1756814400@www.redbudrvresort.com
SUMMARY:Lodge Closed - Private Group
DESCRIPTION:
URL:https://www.redbudrvresort.com/event/lodge-closed-private-group/2025-09-02/
END:VEVENT
BEGIN:VEVENT
DTSTART;TZID=America/North_Dakota/Center:20250830T200000
DTEND;TZID=America/North_Dakota/Center:20250830T213000
DTSTAMP:20260425T052455
CREATED:20250109T160317Z
LAST-MODIFIED:20250109T160318Z
UID:10001964-1756584000-1756589400@www.redbudrvresort.com
SUMMARY:Movie Night
DESCRIPTION:
URL:https://www.redbudrvresort.com/event/movie-night-5-2-2-3/2025-08-30/
END:VEVENT
BEGIN:VEVENT
DTSTART;TZID=America/North_Dakota/Center:20250830T110000
DTEND;TZID=America/North_Dakota/Center:20250830T123000
DTSTAMP:20260425T052455
CREATED:20250805T185131Z
LAST-MODIFIED:20250805T185154Z
UID:10002735-1756551600-1756557000@www.redbudrvresort.com
SUMMARY:Slip n Slide Fun
DESCRIPTION:Join us at the playground for some Slip n Slide fun!  11 AM
URL:https://www.redbudrvresort.com/event/slip-n-slide-fun/
END:VEVENT
BEGIN:VEVENT
DTSTART;TZID=America/North_Dakota/Center:20250829T180000
DTEND;TZID=America/North_Dakota/Center:20250829T190000
DTSTAMP:20260425T052455
CREATED:20250506T133950Z
LAST-MODIFIED:20250506T133950Z
UID:10002680-1756490400-1756494000@www.redbudrvresort.com
SUMMARY:BINGO
DESCRIPTION:Join us at 6 pm in the lodge for bingo!  All ages\, prizes for winners!  No cost to play.
URL:https://www.redbudrvresort.com/event/bingo-20/2025-08-29/
END:VEVENT
BEGIN:VEVENT
DTSTART;TZID=America/North_Dakota/Center:20250829T080000
DTEND;TZID=America/North_Dakota/Center:20250901T170000
DTSTAMP:20260425T052455
CREATED:20250805T151718Z
LAST-MODIFIED:20250805T185227Z
UID:10002734-1756454400-1756746000@www.redbudrvresort.com
SUMMARY:Laid Back Labor Day Weekend
DESCRIPTION:
URL:https://www.redbudrvresort.com/event/laid-back-labor-day-weekend/
END:VEVENT
BEGIN:VEVENT
DTSTART;TZID=America/North_Dakota/Center:20250823T200000
DTEND;TZID=America/North_Dakota/Center:20250823T213000
DTSTAMP:20260425T052455
CREATED:20250109T160317Z
LAST-MODIFIED:20250109T160318Z
UID:10001963-1755979200-1755984600@www.redbudrvresort.com
SUMMARY:Movie Night
DESCRIPTION:
URL:https://www.redbudrvresort.com/event/movie-night-5-2-2-3/2025-08-23/
END:VEVENT
BEGIN:VEVENT
DTSTART;TZID=America/North_Dakota/Center:20250823T110000
DTEND;TZID=America/North_Dakota/Center:20250823T123000
DTSTAMP:20260425T052455
CREATED:20250805T151607Z
LAST-MODIFIED:20250815T152705Z
UID:10002541-1755946800-1755952200@www.redbudrvresort.com
SUMMARY:Craft Time
DESCRIPTION:Join us in the business center or at the pool for craft time today @ 11 AM
URL:https://www.redbudrvresort.com/event/craft-time-8/2025-08-23/
END:VEVENT
BEGIN:VEVENT
DTSTART;TZID=America/North_Dakota/Center:20250822T180000
DTEND;TZID=America/North_Dakota/Center:20250822T190000
DTSTAMP:20260425T052455
CREATED:20250506T133950Z
LAST-MODIFIED:20250506T133950Z
UID:10002679-1755885600-1755889200@www.redbudrvresort.com
SUMMARY:BINGO
DESCRIPTION:Join us at 6 pm in the lodge for bingo!  All ages\, prizes for winners!  No cost to play.
URL:https://www.redbudrvresort.com/event/bingo-20/2025-08-22/
END:VEVENT
BEGIN:VEVENT
DTSTART;TZID=America/North_Dakota/Center:20250816T200000
DTEND;TZID=America/North_Dakota/Center:20250816T213000
DTSTAMP:20260425T052455
CREATED:20250109T160317Z
LAST-MODIFIED:20250109T160318Z
UID:10001962-1755374400-1755379800@www.redbudrvresort.com
SUMMARY:Movie Night
DESCRIPTION:
URL:https://www.redbudrvresort.com/event/movie-night-5-2-2-3/2025-08-16/
END:VEVENT
BEGIN:VEVENT
DTSTART;TZID=America/North_Dakota/Center:20250816T110000
DTEND;TZID=America/North_Dakota/Center:20250816T123000
DTSTAMP:20260425T052455
CREATED:20250805T151607Z
LAST-MODIFIED:20250815T152705Z
UID:10002736-1755342000-1755347400@www.redbudrvresort.com
SUMMARY:Craft Time
DESCRIPTION:Join us in the business center or at the pool for craft time today @ 11 AM
URL:https://www.redbudrvresort.com/event/craft-time-8/2025-08-16/
END:VEVENT
BEGIN:VEVENT
DTSTART;TZID=America/North_Dakota/Center:20250813T080000
DTEND;TZID=America/North_Dakota/Center:20250817T170000
DTSTAMP:20260425T052455
CREATED:20250805T140409Z
LAST-MODIFIED:20250805T140409Z
UID:10002733-1755072000-1755450000@www.redbudrvresort.com
SUMMARY:Lodge Closed - TEXAS TUMBLEWEEDS Chillin'Out Rally
DESCRIPTION:
URL:https://www.redbudrvresort.com/event/lodge-closed-texas-tumbleweeds-chillinout-rally/
END:VEVENT
BEGIN:VEVENT
DTSTART;TZID=America/North_Dakota/Center:20250809T200000
DTEND;TZID=America/North_Dakota/Center:20250809T213000
DTSTAMP:20260425T052455
CREATED:20250109T160317Z
LAST-MODIFIED:20250109T160318Z
UID:10001961-1754769600-1754775000@www.redbudrvresort.com
SUMMARY:Movie Night
DESCRIPTION:
URL:https://www.redbudrvresort.com/event/movie-night-5-2-2-3/2025-08-09/
END:VEVENT
BEGIN:VEVENT
DTSTART;TZID=America/North_Dakota/Center:20250809T140000
DTEND;TZID=America/North_Dakota/Center:20250809T160000
DTSTAMP:20260425T052455
CREATED:20250805T135528Z
LAST-MODIFIED:20250805T135528Z
UID:10002731-1754748000-1754755200@www.redbudrvresort.com
SUMMARY:KONA ICE
DESCRIPTION:Kona Ice returns to Redbud Ranch.  They will be parked at the bike rack from 2-4 pm
URL:https://www.redbudrvresort.com/event/kona-ice-6/
END:VEVENT
BEGIN:VEVENT
DTSTART;TZID=America/North_Dakota/Center:20250809T110000
DTEND;TZID=America/North_Dakota/Center:20250809T123000
DTSTAMP:20260425T052455
CREATED:20250805T140101Z
LAST-MODIFIED:20250805T142240Z
UID:10002540-1754737200-1754742600@www.redbudrvresort.com
SUMMARY:SLIP N SLIDE FUN
DESCRIPTION:Join us near the playground for some SLIP N SLIDE INTO A NEW SCHOOL YEAR FUN!
URL:https://www.redbudrvresort.com/event/craft-time-7/
END:VEVENT
BEGIN:VEVENT
DTSTART;TZID=America/North_Dakota/Center:20250808T180000
DTEND;TZID=America/North_Dakota/Center:20250808T193000
DTSTAMP:20260425T052455
CREATED:20250805T140216Z
LAST-MODIFIED:20250805T181239Z
UID:10002732-1754676000-1754681400@www.redbudrvresort.com
SUMMARY:HOT DOG SUMMER'S OVER!
DESCRIPTION:Join us in the Lodge for a Hot Dog Bar @ 6pm and stay for some BINGO!  Meet some new residents and new friends before school starts!
URL:https://www.redbudrvresort.com/event/hot-dog-summers-over/
END:VEVENT
BEGIN:VEVENT
DTSTART;TZID=America/North_Dakota/Center:20250808T180000
DTEND;TZID=America/North_Dakota/Center:20250808T190000
DTSTAMP:20260425T052455
CREATED:20250506T133950Z
LAST-MODIFIED:20250506T133950Z
UID:10002677-1754676000-1754679600@www.redbudrvresort.com
SUMMARY:BINGO
DESCRIPTION:Join us at 6 pm in the lodge for bingo!  All ages\, prizes for winners!  No cost to play.
URL:https://www.redbudrvresort.com/event/bingo-20/2025-08-08/
END:VEVENT
BEGIN:VEVENT
DTSTART;TZID=America/North_Dakota/Center:20250805T080000
DTEND;TZID=America/North_Dakota/Center:20250805T120000
DTSTAMP:20260425T052455
CREATED:20250110T154907Z
LAST-MODIFIED:20250124T174612Z
UID:10002653-1754380800-1754395200@www.redbudrvresort.com
SUMMARY:Lodge Closed - Private Group
DESCRIPTION:
URL:https://www.redbudrvresort.com/event/lodge-closed-private-group/2025-08-05/
END:VEVENT
BEGIN:VEVENT
DTSTART;TZID=America/North_Dakota/Center:20250802T200000
DTEND;TZID=America/North_Dakota/Center:20250802T213000
DTSTAMP:20260425T052455
CREATED:20250109T160317Z
LAST-MODIFIED:20250109T160318Z
UID:10001960-1754164800-1754170200@www.redbudrvresort.com
SUMMARY:Movie Night
DESCRIPTION:
URL:https://www.redbudrvresort.com/event/movie-night-5-2-2-3/2025-08-02/
END:VEVENT
BEGIN:VEVENT
DTSTART;TZID=America/North_Dakota/Center:20250801T180000
DTEND;TZID=America/North_Dakota/Center:20250801T190000
DTSTAMP:20260425T052455
CREATED:20250506T133950Z
LAST-MODIFIED:20250506T133950Z
UID:10002676-1754071200-1754074800@www.redbudrvresort.com
SUMMARY:BINGO
DESCRIPTION:Join us at 6 pm in the lodge for bingo!  All ages\, prizes for winners!  No cost to play.
URL:https://www.redbudrvresort.com/event/bingo-20/2025-08-01/
END:VEVENT
BEGIN:VEVENT
DTSTART;TZID=America/North_Dakota/Center:20250726T200000
DTEND;TZID=America/North_Dakota/Center:20250726T213000
DTSTAMP:20260425T052455
CREATED:20250109T160317Z
LAST-MODIFIED:20250109T160318Z
UID:10001959-1753560000-1753565400@www.redbudrvresort.com
SUMMARY:Movie Night
DESCRIPTION:
URL:https://www.redbudrvresort.com/event/movie-night-5-2-2-3/2025-07-26/
END:VEVENT
BEGIN:VEVENT
DTSTART;TZID=America/North_Dakota/Center:20250725T180000
DTEND;TZID=America/North_Dakota/Center:20250725T190000
DTSTAMP:20260425T052455
CREATED:20250506T133950Z
LAST-MODIFIED:20250506T133950Z
UID:10002675-1753466400-1753470000@www.redbudrvresort.com
SUMMARY:BINGO
DESCRIPTION:Join us at 6 pm in the lodge for bingo!  All ages\, prizes for winners!  No cost to play.
URL:https://www.redbudrvresort.com/event/bingo-20/2025-07-25/
END:VEVENT
BEGIN:VEVENT
DTSTART;TZID=America/North_Dakota/Center:20250725T163000
DTEND;TZID=America/North_Dakota/Center:20250725T190000
DTSTAMP:20260425T052455
CREATED:20250704T194534Z
LAST-MODIFIED:20250704T194534Z
UID:10002730-1753461000-1753470000@www.redbudrvresort.com
SUMMARY:Food Truck Friday
DESCRIPTION:O’s Chop House returns to Redbud Ranch this evening 4:30 – 7 pm!
URL:https://www.redbudrvresort.com/event/food-truck-friday-3/
END:VEVENT
BEGIN:VEVENT
DTSTART;TZID=America/North_Dakota/Center:20250720T080000
DTEND;TZID=America/North_Dakota/Center:20250726T170000
DTSTAMP:20260425T052455
CREATED:20250529T201702Z
LAST-MODIFIED:20250529T201702Z
UID:10002726-1752998400-1753549200@www.redbudrvresort.com
SUMMARY:SHARK WEEK
DESCRIPTION:Redbud Ranch is going to the SHARKS!  Join us all week for dive-in movies (weather permitting).
URL:https://www.redbudrvresort.com/event/shark-week/
END:VEVENT
BEGIN:VEVENT
DTSTART;TZID=America/North_Dakota/Center:20250719T200000
DTEND;TZID=America/North_Dakota/Center:20250719T213000
DTSTAMP:20260425T052455
CREATED:20250109T160317Z
LAST-MODIFIED:20250109T160318Z
UID:10001958-1752955200-1752960600@www.redbudrvresort.com
SUMMARY:Movie Night
DESCRIPTION:
URL:https://www.redbudrvresort.com/event/movie-night-5-2-2-3/2025-07-19/
END:VEVENT
BEGIN:VEVENT
DTSTART;TZID=America/North_Dakota/Center:20250719T140000
DTEND;TZID=America/North_Dakota/Center:20250719T160000
DTSTAMP:20260425T052455
CREATED:20250704T194354Z
LAST-MODIFIED:20250704T194354Z
UID:10002729-1752933600-1752940800@www.redbudrvresort.com
SUMMARY:Kona Ice Truck
DESCRIPTION:Join us by the bike rack for KONA ICE  from 2-4 pm!
URL:https://www.redbudrvresort.com/event/kona-ice-truck/
END:VEVENT
BEGIN:VEVENT
DTSTART;TZID=America/North_Dakota/Center:20250718T180000
DTEND;TZID=America/North_Dakota/Center:20250718T190000
DTSTAMP:20260425T052455
CREATED:20250506T133950Z
LAST-MODIFIED:20250506T133950Z
UID:10002674-1752861600-1752865200@www.redbudrvresort.com
SUMMARY:BINGO
DESCRIPTION:Join us at 6 pm in the lodge for bingo!  All ages\, prizes for winners!  No cost to play.
URL:https://www.redbudrvresort.com/event/bingo-20/2025-07-18/
END:VEVENT
BEGIN:VEVENT
DTSTART;TZID=America/North_Dakota/Center:20250716T180000
DTEND;TZID=America/North_Dakota/Center:20250716T193000
DTSTAMP:20260425T052455
CREATED:20250704T194243Z
LAST-MODIFIED:20250704T194243Z
UID:10002728-1752688800-1752694200@www.redbudrvresort.com
SUMMARY:Wine Down Wednesday
DESCRIPTION:Join us in the Lodge for a Wine Down Wednesday – adult event (BYOW or beverage of choice).  Meet some fellow resort guests and just “wine down” for the evening.  6 pm in the Lodge.
URL:https://www.redbudrvresort.com/event/wine-down-wednesday-9/
END:VEVENT
END:VCALENDAR