BEGIN:VCALENDAR
VERSION:2.0
PRODID:-//Redbud Ranch RV Resort - ECPv6.15.20//NONSGML v1.0//EN
CALSCALE:GREGORIAN
METHOD:PUBLISH
X-WR-CALNAME:Redbud Ranch RV Resort
X-ORIGINAL-URL:https://www.redbudrvresort.com
X-WR-CALDESC:Events for Redbud Ranch RV Resort
REFRESH-INTERVAL;VALUE=DURATION:PT1H
X-Robots-Tag:noindex
X-PUBLISHED-TTL:PT1H
BEGIN:VTIMEZONE
TZID:America/North_Dakota/Center
BEGIN:DAYLIGHT
TZOFFSETFROM:-0600
TZOFFSETTO:-0500
TZNAME:CDT
DTSTART:20250309T080000
END:DAYLIGHT
BEGIN:STANDARD
TZOFFSETFROM:-0500
TZOFFSETTO:-0600
TZNAME:CST
DTSTART:20251102T070000
END:STANDARD
BEGIN:DAYLIGHT
TZOFFSETFROM:-0600
TZOFFSETTO:-0500
TZNAME:CDT
DTSTART:20260308T080000
END:DAYLIGHT
BEGIN:STANDARD
TZOFFSETFROM:-0500
TZOFFSETTO:-0600
TZNAME:CST
DTSTART:20261101T070000
END:STANDARD
BEGIN:DAYLIGHT
TZOFFSETFROM:-0600
TZOFFSETTO:-0500
TZNAME:CDT
DTSTART:20270314T080000
END:DAYLIGHT
BEGIN:STANDARD
TZOFFSETFROM:-0500
TZOFFSETTO:-0600
TZNAME:CST
DTSTART:20271107T070000
END:STANDARD
END:VTIMEZONE
BEGIN:VEVENT
DTSTART;TZID=America/North_Dakota/Center:20260313T180000
DTEND;TZID=America/North_Dakota/Center:20260313T193000
DTSTAMP:20260425T081340
CREATED:20260130T185700Z
LAST-MODIFIED:20260303T200337Z
UID:10002993-1773424800-1773430200@www.redbudrvresort.com
SUMMARY:BINGO
DESCRIPTION:6 pm in the LODGE \nFree\, Family – Friendly Fun with prizes!
URL:https://www.redbudrvresort.com/event/bingo-24/2026-03-13/
END:VEVENT
BEGIN:VEVENT
DTSTART;TZID=America/North_Dakota/Center:20260307T190000
DTEND;TZID=America/North_Dakota/Center:20260307T210000
DTSTAMP:20260425T081340
CREATED:20250109T160541Z
LAST-MODIFIED:20260130T190459Z
UID:10002208-1772910000-1772917200@www.redbudrvresort.com
SUMMARY:Movie Night
DESCRIPTION:
URL:https://www.redbudrvresort.com/event/movie-night-5-2-2-3-2/2026-03-07/
END:VEVENT
BEGIN:VEVENT
DTSTART;TZID=America/North_Dakota/Center:20260307T110000
DTEND;TZID=America/North_Dakota/Center:20260307T120000
DTSTAMP:20260425T081340
CREATED:20251024T161346Z
LAST-MODIFIED:20251024T161346Z
UID:10002818-1772881200-1772884800@www.redbudrvresort.com
SUMMARY:Craft Time
DESCRIPTION:Join us for craft time at 11 AM.  This is a free\, family friendly event!
URL:https://www.redbudrvresort.com/event/craft-time-9/2026-03-07/
END:VEVENT
BEGIN:VEVENT
DTSTART;TZID=America/North_Dakota/Center:20260306T180000
DTEND;TZID=America/North_Dakota/Center:20260306T193000
DTSTAMP:20260425T081340
CREATED:20260130T185700Z
LAST-MODIFIED:20260303T200337Z
UID:10002992-1772820000-1772825400@www.redbudrvresort.com
SUMMARY:BINGO
DESCRIPTION:6 pm in the LODGE \nFree\, Family – Friendly Fun with prizes!
URL:https://www.redbudrvresort.com/event/bingo-24/2026-03-06/
END:VEVENT
BEGIN:VEVENT
DTSTART;TZID=America/North_Dakota/Center:20260303T080000
DTEND;TZID=America/North_Dakota/Center:20260303T120000
DTSTAMP:20260425T081340
CREATED:20251227T214400Z
LAST-MODIFIED:20251227T214400Z
UID:10002915-1772524800-1772539200@www.redbudrvresort.com
SUMMARY:Lodge Closed
DESCRIPTION:
URL:https://www.redbudrvresort.com/event/lodge-closed/2026-03-03/
END:VEVENT
BEGIN:VEVENT
DTSTART;TZID=America/North_Dakota/Center:20260228T190000
DTEND;TZID=America/North_Dakota/Center:20260228T210000
DTSTAMP:20260425T081340
CREATED:20250109T160541Z
LAST-MODIFIED:20260130T190459Z
UID:10002207-1772305200-1772312400@www.redbudrvresort.com
SUMMARY:Movie Night
DESCRIPTION:
URL:https://www.redbudrvresort.com/event/movie-night-5-2-2-3-2/2026-02-28/
END:VEVENT
BEGIN:VEVENT
DTSTART;TZID=America/North_Dakota/Center:20260228T110000
DTEND;TZID=America/North_Dakota/Center:20260228T120000
DTSTAMP:20260425T081340
CREATED:20251024T161346Z
LAST-MODIFIED:20251024T161346Z
UID:10002817-1772276400-1772280000@www.redbudrvresort.com
SUMMARY:Craft Time
DESCRIPTION:Join us for craft time at 11 AM.  This is a free\, family friendly event!
URL:https://www.redbudrvresort.com/event/craft-time-9/2026-02-28/
END:VEVENT
BEGIN:VEVENT
DTSTART;TZID=America/North_Dakota/Center:20260227T180000
DTEND;TZID=America/North_Dakota/Center:20260227T193000
DTSTAMP:20260425T081340
CREATED:20260130T184208Z
LAST-MODIFIED:20260130T190827Z
UID:10002938-1772215200-1772220600@www.redbudrvresort.com
SUMMARY:BINGO
DESCRIPTION:Join us in the Lodge for BINGO!  Free\, family friendly event with prizes! 6 PM
URL:https://www.redbudrvresort.com/event/bingo-23/2026-02-27/
END:VEVENT
BEGIN:VEVENT
DTSTART;TZID=America/North_Dakota/Center:20260221T190000
DTEND;TZID=America/North_Dakota/Center:20260221T210000
DTSTAMP:20260425T081340
CREATED:20250109T160541Z
LAST-MODIFIED:20260130T190459Z
UID:10002206-1771700400-1771707600@www.redbudrvresort.com
SUMMARY:Movie Night
DESCRIPTION:
URL:https://www.redbudrvresort.com/event/movie-night-5-2-2-3-2/2026-02-21/
END:VEVENT
BEGIN:VEVENT
DTSTART;TZID=America/North_Dakota/Center:20260221T110000
DTEND;TZID=America/North_Dakota/Center:20260221T120000
DTSTAMP:20260425T081340
CREATED:20251024T161346Z
LAST-MODIFIED:20251024T161346Z
UID:10002816-1771671600-1771675200@www.redbudrvresort.com
SUMMARY:Craft Time
DESCRIPTION:Join us for craft time at 11 AM.  This is a free\, family friendly event!
URL:https://www.redbudrvresort.com/event/craft-time-9/2026-02-21/
END:VEVENT
BEGIN:VEVENT
DTSTART;TZID=America/North_Dakota/Center:20260220T180000
DTEND;TZID=America/North_Dakota/Center:20260220T193000
DTSTAMP:20260425T081340
CREATED:20260130T184208Z
LAST-MODIFIED:20260130T190827Z
UID:10002937-1771610400-1771615800@www.redbudrvresort.com
SUMMARY:BINGO
DESCRIPTION:Join us in the Lodge for BINGO!  Free\, family friendly event with prizes! 6 PM
URL:https://www.redbudrvresort.com/event/bingo-23/2026-02-20/
END:VEVENT
BEGIN:VEVENT
DTSTART;TZID=America/North_Dakota/Center:20260214T190000
DTEND;TZID=America/North_Dakota/Center:20260214T210000
DTSTAMP:20260425T081340
CREATED:20250109T160541Z
LAST-MODIFIED:20260130T190459Z
UID:10002205-1771095600-1771102800@www.redbudrvresort.com
SUMMARY:Movie Night
DESCRIPTION:
URL:https://www.redbudrvresort.com/event/movie-night-5-2-2-3-2/2026-02-14/
END:VEVENT
BEGIN:VEVENT
DTSTART;TZID=America/North_Dakota/Center:20260214T110000
DTEND;TZID=America/North_Dakota/Center:20260214T120000
DTSTAMP:20260425T081340
CREATED:20251024T161346Z
LAST-MODIFIED:20251024T161346Z
UID:10002815-1771066800-1771070400@www.redbudrvresort.com
SUMMARY:Craft Time
DESCRIPTION:Join us for craft time at 11 AM.  This is a free\, family friendly event!
URL:https://www.redbudrvresort.com/event/craft-time-9/2026-02-14/
END:VEVENT
BEGIN:VEVENT
DTSTART;TZID=America/North_Dakota/Center:20260213T180000
DTEND;TZID=America/North_Dakota/Center:20260213T193000
DTSTAMP:20260425T081340
CREATED:20260130T184208Z
LAST-MODIFIED:20260130T190827Z
UID:10002936-1771005600-1771011000@www.redbudrvresort.com
SUMMARY:BINGO
DESCRIPTION:Join us in the Lodge for BINGO!  Free\, family friendly event with prizes! 6 PM
URL:https://www.redbudrvresort.com/event/bingo-23/2026-02-13/2/
END:VEVENT
BEGIN:VEVENT
DTSTART;TZID=America/North_Dakota/Center:20260213T080000
DTEND;TZID=America/North_Dakota/Center:20260213T170000
DTSTAMP:20260425T081340
CREATED:20260130T184208Z
LAST-MODIFIED:20260130T190827Z
UID:10002991-1770969600-1771002000@www.redbudrvresort.com
SUMMARY:BINGO
DESCRIPTION:Join us in the Lodge for BINGO!  Free\, family friendly event with prizes! 6 PM
URL:https://www.redbudrvresort.com/event/bingo-23/2026-02-13/1/
END:VEVENT
BEGIN:VEVENT
DTSTART;TZID=America/North_Dakota/Center:20260207T110000
DTEND;TZID=America/North_Dakota/Center:20260207T120000
DTSTAMP:20260425T081340
CREATED:20251024T161346Z
LAST-MODIFIED:20251024T161346Z
UID:10002814-1770462000-1770465600@www.redbudrvresort.com
SUMMARY:Craft Time
DESCRIPTION:Join us for craft time at 11 AM.  This is a free\, family friendly event!
URL:https://www.redbudrvresort.com/event/craft-time-9/2026-02-07/
END:VEVENT
BEGIN:VEVENT
DTSTART;TZID=America/North_Dakota/Center:20260205T080000
DTEND;TZID=America/North_Dakota/Center:20260209T170000
DTSTAMP:20260425T081340
CREATED:20251227T214801Z
LAST-MODIFIED:20251227T214801Z
UID:10002926-1770278400-1770656400@www.redbudrvresort.com
SUMMARY:Lodge Closed - Texas Tumbleweeds Group
DESCRIPTION:
URL:https://www.redbudrvresort.com/event/lodge-closed-texas-tumbleweeds-group/
END:VEVENT
BEGIN:VEVENT
DTSTART;TZID=America/North_Dakota/Center:20260203T080000
DTEND;TZID=America/North_Dakota/Center:20260203T120000
DTSTAMP:20260425T081340
CREATED:20251227T214400Z
LAST-MODIFIED:20251227T214400Z
UID:10002914-1770105600-1770120000@www.redbudrvresort.com
SUMMARY:Lodge Closed
DESCRIPTION:
URL:https://www.redbudrvresort.com/event/lodge-closed/2026-02-03/
END:VEVENT
BEGIN:VEVENT
DTSTART;TZID=America/North_Dakota/Center:20260131T190000
DTEND;TZID=America/North_Dakota/Center:20260131T210000
DTSTAMP:20260425T081340
CREATED:20250109T160541Z
LAST-MODIFIED:20260130T190459Z
UID:10002203-1769886000-1769893200@www.redbudrvresort.com
SUMMARY:Movie Night
DESCRIPTION:
URL:https://www.redbudrvresort.com/event/movie-night-5-2-2-3-2/2026-01-31/
END:VEVENT
BEGIN:VEVENT
DTSTART;TZID=America/North_Dakota/Center:20260131T110000
DTEND;TZID=America/North_Dakota/Center:20260131T120000
DTSTAMP:20260425T081340
CREATED:20251024T161346Z
LAST-MODIFIED:20251024T161346Z
UID:10002813-1769857200-1769860800@www.redbudrvresort.com
SUMMARY:Craft Time
DESCRIPTION:Join us for craft time at 11 AM.  This is a free\, family friendly event!
URL:https://www.redbudrvresort.com/event/craft-time-9/2026-01-31/
END:VEVENT
BEGIN:VEVENT
DTSTART;TZID=America/North_Dakota/Center:20260130T180000
DTEND;TZID=America/North_Dakota/Center:20260130T193000
DTSTAMP:20260425T081340
CREATED:20251227T214215Z
LAST-MODIFIED:20251227T214215Z
UID:10002912-1769796000-1769801400@www.redbudrvresort.com
SUMMARY:BINGO
DESCRIPTION:Join us in The Lodge at 6 pm for BINGO!  This is a free\, family friendly event with prizes!
URL:https://www.redbudrvresort.com/event/bingo-22/2026-01-30/
END:VEVENT
BEGIN:VEVENT
DTSTART;TZID=America/North_Dakota/Center:20260125T130000
DTEND;TZID=America/North_Dakota/Center:20260125T170000
DTSTAMP:20260425T081340
CREATED:20251227T214533Z
LAST-MODIFIED:20251227T220016Z
UID:10002925-1769346000-1769360400@www.redbudrvresort.com
SUMMARY:Lodge Closed - Private Group
DESCRIPTION:
URL:https://www.redbudrvresort.com/event/lodge-closed-private-group-4/2026-01-25/
END:VEVENT
BEGIN:VEVENT
DTSTART;TZID=America/North_Dakota/Center:20260124T190000
DTEND;TZID=America/North_Dakota/Center:20260124T210000
DTSTAMP:20260425T081340
CREATED:20250109T160541Z
LAST-MODIFIED:20260130T190459Z
UID:10002202-1769281200-1769288400@www.redbudrvresort.com
SUMMARY:Movie Night
DESCRIPTION:
URL:https://www.redbudrvresort.com/event/movie-night-5-2-2-3-2/2026-01-24/
END:VEVENT
BEGIN:VEVENT
DTSTART;TZID=America/North_Dakota/Center:20260124T110000
DTEND;TZID=America/North_Dakota/Center:20260124T120000
DTSTAMP:20260425T081340
CREATED:20251024T161346Z
LAST-MODIFIED:20251024T161346Z
UID:10002812-1769252400-1769256000@www.redbudrvresort.com
SUMMARY:Craft Time
DESCRIPTION:Join us for craft time at 11 AM.  This is a free\, family friendly event!
URL:https://www.redbudrvresort.com/event/craft-time-9/2026-01-24/
END:VEVENT
BEGIN:VEVENT
DTSTART;TZID=America/North_Dakota/Center:20260123T180000
DTEND;TZID=America/North_Dakota/Center:20260123T193000
DTSTAMP:20260425T081340
CREATED:20251227T214215Z
LAST-MODIFIED:20251227T214215Z
UID:10002911-1769191200-1769196600@www.redbudrvresort.com
SUMMARY:BINGO
DESCRIPTION:Join us in The Lodge at 6 pm for BINGO!  This is a free\, family friendly event with prizes!
URL:https://www.redbudrvresort.com/event/bingo-22/2026-01-23/
END:VEVENT
BEGIN:VEVENT
DTSTART;TZID=America/North_Dakota/Center:20260117T190000
DTEND;TZID=America/North_Dakota/Center:20260117T210000
DTSTAMP:20260425T081340
CREATED:20250109T160541Z
LAST-MODIFIED:20260130T190459Z
UID:10002201-1768676400-1768683600@www.redbudrvresort.com
SUMMARY:Movie Night
DESCRIPTION:
URL:https://www.redbudrvresort.com/event/movie-night-5-2-2-3-2/2026-01-17/
END:VEVENT
BEGIN:VEVENT
DTSTART;TZID=America/North_Dakota/Center:20260117T110000
DTEND;TZID=America/North_Dakota/Center:20260117T120000
DTSTAMP:20260425T081340
CREATED:20251024T161346Z
LAST-MODIFIED:20251024T161346Z
UID:10002811-1768647600-1768651200@www.redbudrvresort.com
SUMMARY:Craft Time
DESCRIPTION:Join us for craft time at 11 AM.  This is a free\, family friendly event!
URL:https://www.redbudrvresort.com/event/craft-time-9/2026-01-17/
END:VEVENT
BEGIN:VEVENT
DTSTART;TZID=America/North_Dakota/Center:20260116T180000
DTEND;TZID=America/North_Dakota/Center:20260116T193000
DTSTAMP:20260425T081340
CREATED:20251227T214215Z
LAST-MODIFIED:20251227T214215Z
UID:10002910-1768586400-1768591800@www.redbudrvresort.com
SUMMARY:BINGO
DESCRIPTION:Join us in The Lodge at 6 pm for BINGO!  This is a free\, family friendly event with prizes!
URL:https://www.redbudrvresort.com/event/bingo-22/2026-01-16/
END:VEVENT
BEGIN:VEVENT
DTSTART;TZID=America/North_Dakota/Center:20260110T190000
DTEND;TZID=America/North_Dakota/Center:20260110T210000
DTSTAMP:20260425T081340
CREATED:20250109T160541Z
LAST-MODIFIED:20260130T190459Z
UID:10002200-1768071600-1768078800@www.redbudrvresort.com
SUMMARY:Movie Night
DESCRIPTION:
URL:https://www.redbudrvresort.com/event/movie-night-5-2-2-3-2/2026-01-10/
END:VEVENT
BEGIN:VEVENT
DTSTART;TZID=America/North_Dakota/Center:20260110T110000
DTEND;TZID=America/North_Dakota/Center:20260110T120000
DTSTAMP:20260425T081340
CREATED:20251024T161346Z
LAST-MODIFIED:20251024T161346Z
UID:10002810-1768042800-1768046400@www.redbudrvresort.com
SUMMARY:Craft Time
DESCRIPTION:Join us for craft time at 11 AM.  This is a free\, family friendly event!
URL:https://www.redbudrvresort.com/event/craft-time-9/2026-01-10/
END:VEVENT
END:VCALENDAR